Workbook

Sheet Hoja1
A2: FAMILIA | B2: Descripció | C2: Presentació Administració | D2: Presentació màxima | E2: Preu màxim | F2: Consum previst Ajuntament | G2: Consum previst AMSA | H2: Consum previst PUMSA | I2: Consum previst Tecnocampus | J2: Consum total previst | K2: Preu Ofert | L2: Presentació licitador | M2: Equivalència preu ofertat | N2: Total valorat | O2: Referència ambiental | P2: Qualitat ambiental
A3: AGENDA | B3: Agenda català pàgina per dia | C3: 1 | D3: 1 | E3: 1.25 | F3: 81 | G3: 3 | H3: 6 | I3: 1 | J3: =SUM(Hoja1!$F3:$I3) -> 91 | L3: 1 | M3: =+Hoja1!$K3/Hoja1!$L3*Hoja1!$C3 -> 0 | N3: =+Hoja1!$M3*Hoja1!$J3 -> 0
A4: AGENDA | B4: Agenda català setmana vista | C4: 1 | D4: 1 | E4: 1.25 | F4: 47 | G4: 2 | H4: 12 | I4: 4 | J4: =SUM(Hoja1!$F4:$I4) -> 65 | L4: 1 | M4: =+Hoja1!$K4/Hoja1!$L4*Hoja1!$C4 -> 0 | N4: =+Hoja1!$M4*Hoja1!$J4 -> 0
A5: ARXIVADORS | B5: Arxivador A4 llom 4cm 2 anelles (qualsevol color) | C5: 1 | D5: 1 | E5: 1.25 | F5: 15 | H5: 20 | I5: 2 | J5: =SUM(Hoja1!$F5:$I5) -> 37 | L5: 1 | M5: =+Hoja1!$K5/Hoja1!$L5*Hoja1!$C5 -> 0 | N5: =+Hoja1!$M5*Hoja1!$J5 -> 0
A6: ARXIVADORS | B6: Arxivador A4 llom 8 cm 2 anelles (qualsevol color) | C6: 1 | D6: 1 | E6: 1.3 | F6: 20 | G6: 20 | H6: 80 | I6: 53 | J6: =SUM(Hoja1!$F6:$I6) -> 173 | L6: 1 | M6: =+Hoja1!$K6/Hoja1!$L6*Hoja1!$C6 -> 0 | N6: =+Hoja1!$M6*Hoja1!$J6 -> 0
A7: ARXIVADORS | B7: Arxivador jaspiat A4 2 anelles llom 75mm | C7: 1 | D7: 1 | E7: 1.95 | F7: 72 | I7: 10 | J7: =SUM(Hoja1!$F7:$I7) -> 82 | L7: 1 | M7: =+Hoja1!$K7/Hoja1!$L7*Hoja1!$C7 -> 0 | N7: =+Hoja1!$M7*Hoja1!$J7 -> 0
A8: ARXIVADORS | B8: Arxivador jaspiat foli 2 anelles llom 70mm | C8: 1 | D8: 1 | E8: 2.05 | F8: 127 | I8: 9 | J8: =SUM(Hoja1!$F8:$I8) -> 136 | L8: 1 | M8: =+Hoja1!$K8/Hoja1!$L8*Hoja1!$C8 -> 0 | N8: =+Hoja1!$M8*Hoja1!$J8 -> 0
A9: ARXIVADORS | B9: Arxivador jaspiat foli 2 anelles llom 75mm | C9: 1 | D9: 1 | E9: 2.15 | F9: 22 | G9: 25 | J9: =SUM(Hoja1!$F9:$I9) -> 47 | L9: 1 | M9: =+Hoja1!$K9/Hoja1!$L9*Hoja1!$C9 -> 0 | N9: =+Hoja1!$M9*Hoja1!$J9 -> 0
A10: ARXIVADORS | B10: Arxivador personalitzable A4 2 anelles llom 40mm | C10: 1 | D10: 1 | E10: 1.7 | F10: 9 | G10: 6 | J10: =SUM(Hoja1!$F10:$I10) -> 15 | L10: 1 | M10: =+Hoja1!$K10/Hoja1!$L10*Hoja1!$C10 -> 0 | N10: =+Hoja1!$M10*Hoja1!$J10 -> 0
A11: ARXIVADORS | B11: Arxivador personalitzable A4 4 anelles llom 40mm | C11: 1 | D11: 1 | E11: 2.15 | F11: 6 | G11: 5 | H11: 2 | J11: =SUM(Hoja1!$F11:$I11) -> 13 | L11: 1 | M11: =+Hoja1!$K11/Hoja1!$L11*Hoja1!$C11 -> 0 | N11: =+Hoja1!$M11*Hoja1!$J11 -> 0
A12: ARXIVADORS | B12: Caixes arxiu definitiu 35*25cm llom 10cm | C12: 25 | D12: 50 | E12: 14.85 | F12: 60 | I12: 8 | J12: =SUM(Hoja1!$F12:$I12) -> 68 | L12: 25 | M12: =+Hoja1!$K12/Hoja1!$L12*Hoja1!$C12 -> 0 | N12: =+Hoja1!$M38*Hoja1!$J38 -> 0
A13: ARXIVADORS | B13: Capsa de cartró per arxivador foli jaspiat llom 82 cm | C13: 1 | D13: 1 | E13: 0.5 | F13: 67 | J13: =SUM(Hoja1!$F13:$I13) -> 67 | L13: 1 | M13: =+Hoja1!$K13/Hoja1!$L13*Hoja1!$C13 -> 0 | N13: =+Hoja1!$M44*Hoja1!$J44 -> 0
A14: CALCULADORA | B14: Calculadora 12 dígits | C14: 1 | D14: 1 | E14: 5.75 | F14: 32 | H14: 6 | I14: 6 | J14: =SUM(Hoja1!$F14:$I14) -> 44 | L14: 1 | M14: =+Hoja1!$K14/Hoja1!$L14*Hoja1!$C14 -> 0 | N14: =+Hoja1!$M42*Hoja1!$J42 -> 0
A15: CALCULADORA | B15: Calculadora científica 10 dígits | C15: 1 | D15: 1 | E15: 15.95 | F15: 10 | G15: 1 | J15: =SUM(Hoja1!$F15:$I15) -> 11 | L15: 1 | M15: =+Hoja1!$K15/Hoja1!$L15*Hoja1!$C15 -> 0 | N15: =+Hoja1!$M43*Hoja1!$J43 -> 0
A16: CARP. PROJECTES | B16: Carpeta de projectes A4 llom 40mm | C16: 1 | D16: 1 | E16: 1.95 | F16: 15 | J16: =SUM(Hoja1!$F16:$I16) -> 15 | L16: 1 | M16: =+Hoja1!$K16/Hoja1!$L16*Hoja1!$C16 -> 0 | N16: =+Hoja1!$M54*Hoja1!$J54 -> 0
A17: CARP. PROJECTES | B17: Carpeta de projectes A4 llom 60mm | C17: 1 | D17: 1 | E17: 2.25 | F17: 5 | J17: =SUM(Hoja1!$F17:$I17) -> 5 | L17: 1 | M17: =+Hoja1!$K17/Hoja1!$L17*Hoja1!$C17 -> 0 | N17: =+Hoja1!$M55*Hoja1!$J55 -> 0
A18: CARP. PROJECTES | B18: Carpeta de projectes A4 polipropilè llom 40mm (transparent) | C18: 1 | D18: 1 | E18: 7.2 | F18: 6 | J18: =SUM(Hoja1!$F18:$I18) -> 6 | L18: 1 | M18: =+Hoja1!$K18/Hoja1!$L18*Hoja1!$C18 -> 0 | N18: =+Hoja1!$M56*Hoja1!$J56 -> 0
A19: CARP. PROJECTES | B19: Carpeta de projectes foli llom 30mm | C19: 1 | D19: 1 | E19: 1.35 | F19: 11 | H19: 20 | J19: =SUM(Hoja1!$F19:$I19) -> 31 | L19: 1 | M19: =+Hoja1!$K19/Hoja1!$L19*Hoja1!$C19 -> 0 | N19: =+Hoja1!$M57*Hoja1!$J57 -> 0
A20: CARP. PROJECTES | B20: Carpeta de projectes foli llom 50mm | C20: 1 | D20: 1 | E20: 1.45 | F20: 15 | H20: 30 | J20: =SUM(Hoja1!$F20:$I20) -> 45 | L20: 1 | M20: =+Hoja1!$K20/Hoja1!$L20*Hoja1!$C20 -> 0 | N20: =+Hoja1!$M58*Hoja1!$J58 -> 0
A21: CARP. PROJECTES | B21: Carpeta de projectes foli llom 70mm | C21: 1 | D21: 1 | E21: 1.6 | F21: 27 | G21: 10 | H21: 10 | J21: =SUM(Hoja1!$F21:$I21) -> 47 | L21: 1 | M21: =+Hoja1!$K21/Hoja1!$L21*Hoja1!$C21 -> 0 | N21: =+Hoja1!$M59*Hoja1!$J59 -> 0
A22: CARP. PROJECTES | B22: Carpeta de projectes foli llom 90mm | C22: 1 | D22: 1 | E22: 1.8 | F22: 3 | I22: 4 | J22: =SUM(Hoja1!$F22:$I22) -> 7 | L22: 1 | M22: =+Hoja1!$K22/Hoja1!$L22*Hoja1!$C22 -> 0 | N22: =+Hoja1!$M60*Hoja1!$J60 -> 0
A23: CARPETA | B23: Carpetes de gomes 3 solapes polipropilè (qualsevol color) | C23: 1 | D23: 1 | E23: 0.65 | F23: 115 | J23: =SUM(Hoja1!$F23:$I23) -> 115 | L23: 1 | M23: =+Hoja1!$K23/Hoja1!$L23*Hoja1!$C23 -> 0 | N23: =+Hoja1!$M61*Hoja1!$J61 -> 0
A24: CARPETA | B24: Carpetes de gomes A4 3 solapes 355gr (qualsevol color) | C24: 1 | D24: 1 | E24: 0.5 | F24: 760 | I24: 11 | J24: =SUM(Hoja1!$F24:$I24) -> 771 | L24: 1 | M24: =+Hoja1!$K24/Hoja1!$L24*Hoja1!$C24 -> 0 | N24: =+Hoja1!$M62*Hoja1!$J62 -> 0
A25: CARPETA | B25: Carpetes de gomes Foli 3 solapes PVC (qualsevol color) | C25: 1 | D25: 1 | E25: 5.25 | F25: 10 | G25: 5 | J25: =SUM(Hoja1!$F25:$I25) -> 15 | L25: 1 | M25: =+Hoja1!$K25/Hoja1!$L25*Hoja1!$C25 -> 0 | N25: =+Hoja1!$M63*Hoja1!$J63 -> 0
A26: CARPETA | B26: Portabloc amb pinça A4 PVC | C26: 1 | D26: 1 | E26: 0.9 | F26: 50 | H26: 10 | J26: =SUM(Hoja1!$F26:$I26) -> 60 | L26: 1 | M26: =+Hoja1!$K26/Hoja1!$L26*Hoja1!$C26 -> 0 | N26: =+Hoja1!$M208*Hoja1!$J208 -> 0
A27: CARPETA | B27: Portabloc amb tapa i pinça | C27: 1 | D27: 1 | E27: 2.7 | F27: 28 | G27: 6 | H27: 10 | I27: 5 | J27: =SUM(Hoja1!$F27:$I27) -> 49 | L27: 1 | M27: =+Hoja1!$K27/Hoja1!$L27*Hoja1!$C27 -> 0 | N27: =+Hoja1!$M209*Hoja1!$J209 -> 0
A28: CARTOLINA | B28: Cartolina A4 160g (qualsevol color) | C28: 250 | D28: 250 | E28: 7.37 | F28: 62 | H28: 6 | J28: =SUM(Hoja1!$F28:$I28) -> 68 | L28: 250 | M28: =+Hoja1!$K28/Hoja1!$L28*Hoja1!$C28 -> 0 | N28: =+Hoja1!$M64*Hoja1!$J64 -> 0
A29: CARTOLINA | B29: Cartolina 50*65 185gr (qualsevol color) | C29: 25 | D29: 25 | E29: 6.24 | F29: 15 | I29: 5 | J29: =SUM(Hoja1!$F29:$I29) -> 20 | L29: 25 | M29: =+Hoja1!$K29/Hoja1!$L29*Hoja1!$C29 -> 0 | N29: =+Hoja1!$M65*Hoja1!$J65 -> 0
A30: CARTOLINA | B30: Cartolina A3 185 gr (qualsevol color) | C30: 50 | D30: 50 | E30: 8.8 | F30: 40 | J30: =SUM(Hoja1!$F30:$I30) -> 40 | L30: 50 | M30: =+Hoja1!$K30/Hoja1!$L30*Hoja1!$C30 -> 0 | N30: =+Hoja1!$M66*Hoja1!$J66 -> 0
A31: CARTOLINA | B31: Cartolina A4 185 gr (qualsevol color) | C31: 50 | D31: 50 | E31: 3.07 | F31: 139 | J31: =SUM(Hoja1!$F31:$I31) -> 139 | L31: 50 | M31: =+Hoja1!$K31/Hoja1!$L31*Hoja1!$C31 -> 0 | N31: =+Hoja1!$M67*Hoja1!$J67 -> 0
A32: CELO | B32: Celo 19mm*33m | C32: 1 | D32: 10 | E32: 0.15 | F32: 736 | J32: =SUM(Hoja1!$F32:$I32) -> 736 | L32: 1 | M32: =+Hoja1!$K32/Hoja1!$L32*Hoja1!$C32 -> 0 | N32: =+Hoja1!$M68*Hoja1!$J68 -> 0
A33: CELO | B33: Celo 19mm*66m | C33: 1 | D33: 10 | E33: 1.9 | F33: 16 | H33: 20 | J33: =SUM(Hoja1!$F33:$I33) -> 36 | L33: 1 | M33: =+Hoja1!$K33/Hoja1!$L33*Hoja1!$C33 -> 0 | N33: =+Hoja1!$M69*Hoja1!$J69 -> 0
A34: CELO | B34: Cinta adhesiva doble cara 12mm*7,5m | C34: 1 | D34: 10 | E34: 2.7 | F34: 27 | G34: 2 | J34: =SUM(Hoja1!$F34:$I34) -> 29 | L34: 1 | M34: =+Hoja1!$K34/Hoja1!$L34*Hoja1!$C34 -> 0 | N34: =+Hoja1!$M71*Hoja1!$J71 -> 0
A35: CELO | B35: Cinta adhesiva doble cara 25mm*50m | C35: 1 | D35: 10 | E35: 7.6 | F35: 17 | I35: 5 | J35: =SUM(Hoja1!$F35:$I35) -> 22 | L35: 1 | M35: =+Hoja1!$K35/Hoja1!$L35*Hoja1!$C35 -> 0 | N35: =+Hoja1!$M72*Hoja1!$J72 -> 0
A36: CELO | B36: Porta-rotlles per cinta adhesiva de 33mm | C36: 1 | D36: 1 | E36: 5.8 | F36: 91 | H36: 1 | I36: 6 | J36: =SUM(Hoja1!$F36:$I36) -> 98 | L36: 1 | M36: =+Hoja1!$K36/Hoja1!$L36*Hoja1!$C36 -> 0 | N36: =+Hoja1!$M207*Hoja1!$J207 -> 0
A37: CELO | B37: SCOTCH "magic tape” cinta 19*33mm o equivalent | C37: 1 | D37: 1 | E37: 2 | F37: 12 | G37: 2 | I37: 16 | J37: =SUM(Hoja1!$F37:$I37) -> 30 | L37: 1 | M37: =+Hoja1!$K37/Hoja1!$L37*Hoja1!$C37 -> 0 | N37: =+Hoja1!$M252*Hoja1!$J252 -> 0
A38: CELO | B38: SCOTCH "magic” cinta 19*33mm o equivalent | C38: 1 | D38: 24 | E38: 1.9 | F38: 238 | J38: =SUM(Hoja1!$F38:$I38) -> 238 | L38: 1 | M38: =+Hoja1!$K38/Hoja1!$L38*Hoja1!$C38 -> 0 | N38: =+Hoja1!$M253*Hoja1!$J253 -> 0
A39: CELO | B39: SCOTCH "removable” cinta 19*33mm o equivalent | C39: 1 | D39: 1 | E39: 2.31 | F39: 20 | I39: 20 | J39: =SUM(Hoja1!$F39:$I39) -> 40 | L39: 1 | M39: =+Hoja1!$K39/Hoja1!$L39*Hoja1!$C39 -> 0 | N39: =+Hoja1!$M254*Hoja1!$J254 -> 0
A40: CLIPS | B40: Clips metàl·lics niquelats 25 mm n.1 | C40: 100 | D40: 150 | E40: 0.35 | F40: 70 | G40: 10 | I40: 27 | J40: =SUM(Hoja1!$F40:$I40) -> 107 | L40: 100 | M40: =+Hoja1!$K40/Hoja1!$L40*Hoja1!$C40 -> 0 | N40: =+Hoja1!$M82*Hoja1!$J82 -> 0
A41: CLIPS | B41: Clips metàl·lics niquelats 32 mm n.2 | C41: 100 | D41: 150 | E41: 0.45 | F41: 163 | G41: 10 | H41: 6 | I41: 10 | J41: =SUM(Hoja1!$F41:$I41) -> 189 | L41: 100 | M41: =+Hoja1!$K41/Hoja1!$L41*Hoja1!$C41 -> 0 | N41: =+Hoja1!$M83*Hoja1!$J83 -> 0
A42: CLIPS | B42: Clips metàl·lics niquelats 40 mm n.3 | C42: 100 | D42: 150 | E42: 0.75 | F42: 141 | G42: 10 | H42: 6 | J42: =SUM(Hoja1!$F42:$I42) -> 157 | L42: 100 | M42: =+Hoja1!$K42/Hoja1!$L42*Hoja1!$C42 -> 0 | N42: =+Hoja1!$M84*Hoja1!$J84 -> 0
A43: CLIPS | B43: Clips metàl·lics niquelats 50 mm n.4 | C43: 80 | D43: 100 | E43: 1.05 | F43: 68 | H43: 6 | J43: =SUM(Hoja1!$F43:$I43) -> 74 | L43: 80 | M43: =+Hoja1!$K43/Hoja1!$L43*Hoja1!$C43 -> 0 | N43: =+Hoja1!$M85*Hoja1!$J85 -> 0
A44: CLIPS | B44: Clips papallona 40mm | C44: 50 | D44: 75 | E44: 2.5 | F44: 7 | G44: 1 | H44: 1 | J44: =SUM(Hoja1!$F44:$I44) -> 9 | L44: 50 | M44: =+Hoja1!$K44/Hoja1!$L44*Hoja1!$C44 -> 0 | N44: =+Hoja1!$M86*Hoja1!$J86 -> 0
A45: CLIPS | B45: Clips papallona 60mm | C45: 25 | D45: 50 | E45: 1.35 | F45: 7 | G45: 1 | H45: 1 | J45: =SUM(Hoja1!$F45:$I45) -> 9 | L45: 25 | M45: =+Hoja1!$K45/Hoja1!$L45*Hoja1!$C45 -> 0 | N45: =+Hoja1!$M87*Hoja1!$J87 -> 0
A46: CLIPS | B46: Pinces metàl·liques 19mm | C46: 12 | D46: 24 | E46: 0.85 | F46: 20 | H46: 1 | J46: =SUM(Hoja1!$F46:$I46) -> 21 | L46: 12 | M46: =+Hoja1!$K46/Hoja1!$L46*Hoja1!$C46 -> 0 | N46: =+Hoja1!$M201*Hoja1!$J201 -> 0
A47: CLIPS | B47: Pinces metàl·liques 25mm | C47: 12 | D47: 24 | E47: 1 | F47: 21 | H47: 1 | J47: =SUM(Hoja1!$F47:$I47) -> 22 | L47: 12 | M47: =+Hoja1!$K47/Hoja1!$L47*Hoja1!$C47 -> 0 | N47: =+Hoja1!$M202*Hoja1!$J202 -> 0
A48: CLIPS | B48: Pinces metàl·liques 32mm | C48: 12 | D48: 24 | E48: 1.95 | F48: 24 | G48: 2 | H48: 1 | I48: 24 | J48: =SUM(Hoja1!$F48:$I48) -> 51 | L48: 12 | M48: =+Hoja1!$K48/Hoja1!$L48*Hoja1!$C48 -> 0 | N48: =+Hoja1!$M203*Hoja1!$J203 -> 0
A49: CLIPS | B49: Pinces metàl·liques 50mm | C49: 12 | D49: 24 | E49: 2.1 | F49: 11 | J49: =SUM(Hoja1!$F49:$I49) -> 11 | L49: 12 | M49: =+Hoja1!$K49/Hoja1!$L49*Hoja1!$C49 -> 0 | N49: =+Hoja1!$M204*Hoja1!$J204 -> 0
A50: CLIPS | B50: Porta clips amb iman | C50: 1 | D50: 1 | E50: 0.8 | F50: 16 | G50: 2 | J50: =SUM(Hoja1!$F50:$I50) -> 18 | L50: 1 | M50: =+Hoja1!$K50/Hoja1!$L50*Hoja1!$C50 -> 0 | N50: =+Hoja1!$M206*Hoja1!$J206 -> 0
A51: COLA | B51: Barra cola no tòxic | C51: 20 | D51: 20 | E51: 0.2 | F51: 116 | G51: 10 | I51: 9 | J51: =SUM(Hoja1!$F51:$I51) -> 135 | L51: 20 | M51: =+Hoja1!$K51/Hoja1!$L51*Hoja1!$C51 -> 0 | N51: =+Hoja1!$M13*Hoja1!$J13 -> 0
A52: COLA | B52: Barra cola no tòxic | C52: 40 | D52: 40 | E52: 0.99 | F52: 279 | H52: 10 | I52: 14 | J52: =SUM(Hoja1!$F52:$I52) -> 303 | L52: 40 | M52: =+Hoja1!$K52/Hoja1!$L52*Hoja1!$C52 -> 0 | N52: =+Hoja1!$M14*Hoja1!$J14 -> 0
A53: COLA | B53: Cola blanca | C53: 1000 | D53: 1000 | E53: 5.05 | F53: 3 | H53: 2 | J53: =SUM(Hoja1!$F53:$I53) -> 5 | L53: 1000 | M53: =+Hoja1!$K53/Hoja1!$L53*Hoja1!$C53 -> 0 | N53: =+Hoja1!$M88*Hoja1!$J88 -> 0
A54: COLA | B54: Cola blanca | C54: 100 | D54: 100 | E54: 2.32 | F54: 37 | H54: 3 | I54: 3 | J54: =SUM(Hoja1!$F54:$I54) -> 43 | L54: 100 | M54: =+Hoja1!$K54/Hoja1!$L54*Hoja1!$C54 -> 0 | N54: =+Hoja1!$M89*Hoja1!$J89 -> 0
A55: COLA | B55: Cola spray 400ml SCOTCH 3M spray Mount o equivalent | C55: 1 | D55: 1 | E55: 11.81 | F55: 1 | G55: 1 | H55: 2 | J55: =SUM(Hoja1!$F55:$I55) -> 4 | L55: 1 | M55: =+Hoja1!$K55/Hoja1!$L55*Hoja1!$C55 -> 0 | N55: =+Hoja1!$M90*Hoja1!$J90 -> 0
A56: COLA | B56: Cola super ràpid | C56: 5 | D56: 5 | E56: 7.8 | F56: 8 | I56: 4 | J56: =SUM(Hoja1!$F56:$I56) -> 12 | L56: 5 | M56: =+Hoja1!$K56/Hoja1!$L56*Hoja1!$C56 -> 0 | N56: =+Hoja1!$M91*Hoja1!$J91 -> 0
A57: CORRECTOR | B57: Cinta correctora 12m*4,2mm | C57: 1 | D57: 1 | E57: 2.09 | F57: 27 | G57: 20 | H57: 30 | I57: 22 | J57: =SUM(Hoja1!$F57:$I57) -> 99 | L57: 1 | M57: =+Hoja1!$K57/Hoja1!$L57*Hoja1!$C57 -> 0 | N57: =+Hoja1!$M73*Hoja1!$J73 -> 0
A58: CORRECTOR | B58: Cinta correctora 8,5m*4,2mm | C58: 1 | D58: 1 | E58: 0.99 | F58: 590 | J58: =SUM(Hoja1!$F58:$I58) -> 590 | L58: 1 | M58: =+Hoja1!$K58/Hoja1!$L58*Hoja1!$C58 -> 0 | N58: =+Hoja1!$M74*Hoja1!$J74 -> 0
A59: CORRECTOR | B59: Corrector líquid | C59: 20 | D59: 20 | E59: 0.73 | F59: 6 | H59: 2 | I59: 14 | J59: =SUM(Hoja1!$F59:$I59) -> 22 | L59: 20 | M59: =+Hoja1!$K59/Hoja1!$L59*Hoja1!$C59 -> 0 | N59: =+Hoja1!$M93*Hoja1!$J93 -> 0
A60: CORRECTOR | B60: Llapis corrector | C60: 8 | D60: 8 | E60: 3.06 | F60: 19 | I60: 3 | J60: =SUM(Hoja1!$F60:$I60) -> 22 | L60: 8 | M60: =+Hoja1!$K60/Hoja1!$L60*Hoja1!$C60 -> 0 | N60: =+Hoja1!$M157*Hoja1!$J157 -> 0
A61: DYMO | B61: Cinta DYMO D1 12mm*7m cinta blanca impressió negra o equivalent | C61: 1 | D61: 1 | E61: 16.72 | F61: 9 | H61: 10 | I61: 2 | J61: =SUM(Hoja1!$F61:$I61) -> 21 | L61: 1 | M61: =+Hoja1!$K61/Hoja1!$L61*Hoja1!$C61 -> 0 | N61: =+Hoja1!$M75*Hoja1!$J75 -> 0
A62: DYMO | B62: Cinta DYMO D1 12mm*7m cinta verda impressió negra o equivalent | C62: 1 | D62: 1 | E62: 16.72 | G62: 3 | I62: 4 | J62: =SUM(Hoja1!$F62:$I62) -> 7 | L62: 1 | M62: =+Hoja1!$K62/Hoja1!$L62*Hoja1!$C62 -> 0 | N62: =+Hoja1!$M76*Hoja1!$J76 -> 0
A63: DYMO | B63: Cinta DYMO PLÀSTIC 12mm*4m impressió negra fons blanc o equivalent | C63: 1 | D63: 1 | E63: 6.49 | F63: 39 | I63: 9 | J63: =SUM(Hoja1!$F63:$I63) -> 48 | L63: 1 | M63: =+Hoja1!$K63/Hoja1!$L63*Hoja1!$C63 -> 0 | N63: =+Hoja1!$M77*Hoja1!$J77 -> 0
A64: EMBALATGE | B64: Caixes cartró 500*300*300mm | C64: 20 | D64: 20 | E64: 15.68 | F64: 41 | J64: =SUM(Hoja1!$F64:$I64) -> 41 | L64: 20 | M64: =+Hoja1!$K64/Hoja1!$L64*Hoja1!$C64 -> 0 | N64: =+Hoja1!$M39*Hoja1!$J39 -> 0
A65: EMBALATGE | B65: Caixes cartró 700*400*400mm | C65: 10 | D65: 10 | E65: 20.12 | F65: 1 | J65: =SUM(Hoja1!$F65:$I65) -> 1 | L65: 10 | M65: =+Hoja1!$K65/Hoja1!$L65*Hoja1!$C65 -> 0 | N65: =+Hoja1!$M40*Hoja1!$J40 -> 0
A66: EMBALATGE | B66: Caixes cartró 800*600*600mm | C66: 5 | D66: 5 | E66: 24.62 | F66: 2 | J66: =SUM(Hoja1!$F66:$I66) -> 2 | L66: 5 | M66: =+Hoja1!$K66/Hoja1!$L66*Hoja1!$C66 -> 0 | N66: =+Hoja1!$M41*Hoja1!$J41 -> 0
A67: EMBALATGE | B67: Cinta adhesiva 50mm*66m (marró o transparent) | C67: 1 | D67: 6 | E67: 0.95 | F67: 192 | G67: 10 | I67: 5 | J67: =SUM(Hoja1!$F67:$I67) -> 207 | L67: 1 | M67: =+Hoja1!$K67/Hoja1!$L67*Hoja1!$C67 -> 0 | N67: =+Hoja1!$M70*Hoja1!$J70 -> 0
A68: EMBALATGE | B68: Cinta embalatge 50mm*66m transparent | C68: 1 | D68: 6 | E68: 1.35 | F68: 60 | H68: 4 | J68: =SUM(Hoja1!$F68:$I68) -> 64 | L68: 1 | M68: =+Hoja1!$K68/Hoja1!$L68*Hoja1!$C68 -> 0 | N68: =+Hoja1!$M78*Hoja1!$J78 -> 0
A69: EMBALATGE | B69: Rotllo cartró ondulat 1500mm*50m 250gr/m2 | C69: 1 | D69: 1 | E69: 41.95 | F69: 11 | J69: =SUM(Hoja1!$F69:$I69) -> 11 | L69: 1 | M69: =+Hoja1!$K69/Hoja1!$L69*Hoja1!$C69 -> 0 | N69: =+Hoja1!$M242*Hoja1!$J242 -> 0
A70: EMBALATGE | B70: Rotllo paper embalatge 1*50m | C70: 1 | D70: 1 | E70: 9.36 | F70: 3 | J70: =SUM(Hoja1!$F70:$I70) -> 3 | L70: 1 | M70: =+Hoja1!$K70/Hoja1!$L70*Hoja1!$C70 -> 0 | N70: =+Hoja1!$M246*Hoja1!$J246 -> 0
A71: EMBALATGE | B71: Rotllo paper embalatge 1100mm*300m 80g/m2 | C71: 1 | D71: 1 | E71: 31.06 | F71: 3 | J71: =SUM(Hoja1!$F71:$I71) -> 3 | L71: 1 | M71: =+Hoja1!$K71/Hoja1!$L71*Hoja1!$C71 -> 0 | N71: =+Hoja1!$M247*Hoja1!$J247 -> 0
A72: EMBALATGE | B72: Rotllo paper kraft 1000mm*10m 70g/m2 | C72: 1 | D72: 1 | E72: 4.15 | F72: 2 | I72: 60 | J72: =SUM(Hoja1!$F72:$I72) -> 62 | L72: 1 | M72: =+Hoja1!$K72/Hoja1!$L72*Hoja1!$C72 -> 0 | N72: =+Hoja1!$M248*Hoja1!$J248 -> 0
A73: EMBALATGE | B73: Rotllo paper kraft 1000mm*300m 80g/m2 | C73: 1 | D73: 1 | E73: 67.01 | F73: 2 | J73: =SUM(Hoja1!$F73:$I73) -> 2 | L73: 1 | M73: =+Hoja1!$K73/Hoja1!$L73*Hoja1!$C73 -> 0 | N73: =+Hoja1!$M249*Hoja1!$J249 -> 0
A74: ENQUADERNACIÓ | B74: Clips encuadernació de plàstic (90*40) | C74: 100 | D74: 100 | E74: 14.53 | F74: 10 | J74: =SUM(Hoja1!$F74:$I74) -> 10 | L74: 100 | M74: =+Hoja1!$K74/Hoja1!$L74*Hoja1!$C74 -> 0 | N74: =+Hoja1!$M81*Hoja1!$J81 -> 0
A75: ENQUADERNACIÓ | B75: Espirals metàl·liques 10mm | C75: 100 | D75: 100 | E75: 7.92 | F75: 9 | G75: 2 | J75: =SUM(Hoja1!$F75:$I75) -> 11 | L75: 100 | M75: =+Hoja1!$K75/Hoja1!$L75*Hoja1!$C75 -> 0 | N75: =+Hoja1!$M101*Hoja1!$J101 -> 0
A76: ENQUADERNACIÓ | B76: Espirals metàl·liques 12mm | C76: 100 | D76: 100 | E76: 9.16 | F76: 2 | G76: 2 | J76: =SUM(Hoja1!$F76:$I76) -> 4 | L76: 100 | M76: =+Hoja1!$K76/Hoja1!$L76*Hoja1!$C76 -> 0 | N76: =+Hoja1!$M102*Hoja1!$J102 -> 0
A77: ENQUADERNACIÓ | B77: Espirals metàl·liques 16mm | C77: 100 | D77: 100 | E77: 14.14 | F77: 4 | J77: =SUM(Hoja1!$F77:$I77) -> 4 | L77: 100 | M77: =+Hoja1!$K77/Hoja1!$L77*Hoja1!$C77 -> 0 | N77: =+Hoja1!$M103*Hoja1!$J103 -> 0
A78: ENQUADERNACIÓ | B78: Espirals metàl·liques 20mm | C78: 100 | D78: 100 | E78: 18.37 | F78: 2 | J78: =SUM(Hoja1!$F78:$I78) -> 2 | L78: 100 | M78: =+Hoja1!$K78/Hoja1!$L78*Hoja1!$C78 -> 0 | N78: =+Hoja1!$M104*Hoja1!$J104 -> 0
A79: ENQUADERNACIÓ | B79: Espirals metàl·liques 32mm | C79: 50 | D79: 50 | E79: 20.08 | F79: 2 | J79: =SUM(Hoja1!$F79:$I79) -> 2 | L79: 50 | M79: =+Hoja1!$K79/Hoja1!$L79*Hoja1!$C79 -> 0 | N79: =+Hoja1!$M105*Hoja1!$J105 -> 0
A80: ENQUADERNACIÓ | B80: Espirals metàl·liques 36mm | C80: 50 | D80: 50 | E80: 22.28 | F80: 1 | J80: =SUM(Hoja1!$F80:$I80) -> 1 | L80: 50 | M80: =+Hoja1!$K80/Hoja1!$L80*Hoja1!$C80 -> 0 | N80: =+Hoja1!$M106*Hoja1!$J106 -> 0
A81: ENQUADERNACIÓ | B81: Espirals metàl·liques 8mm | C81: 100 | D81: 100 | E81: 6.93 | F81: 10 | G81: 2 | J81: =SUM(Hoja1!$F81:$I81) -> 12 | L81: 100 | M81: =+Hoja1!$K81/Hoja1!$L81*Hoja1!$C81 -> 0 | N81: =+Hoja1!$M107*Hoja1!$J107 -> 0
A82: ENQUADERNACIÓ | B82: Tapes enquadernació A4 180mc transparent | C82: 100 | D82: 100 | E82: 8.53 | F82: 24 | G82: 3 | H82: 10 | J82: =SUM(Hoja1!$F82:$I82) -> 37 | L82: 100 | M82: =+Hoja1!$K82/Hoja1!$L82*Hoja1!$C82 -> 0 | N82: =+Hoja1!$M266*Hoja1!$J266 -> 0
A83: ENQUADERNACIÓ | B83: Tapes enquadernació A4 280mc (negres) | C83: 100 | D83: 100 | E83: 10.29 | F83: 26 | H83: 10 | J83: =SUM(Hoja1!$F83:$I83) -> 36 | L83: 100 | M83: =+Hoja1!$K83/Hoja1!$L83*Hoja1!$C83 -> 0 | N83: =+Hoja1!$M267*Hoja1!$J267 -> 0
A84: ESCRIPTURA | B84: Bolígraf amb peana | C84: 1 | D84: 1 | E84: 6.33 | F84: 5 | J84: =SUM(Hoja1!$F84:$I84) -> 5 | L84: 1 | M84: =+Hoja1!$K84/Hoja1!$L84*Hoja1!$C84 -> 0 | N84: =+Hoja1!$M21*Hoja1!$J21 -> 0
A85: ESCRIPTURA | B85: Boligraf retractil gel punta 1mm (blau, negre o vermell) | C85: 1 | D85: 12 | E85: 0.24 | F85: 702 | G85: 100 | H85: 100 | I85: 67 | J85: =SUM(Hoja1!$F85:$I85) -> 969 | L85: 1 | M85: =+Hoja1!$K85/Hoja1!$L85*Hoja1!$C85 -> 0 | N85: =+Hoja1!$M22*Hoja1!$J22 -> 0
A86: ESCRIPTURA | B86: Boligraf retractil oli PILOT punta 1mm (blau, negre o vermell) o equivalent | C86: 1 | D86: 12 | E86: 1.12 | F86: 49 | G86: 100 | H86: 10 | J86: =SUM(Hoja1!$F86:$I86) -> 159 | L86: 1 | M86: =+Hoja1!$K86/Hoja1!$L86*Hoja1!$C86 -> 0 | N86: =+Hoja1!$M23*Hoja1!$J23 -> 0
A87: ESCRIPTURA | B87: Bolígraf retractil punta 1mm | C87: 1 | D87: 12 | E87: 0.62 | F87: 10 | J87: =SUM(Hoja1!$F87:$I87) -> 10 | L87: 1 | M87: =+Hoja1!$K87/Hoja1!$L87*Hoja1!$C87 -> 0 | N87: =+Hoja1!$M24*Hoja1!$J24 -> 0
A88: ESCRIPTURA | B88: Bolígrafs BIC punta 1mm (blau, negre, vermell o verd) o equivalent | C88: 1 | D88: 12 | E88: 0.19 | F88: 800 | G88: 100 | H88: 200 | I88: 300 | J88: =SUM(Hoja1!$F88:$I88) -> 1400 | L88: 1 | M88: =+Hoja1!$K88/Hoja1!$L88*Hoja1!$C88 -> 0 | N88: =+Hoja1!$M25*Hoja1!$J25 -> 0
A89: ESCRIPTURA | B89: Bolígrafs punta 1mm (blau, negre o vermell) | C89: 1 | D89: 12 | E89: 0.03 | F89: 6398 | I89: 20 | J89: =SUM(Hoja1!$F89:$I89) -> 6418 | L89: 1 | M89: =+Hoja1!$K89/Hoja1!$L89*Hoja1!$C89 -> 0 | N89: =+Hoja1!$M26*Hoja1!$J26 -> 0
A90: ESCRIPTURA | B90: Cubilet porta llapis/bolígrafs | C90: 1 | D90: 1 | E90: 0.66 | F90: 32 | G90: 5 | H90: 8 | I90: 5 | J90: =SUM(Hoja1!$F90:$I90) -> 50 | L90: 1 | M90: =+Hoja1!$K90/Hoja1!$L90*Hoja1!$C90 -> 0 | N90: =+Hoja1!$M95*Hoja1!$J95 -> 0
A91: ESCRIPTURA | B91: Goma esborrar | C91: 1 | D91: 1 | E91: 0.12 | F91: 509 | G91: 20 | H91: 20 | J91: =SUM(Hoja1!$F91:$I91) -> 549 | L91: 1 | M91: =+Hoja1!$K91/Hoja1!$L91*Hoja1!$C91 -> 0 | N91: =+Hoja1!$M139*Hoja1!$J139 -> 0
A92: ESCRIPTURA | B92: Llapis naturals | C92: 1 | D92: 1 | E92: 0.05 | F92: 1560 | G92: 25 | I92: 25 | J92: =SUM(Hoja1!$F92:$I92) -> 1610 | L92: 1 | M92: =+Hoja1!$K92/Hoja1!$L92*Hoja1!$C92 -> 0 | N92: =+Hoja1!$M158*Hoja1!$J158 -> 0
A93: ESCRIPTURA | B93: Maquineta per fer punta metall | C93: 1 | D93: 1 | E93: 0.5 | F93: 165 | G93: 5 | H93: 20 | J93: =SUM(Hoja1!$F93:$I93) -> 190 | L93: 1 | M93: =+Hoja1!$K93/Hoja1!$L93*Hoja1!$C93 -> 0 | N93: =+Hoja1!$M160*Hoja1!$J160 -> 0
A94: ESCRIPTURA | B94: Mines grafit 0.5mm | C94: 12 | D94: 12 | E94: 0.5 | F94: 38 | G94: 1 | H94: 20 | J94: =SUM(Hoja1!$F94:$I94) -> 59 | L94: 12 | M94: =+Hoja1!$K94/Hoja1!$L94*Hoja1!$C94 -> 0 | N94: =+Hoja1!$M175*Hoja1!$J175 -> 0
A95: ESCRIPTURA | B95: Mines grafit 0.7mm | C95: 12 | D95: 12 | E95: 0.55 | F95: 79 | G95: 3 | I95: 6 | J95: =SUM(Hoja1!$F95:$I95) -> 88 | L95: 12 | M95: =+Hoja1!$K95/Hoja1!$L95*Hoja1!$C95 -> 0 | N95: =+Hoja1!$M176*Hoja1!$J176 -> 0
A96: ESCRIPTURA | B96: Portamines tècnic soft 0,5mm | C96: 1 | D96: 12 | E96: 0.85 | F96: 80 | G96: 10 | H96: 20 | I96: 27 | J96: =SUM(Hoja1!$F96:$I96) -> 137 | L96: 1 | M96: =+Hoja1!$K96/Hoja1!$L96*Hoja1!$C96 -> 0 | N96: =+Hoja1!$M210*Hoja1!$J210 -> 0
A97: ESCRIPTURA | B97: Portamines tècnic soft 0,7mm | C97: 1 | D97: 12 | E97: 0.88 | F97: 177 | G97: 10 | H97: 6 | I97: 18 | J97: =SUM(Hoja1!$F97:$I97) -> 211 | L97: 1 | M97: =+Hoja1!$K97/Hoja1!$L97*Hoja1!$C97 -> 0 | N97: =+Hoja1!$M211*Hoja1!$J211 -> 0
A98: ESCRIPTURA | B98: Roller PILOT retràctil gel 0,7mm (blau, vermell o negre) o equivalent | C98: 1 | D98: 12 | E98: 1.58 | F98: 83 | G98: 20 | I98: 131 | J98: =SUM(Hoja1!$F98:$I98) -> 234 | L98: 1 | M98: =+Hoja1!$K98/Hoja1!$L98*Hoja1!$C98 -> 0 | N98: =+Hoja1!$M239*Hoja1!$J239 -> 0
A99: ESCRIPTURA | B99: Roller PILOT tinta líquida punta 0,5mm(negre, blau o vermell) o equivalent | C99: 1 | D99: 12 | E99: 1.71 | F99: 48 | G99: 20 | J99: =SUM(Hoja1!$F99:$I99) -> 68 | L99: 1 | M99: =+Hoja1!$K99/Hoja1!$L99*Hoja1!$C99 -> 0 | N99: =+Hoja1!$M240*Hoja1!$J240 -> 0
A100: ESCRIPTURA | B100: Roller tinta líquida punta 0,5mm (blau, negre i vermell) | C100: 1 | D100: 12 | E100: 0.89 | F100: 48 | J100: =SUM(Hoja1!$F100:$I100) -> 48 | L100: 1 | M100: =+Hoja1!$K100/Hoja1!$L100*Hoja1!$C100 -> 0 | N100: =+Hoja1!$M241*Hoja1!$J241 -> 0
A101: ETIQUETES | B101: Etiqueta 105*148mm | C101: 400 | D101: 400 | E101: 12.56 | F101: 5 | J101: =SUM(Hoja1!$F101:$I101) -> 5 | L101: 400 | M101: =+Hoja1!$K101/Hoja1!$L101*Hoja1!$C101 -> 0 | N101: =+Hoja1!$M108*Hoja1!$J108 -> 0
...
