Workbook

Sheet Hoja1
A2: FAMILIA | B2: Descripció | C2: Presentació Administració | D2: Presentació màxima | E2: Preu màxim | F2: Consum previst Ajuntament | G2: Consum previst AMSA | H2: Consum previst PUMSA | I2: Consum previst Tecnocampus | J2: Consum total previst | K2: Preu Ofert | L2: Presentació licitador | M2: Equivalència preu ofertat | N2: Total valorat | O2: Referència ambiental | P2: Qualitat ambiental
A3: AGENDA | B3: Agenda català pàgina per dia | C3: 1 | D3: 1 | E3: 1.25 | F3: 81 | G3: 3 | H3: 6 | I3: 1 | J3: =SUM(Hoja1!$F3:$I3) -> 91 | L3: 1 | M3: =+Hoja1!$K3/Hoja1!$L3*Hoja1!$C3 -> 0 | N3: =+Hoja1!$M3*Hoja1!$J3 -> 0
A4: AGENDA | B4: Agenda català setmana vista | C4: 1 | D4: 1 | E4: 1.25 | F4: 47 | G4: 2 | H4: 12 | I4: 4 | J4: =SUM(Hoja1!$F4:$I4) -> 65 | L4: 1 | M4: =+Hoja1!$K4/Hoja1!$L4*Hoja1!$C4 -> 0 | N4: =+Hoja1!$M4*Hoja1!$J4 -> 0
A5: ARXIVADORS | B5: Arxivador A4 llom 4cm 2 anelles (qualsevol color) | C5: 1 | D5: 1 | E5: 1.25 | F5: 15 | H5: 20 | I5: 2 | J5: =SUM(Hoja1!$F5:$I5) -> 37 | L5: 1 | M5: =+Hoja1!$K5/Hoja1!$L5*Hoja1!$C5 -> 0 | N5: =+Hoja1!$M5*Hoja1!$J5 -> 0
A6: ARXIVADORS | B6: Arxivador A4 llom 8 cm 2 anelles (qualsevol color) | C6: 1 | D6: 1 | E6: 1.3 | F6: 20 | G6: 20 | H6: 80 | I6: 53 | J6: =SUM(Hoja1!$F6:$I6) -> 173 | L6: 1 | M6: =+Hoja1!$K6/Hoja1!$L6*Hoja1!$C6 -> 0 | N6: =+Hoja1!$M6*Hoja1!$J6 -> 0
A7: ARXIVADORS | B7: Arxivador jaspiat A4 2 anelles llom 75mm | C7: 1 | D7: 1 | E7: 1.95 | F7: 72 | I7: 10 | J7: =SUM(Hoja1!$F7:$I7) -> 82 | L7: 1 | M7: =+Hoja1!$K7/Hoja1!$L7*Hoja1!$C7 -> 0 | N7: =+Hoja1!$M7*Hoja1!$J7 -> 0
A8: ARXIVADORS | B8: Arxivador jaspiat foli 2 anelles llom 70mm | C8: 1 | D8: 1 | E8: 2.05 | F8: 127 | I8: 9 | J8: =SUM(Hoja1!$F8:$I8) -> 136 | L8: 1 | M8: =+Hoja1!$K8/Hoja1!$L8*Hoja1!$C8 -> 0 | N8: =+Hoja1!$M8*Hoja1!$J8 -> 0
A9: ARXIVADORS | B9: Arxivador jaspiat foli 2 anelles llom 75mm | C9: 1 | D9: 1 | E9: 2.15 | F9: 22 | G9: 25 | J9: =SUM(Hoja1!$F9:$I9) -> 47 | L9: 1 | M9: =+Hoja1!$K9/Hoja1!$L9*Hoja1!$C9 -> 0 | N9: =+Hoja1!$M9*Hoja1!$J9 -> 0
A10: ARXIVADORS | B10: Arxivador personalitzable A4 2 anelles llom 40mm | C10: 1 | D10: 1 | E10: 1.7 | F10: 9 | G10: 6 | J10: =SUM(Hoja1!$F10:$I10) -> 15 | L10: 1 | M10: =+Hoja1!$K10/Hoja1!$L10*Hoja1!$C10 -> 0 | N10: =+Hoja1!$M10*Hoja1!$J10 -> 0
A11: ARXIVADORS | B11: Arxivador personalitzable A4 4 anelles llom 40mm | C11: 1 | D11: 1 | E11: 2.15 | F11: 6 | G11: 5 | H11: 2 | J11: =SUM(Hoja1!$F11:$I11) -> 13 | L11: 1 | M11: =+Hoja1!$K11/Hoja1!$L11*Hoja1!$C11 -> 0 | N11: =+Hoja1!$M11*Hoja1!$J11 -> 0
A12: ARXIVADORS | B12: Caixes arxiu definitiu 35*25cm llom 10cm | C12: 25 | D12: 50 | E12: 14.85 | F12: 60 | I12: 8 | J12: =SUM(Hoja1!$F12:$I12) -> 68 | L12: 25 | M12: =+Hoja1!$K12/Hoja1!$L12*Hoja1!$C12 -> 0 | N12: =+Hoja1!$M38*Hoja1!$J38 -> 0
A13: ARXIVADORS | B13: Capsa de cartró per arxivador foli jaspiat llom 82 cm | C13: 1 | D13: 1 | E13: 0.5 | F13: 67 | J13: =SUM(Hoja1!$F13:$I13) -> 67 | L13: 1 | M13: =+Hoja1!$K13/Hoja1!$L13*Hoja1!$C13 -> 0 | N13: =+Hoja1!$M44*Hoja1!$J44 -> 0
A14: CALCULADORA | B14: Calculadora 12 dígits | C14: 1 | D14: 1 | E14: 5.75 | F14: 32 | H14: 6 | I14: 6 | J14: =SUM(Hoja1!$F14:$I14) -> 44 | L14: 1 | M14: =+Hoja1!$K14/Hoja1!$L14*Hoja1!$C14 -> 0 | N14: =+Hoja1!$M42*Hoja1!$J42 -> 0
A15: CALCULADORA | B15: Calculadora científica 10 dígits | C15: 1 | D15: 1 | E15: 15.95 | F15: 10 | G15: 1 | J15: =SUM(Hoja1!$F15:$I15) -> 11 | L15: 1 | M15: =+Hoja1!$K15/Hoja1!$L15*Hoja1!$C15 -> 0 | N15: =+Hoja1!$M43*Hoja1!$J43 -> 0
A16: CARP. PROJECTES | B16: Carpeta de projectes A4 llom 40mm | C16: 1 | D16: 1 | E16: 1.95 | F16: 15 | J16: =SUM(Hoja1!$F16:$I16) -> 15 | L16: 1 | M16: =+Hoja1!$K16/Hoja1!$L16*Hoja1!$C16 -> 0 | N16: =+Hoja1!$M54*Hoja1!$J54 -> 0
A17: CARP. PROJECTES | B17: Carpeta de projectes A4 llom 60mm | C17: 1 | D17: 1 | E17: 2.25 | F17: 5 | J17: =SUM(Hoja1!$F17:$I17) -> 5 | L17: 1 | M17: =+Hoja1!$K17/Hoja1!$L17*Hoja1!$C17 -> 0 | N17: =+Hoja1!$M55*Hoja1!$J55 -> 0
A18: CARP. PROJECTES | B18: Carpeta de projectes A4 polipropilè llom 40mm (transparent) | C18: 1 | D18: 1 | E18: 7.2 | F18: 6 | J18: =SUM(Hoja1!$F18:$I18) -> 6 | L18: 1 | M18: =+Hoja1!$K18/Hoja1!$L18*Hoja1!$C18 -> 0 | N18: =+Hoja1!$M56*Hoja1!$J56 -> 0
A19: CARP. PROJECTES | B19: Carpeta de projectes foli llom 30mm | C19: 1 | D19: 1 | E19: 1.35 | F19: 11 | H19: 20 | J19: =SUM(Hoja1!$F19:$I19) -> 31 | L19: 1 | M19: =+Hoja1!$K19/Hoja1!$L19*Hoja1!$C19 -> 0 | N19: =+Hoja1!$M57*Hoja1!$J57 -> 0
A20: CARP. PROJECTES | B20: Carpeta de projectes foli llom 50mm | C20: 1 | D20: 1 | E20: 1.45 | F20: 15 | H20: 30 | J20: =SUM(Hoja1!$F20:$I20) -> 45 | L20: 1 | M20: =+Hoja1!$K20/Hoja1!$L20*Hoja1!$C20 -> 0 | N20: =+Hoja1!$M58*Hoja1!$J58 -> 0
A21: CARP. PROJECTES | B21: Carpeta de projectes foli llom 70mm | C21: 1 | D21: 1 | E21: 1.6 | F21: 27 | G21: 10 | H21: 10 | J21: =SUM(Hoja1!$F21:$I21) -> 47 | L21: 1 | M21: =+Hoja1!$K21/Hoja1!$L21*Hoja1!$C21 -> 0 | N21: =+Hoja1!$M59*Hoja1!$J59 -> 0
A22: CARP. PROJECTES | B22: Carpeta de projectes foli llom 90mm | C22: 1 | D22: 1 | E22: 1.8 | F22: 3 | I22: 4 | J22: =SUM(Hoja1!$F22:$I22) -> 7 | L22: 1 | M22: =+Hoja1!$K22/Hoja1!$L22*Hoja1!$C22 -> 0 | N22: =+Hoja1!$M60*Hoja1!$J60 -> 0
A23: CARPETA | B23: Carpetes de gomes 3 solapes polipropilè (qualsevol color) | C23: 1 | D23: 1 | E23: 0.65 | F23: 115 | J23: =SUM(Hoja1!$F23:$I23) -> 115 | L23: 1 | M23: =+Hoja1!$K23/Hoja1!$L23*Hoja1!$C23 -> 0 | N23: =+Hoja1!$M61*Hoja1!$J61 -> 0
A24: CARPETA | B24: Carpetes de gomes A4 3 solapes 355gr (qualsevol color) | C24: 1 | D24: 1 | E24: 0.5 | F24: 760 | I24: 11 | J24: =SUM(Hoja1!$F24:$I24) -> 771 | L24: 1 | M24: =+Hoja1!$K24/Hoja1!$L24*Hoja1!$C24 -> 0 | N24: =+Hoja1!$M62*Hoja1!$J62 -> 0
A25: CARPETA | B25: Carpetes de gomes Foli 3 solapes PVC (qualsevol color) | C25: 1 | D25: 1 | E25: 5.25 | F25: 10 | G25: 5 | J25: =SUM(Hoja1!$F25:$I25) -> 15 | L25: 1 | M25: =+Hoja1!$K25/Hoja1!$L25*Hoja1!$C25 -> 0 | N25: =+Hoja1!$M63*Hoja1!$J63 -> 0
A26: CARPETA | B26: Portabloc amb pinça A4 PVC | C26: 1 | D26: 1 | E26: 0.9 | F26: 50 | H26: 10 | J26: =SUM(Hoja1!$F26:$I26) -> 60 | L26: 1 | M26: =+Hoja1!$K26/Hoja1!$L26*Hoja1!$C26 -> 0 | N26: =+Hoja1!$M208*Hoja1!$J208 -> 0
A27: CARPETA | B27: Portabloc amb tapa i pinça | C27: 1 | D27: 1 | E27: 2.7 | F27: 28 | G27: 6 | H27: 10 | I27: 5 | J27: =SUM(Hoja1!$F27:$I27) -> 49 | L27: 1 | M27: =+Hoja1!$K27/Hoja1!$L27*Hoja1!$C27 -> 0 | N27: =+Hoja1!$M209*Hoja1!$J209 -> 0
A28: CARTOLINA | B28: Cartolina A4 160g (qualsevol color) | C28: 250 | D28: 250 | E28: 7.37 | F28: 62 | H28: 6 | J28: =SUM(Hoja1!$F28:$I28) -> 68 | L28: 250 | M28: =+Hoja1!$K28/Hoja1!$L28*Hoja1!$C28 -> 0 | N28: =+Hoja1!$M64*Hoja1!$J64 -> 0
A29: CARTOLINA | B29: Cartolina 50*65 185gr (qualsevol color) | C29: 25 | D29: 25 | E29: 6.24 | F29: 15 | I29: 5 | J29: =SUM(Hoja1!$F29:$I29) -> 20 | L29: 25 | M29: =+Hoja1!$K29/Hoja1!$L29*Hoja1!$C29 -> 0 | N29: =+Hoja1!$M65*Hoja1!$J65 -> 0
A30: CARTOLINA | B30: Cartolina A3 185 gr (qualsevol color) | C30: 50 | D30: 50 | E30: 8.8 | F30: 40 | J30: =SUM(Hoja1!$F30:$I30) -> 40 | L30: 50 | M30: =+Hoja1!$K30/Hoja1!$L30*Hoja1!$C30 -> 0 | N30: =+Hoja1!$M66*Hoja1!$J66 -> 0
A31: CARTOLINA | B31: Cartolina A4 185 gr (qualsevol color) | C31: 50 | D31: 50 | E31: 3.07 | F31: 139 | J31: =SUM(Hoja1!$F31:$I31) -> 139 | L31: 50 | M31: =+Hoja1!$K31/Hoja1!$L31*Hoja1!$C31 -> 0 | N31: =+Hoja1!$M67*Hoja1!$J67 -> 0
A32: CELO | B32: Celo 19mm*33m | C32: 1 | D32: 10 | E32: 0.15 | F32: 736 | J32: =SUM(Hoja1!$F32:$I32) -> 736 | L32: 1 | M32: =+Hoja1!$K32/Hoja1!$L32*Hoja1!$C32 -> 0 | N32: =+Hoja1!$M68*Hoja1!$J68 -> 0
A33: CELO | B33: Celo 19mm*66m | C33: 1 | D33: 10 | E33: 1.9 | F33: 16 | H33: 20 | J33: =SUM(Hoja1!$F33:$I33) -> 36 | L33: 1 | M33: =+Hoja1!$K33/Hoja1!$L33*Hoja1!$C33 -> 0 | N33: =+Hoja1!$M69*Hoja1!$J69 -> 0
A34: CELO | B34: Cinta adhesiva doble cara 12mm*7,5m | C34: 1 | D34: 10 | E34: 2.7 | F34: 27 | G34: 2 | J34: =SUM(Hoja1!$F34:$I34) -> 29 | L34: 1 | M34: =+Hoja1!$K34/Hoja1!$L34*Hoja1!$C34 -> 0 | N34: =+Hoja1!$M71*Hoja1!$J71 -> 0
A35: CELO | B35: Cinta adhesiva doble cara 25mm*50m | C35: 1 | D35: 10 | E35: 7.6 | F35: 17 | I35: 5 | J35: =SUM(Hoja1!$F35:$I35) -> 22 | L35: 1 | M35: =+Hoja1!$K35/Hoja1!$L35*Hoja1!$C35 -> 0 | N35: =+Hoja1!$M72*Hoja1!$J72 -> 0
A36: CELO | B36: Porta-rotlles per cinta adhesiva de 33mm | C36: 1 | D36: 1 | E36: 5.8 | F36: 91 | H36: 1 | I36: 6 | J36: =SUM(Hoja1!$F36:$I36) -> 98 | L36: 1 | M36: =+Hoja1!$K36/Hoja1!$L36*Hoja1!$C36 -> 0 | N36: =+Hoja1!$M207*Hoja1!$J207 -> 0
A37: CELO | B37: SCOTCH "magic tape” cinta 19*33mm o equivalent | C37: 1 | D37: 1 | E37: 2 | F37: 12 | G37: 2 | I37: 16 | J37: =SUM(Hoja1!$F37:$I37) -> 30 | L37: 1 | M37: =+Hoja1!$K37/Hoja1!$L37*Hoja1!$C37 -> 0 | N37: =+Hoja1!$M252*Hoja1!$J252 -> 0
A38: CELO | B38: SCOTCH "magic” cinta 19*33mm o equivalent | C38: 1 | D38: 24 | E38: 1.9 | F38: 238 | J38: =SUM(Hoja1!$F38:$I38) -> 238 | L38: 1 | M38: =+Hoja1!$K38/Hoja1!$L38*Hoja1!$C38 -> 0 | N38: =+Hoja1!$M253*Hoja1!$J253 -> 0
A39: CELO | B39: SCOTCH "removable” cinta 19*33mm o equivalent | C39: 1 | D39: 1 | E39: 2.31 | F39: 20 | I39: 20 | J39: =SUM(Hoja1!$F39:$I39) -> 40 | L39: 1 | M39: =+Hoja1!$K39/Hoja1!$L39*Hoja1!$C39 -> 0 | N39: =+Hoja1!$M254*Hoja1!$J254 -> 0
A40: CLIPS | B40: Clips metàl·lics niquelats 25 mm n.1 | C40: 100 | D40: 150 | E40: 0.35 | F40: 70 | G40: 10 | I40: 27 | J40: =SUM(Hoja1!$F40:$I40) -> 107 | L40: 100 | M40: =+Hoja1!$K40/Hoja1!$L40*Hoja1!$C40 -> 0 | N40: =+Hoja1!$M82*Hoja1!$J82 -> 0
A41: CLIPS | B41: Clips metàl·lics niquelats 32 mm n.2 | C41: 100 | D41: 150 | E41: 0.45 | F41: 163 | G41: 10 | H41: 6 | I41: 10 | J41: =SUM(Hoja1!$F41:$I41) -> 189 | L41: 100 | M41: =+Hoja1!$K41/Hoja1!$L41*Hoja1!$C41 -> 0 | N41: =+Hoja1!$M83*Hoja1!$J83 -> 0
...
