Workbook

Sheet OFERTA
B2: ANNEX OFERTA ECONOMICA
B4: El sotasignat, | H4: , amb DNI/NIF núm. | L4: , en nom propi/en qualitat de
B5: representant legal de la persona física/jurídica
B6: amb NIF núm. | F6: , amb capacitat jurídica i d'obrar, assabebtat del Plec de condicions administratives i tècniques
B7: que han de regir la contractació del subministrament en règim de lloguer i transport, muntatge i desmuntatge de carpes (Exp 24153/2022)
B9: FAIG CONSTAR
B11: Que presento la seguent oferta econòmica | J11: OMPLIR NOMES CASELLES VERDES
B13: PREUS UNITARIS SENSE IVA
B14: TIPUS DE CARPA | D14: MUNTATGE / DESMUNTATGE / 1 SETMANA DE LLOGUER | H14: SETMANA EXTRA | J14: MUNTATGE / DESMUNTATGE / 1 SETMANA DE LLOGUER | N14: SETMANA EXTRA
D16: superficie total m2 | J16: superficie total m2
D17: 0-100 | E17: >100-300 | F17: >300-800 | G17: >800 | H17: 0->800 | J17: 0-100 | K17: >100-300 | L17: >300-800 | M17: >800 | N17: 0->800
B18: DUES AIGUES | D18: 10 | E18: 8 | F18: 7 | G18: 5.5 | H18: 1
B19: POLIGONAL | D19: 12 | E19: 10 | F19: 8 | G19: 7 | H19: 1
B20: TERRA | D20: 8 | E20: 8 | F20: 7 | G20: 7 | H20: 1
D21: UNITAT / SETMANA | J21: UNITAT / SETMANA
B22: PAGODA | D22: 270 | L22: SUBTOTAL SENSE IVA | M22: TOTAL IVA INCLOS
B23: RAMPA | D23: 275 | L23: =CALCULS!Q37 -> 0 | M23: =CALCULS!S37 -> 0
B26: Signatura electrònica

Sheet CALCULS
B1: PREUS UNITARIS SENSE IVA
B2: TIPUS DE CARPA | D2: MUNTATGE / DESMUNTATGE / 1 SETMANA DE LLOGUER | H2: SETMANA EXTRA | J2: MUNTATGE / DESMUNTATGE / 1 SETMANA DE LLOGUER | N2: SETMANA EXTRA
D4: superficie total m2 | J4: superficie total m2
D5: 0-100 | E5: >100-300 | F5: >300-800 | G5: >800 | H5: 0->800 | J5: 0-100 | K5: >100-300 | L5: >300-800 | M5: >800 | N5: 0->800
B6: DUES AIGUES | D6: 10 | E6: 8 | F6: 7 | G6: 5.5 | H6: 1 | J6: =OFERTA!J18 -> 0 | K6: =OFERTA!K18 -> 0 | L6: =OFERTA!L18 -> 0 | M6: =OFERTA!M18 -> 0 | N6: =OFERTA!N18 -> 0
B7: POLIGONAL | D7: 12 | E7: 10 | F7: 8 | G7: 7 | H7: 1 | J7: =OFERTA!J19 -> 0 | K7: =OFERTA!K19 -> 0 | L7: =OFERTA!L19 -> 0 | M7: =OFERTA!M19 -> 0 | N7: =OFERTA!N19 -> 0
B8: TERRA | D8: 8 | E8: 8 | F8: 7 | G8: 7 | H8: 1 | J8: =OFERTA!J20 -> 0 | K8: =OFERTA!K20 -> 0 | L8: =OFERTA!L20 -> 0 | M8: =OFERTA!M20 -> 0 | N8: =OFERTA!N20 -> 0
D9: UNITAT / SETMANA | J9: UNITAT / SETMANA
B10: PAGODA | D10: 270 | J10: =OFERTA!J22 -> 0
B11: RAMPA | D11: 275 | J11: =OFERTA!J23 -> 0
B13: DIRECCIÓ DE CULTURA
B15: periode | C15: activitat | D15: espai | E15: setmanes en servei | F15: tipus de carpa | G15: ample del pòrtic | H15: alçada del lateral | I15: llargada | J15: m2 carpa | K15: €/m2 o unitat | L15: €/totals 1ª setmana | M15: €/m2 o unitat setmana extra | N15: €/totals setmanes extres | O15: subtotal unitat | P15: unitats | Q15: subtotal | R15: iva | S15: total
B16: desembre/gener | C16: REIS | D16: parc central | E16: 4 | F16: DUES AIGUES | G16: 20 | H16: 4 | I16: 50 | J16: =+G16*I16 -> 1000 | K16: =+M6 -> 0 | L16: =+K16*J16 -> 0 | M16: =+N6 -> 0 | N16: =+M16*J16*(E16-1) -> 0 | O16: =+N16+L16 -> 0 | P16: 1 | Q16: =+P16*O16 -> 0 | R16: =+Q16*0.21 -> 0 | S16: =+ROUND(Q16+R16,2) -> 0
B17: març/abril | C17: SETMANA SANTA | D17: parròquia de maria auxiliadora | E17: 1 | F17: DUES AIGUES | G17: 10 | H17: 4 | I17: 5 | J17: =+G17*I17 -> 50 | K17: =+J6 -> 0 | L17: =+K17*J17 -> 0 | N17: =+M17*J17*(E17-1) -> 0 | O17: =+N17+L17 -> 0 | P17: 1 | Q17: =+P17*O17 -> 0 | R17: =+Q17*0.21 -> 0 | S17: =+ROUND(Q17+R17,2) -> 0
B18: maig/juny | C18: ROMERIA DEL ROCIO | D18: parc forestal | E18: 1 | F18: DUES AIGUES | G18: 10 | H18: 3 | I18: 15 | J18: =+G18*I18 -> 150 | K18: =+K6 -> 0 | L18: =+K18*J18 -> 0 | N18: =+M18*J18*(E18-1) -> 0 | O18: =+N18+L18 -> 0 | P18: 6 | Q18: =+P18*O18 -> 0 | R18: =+Q18*0.21 -> 0 | S18: =+ROUND(Q18+R18,2) -> 0
E19: 1 | F19: DUES AIGUES | G19: 10 | H19: 3 | I19: 20 | J19: =+G19*I19 -> 200 | K19: =+K6 -> 0 | L19: =+K19*J19 -> 0 | N19: =+M19*J19*(E19-1) -> 0 | O19: =+N19+L19 -> 0 | P19: 1 | Q19: =+P19*O19 -> 0 | R19: =+Q19*0.21 -> 0 | S19: =+ROUND(Q19+R19,2) -> 0
E20: 1 | F20: PAGODA | G20: - | H20: 2.5 | I20: - | K20: =+J10 -> 0 | L20: =+K20 -> 0 | N20: =+M20*J20*(E20-1) -> 0 | O20: =+N20+L20 -> 0 | P20: 7 | Q20: =+P20*O20 -> 0 | R20: =+Q20*0.21 -> 0 | S20: =+ROUND(Q20+R20,2) -> 0
B21: juliol | C21: SANTES | D21: passeig marítim | E21: 2 | F21: POLIGONAL | G21: 20 | H21: 4 | I21: 15 | J21: =+G21*I21 -> 300 | K21: =+K7 -> 0 | L21: =+K21*J21 -> 0 | M21: =+N7 -> 0 | N21: =+M21*J21*(E21-1) -> 0 | O21: =+N21+L21 -> 0 | P21: 1 | Q21: =+P21*O21 -> 0 | R21: =+Q21*0.21 -> 0 | S21: =+ROUND(Q21+R21,2) -> 0
B22: juliol | C22: SANTES | D22: a determinar | E22: 2 | F22: DUES AIGUES | G22: 15 | H22: 4 | I22: 15 | J22: =+G22*I22 -> 225 | K22: =+K6 -> 0 | L22: =+K22*J22 -> 0 | M22: =+N6 -> 0 | N22: =+M22*J22*(E22-1) -> 0 | O22: =+N22+L22 -> 0 | P22: 1 | Q22: =+P22*O22 -> 0 | R22: =+Q22*0.21 -> 0 | S22: =+ROUND(Q22+R22,2) -> 0
C24: TOTALS CULTURA | L24: =SUM(L16:L23) -> 0 | N24: =SUM(N16:N23) -> 0 | Q24: =SUM(Q16:Q23) -> 0 | R24: =SUM(R16:R23) -> 0 | S24: =SUM(S16:S23) -> 0
B26: DIRECCIÓ D'ENSENYAMENT
B28: periode | C28: activitat | D28: espai | E28: setmanes en servei | F28: tipus de carpa | G28: ample del pòrtic | H28: alçada del lateral | I28: llargada | J28: m2 carpa | K28: €/m2 o unitat | L28: €/totals 1ª setmana | M28: €/m2 o unitat setmana extra | N28: €/totals setmanes extres | O28: subtotal unitat | P28: unitats | Q28: subtotal | R28: iva | S28: total
B29: març/abril | C29: Fira Mataró Orienta | D29: parc central | E29: 1 | F29: DUES AIGUES | G29: 15 | H29: 3 | I29: 15 | J29: =+G29*I29 -> 225 | K29: =+K6 -> 0 | L29: =+K29*J29 -> 0 | O29: =+N29+L29 -> 0 | P29: 1 | Q29: =+P29*O29 -> 0 | R29: =+Q29*0.21 -> 0 | S29: =+ROUND(Q29+R29,2) -> 0
E30: 1 | F30: TERRA | J30: =+J29 -> 225 | K30: =+K8 -> 0 | L30: =+K30*J30 -> 0 | O30: =+N30+L30 -> 0 | P30: 1 | Q30: =+P30*O30 -> 0 | R30: =+Q30*0.21 -> 0 | S30: =+ROUND(Q30+R30,2) -> 0
E31: 1 | F31: RAMPA | L31: =+J11 -> 0 | O31: =+N31+L31 -> 0 | P31: 1 | Q31: =+P31*O31 -> 0 | R31: =+Q31*0.21 -> 0 | S31: =+ROUND(Q31+R31,2) -> 0
E32: 1 | F32: DUES AIGUES | G32: 10 | H32: 3 | I32: 10 | J32: =+G32*I32 -> 100 | K32: =+J6 -> 0 | L32: =+K32*J32 -> 0 | O32: =+N32+L32 -> 0 | P32: 3 | Q32: =+P32*O32 -> 0 | R32: =+Q32*0.21 -> 0 | S32: =+ROUND(Q32+R32,2) -> 0
E33: 1 | F33: TERRA | J33: =+J32 -> 100 | K33: =+J8 -> 0 | L33: =+K33*J33 -> 0 | O33: =+N33+L33 -> 0 | P33: 1 | Q33: =+P33*O33 -> 0 | R33: =+Q33*0.21 -> 0 | S33: =+ROUND(Q33+R33,2) -> 0
C35: TOTALS ENSENYAMENT | L35: =SUM(L29:L34) -> 0 | N35: =SUM(N29:N34) -> 0 | Q35: =SUM(Q29:Q34) -> 0 | R35: =SUM(R29:R34) -> 0 | S35: =SUM(S29:S34) -> 0
C37: TOTAL ANUAL CONTRACTE | L37: =+L35+L24 -> 0 | N37: =+N35+N24 -> 0 | Q37: =+Q35+Q24 -> 0 | R37: =+R35+R24 -> 0 | S37: =+S35+S24 -> 0
