Workbook

Sheet OFERTA LICITADORS
B1: ANNEX OFERTA ECONOMICA
B3: El sotasignat, | H3: , amb DNI/NIF núm. | L3: , en nom propi/en qualitat de
B4: representant legal de la persona física/jurídica
B5: amb NIF núm. | F5: , amb capacitat jurídica i d'obrar, assabebtat del Plec de condicions administratives i tècniques
B6: que han de regir la contractació del subministrament en règim de lloguer de sanitaris portàtils (Exp 21016/2022)
B8: FAIG CONSTAR
B9: Que presento la seguent oferta econòmica:
I10: OMPLIR NOMES CASELLES EN COLOR VERD
B11: IMPORTS MAXIMS
B12: ESPORÀDICS. PREUS UNITARIS PERIODE MÀXIM 10 DIES | I12: ESPORÀDICS. PREUS UNITARIS PERIODE MÀXIM 10 DIES
B13: WC'S QUÍMICS | D13: 1 unitat | E13: 2- 3 unitats | F13: 4 -6 unitats | G13: 7 o més unitats | I13: WC'S QUÍMICS | L13: 1 unitat | M13: 2- 3 unitats | N13: 4 -6 unitats | P13: 7 o més
B14: NORMAL | C14: Cabina sanitària WC autònoma | D14: 189.1 | E14: 107.36 | F14: 100.04 | G14: 89.06 | I14: NORMAL | J14: Cabina sanitària WC autònoma
B15: ADAPTAT | C15: Cabina sanitària WC autònoma i accesible | D15: 209.84 | E15: 136.64 | F15: 127.32 | I15: ADAPTAT | J15: Cabina sanitària WC autònoma i accesible
B16: URINARI | C16: Urinàri múltiple per a homes o dones (mín 4 serveis) | D16: 189.1 | E16: 107.36 | F16: 100.04 | I16: URINARI | J16: Urinàri múltiple per a homes o dones (mín 4 serveis)
B17: MÒDUL | C17: Mòdul sanitari amb 14 cabines | D17: 1366.4 | I17: MÒDUL | J17: Mòdul sanitari amb 14 cabines
B19: NETEJA | D19: 1 unitat | E19: 2- 3 unitats | F19: 4 -6 unitats | G19: 7 o més unitats | I19: NETEJA | L19: 1 unitat | M19: 2- 3 unitats | N19: 4 -6 unitats | P19: 7 o més
B20: Per a tots els models | D20: 76.86 | E20: 43.92 | F20: 30.5 | G20: 25.62 | I20: Per a tots els models
B22: FIXOS. PREUS UNITARIS MENSUALS | I22: FIXOS. PREUS UNITARIS MENSUALS
B23: WC'S QUÍMICS | D23: 1 unitat | I23: WC'S QUÍMICS | L23: 1 unitat | N23: TOTAL SENSE IVA | P23: TOTAL IVA INCLOS
B24: NORMAL | C24: Cabina sanitària WC autònoma + neteja quiinzenal | D24: =85*1.08*1.14 -> 104.652 | I24: NORMAL | J24: Cabina sanitària WC autònoma + neteja quinzenal
B25: ADAPTAT | C25: Cabina sanitària WC autònoma i accesible + neteja quinzenal | D25: =110*1.08*1.14 -> 135.432 | I25: ADAPTAT | J25: Cabina sanitària WC autònoma i accesible + neteja quinzenal | N25: =2*CALCULS!P64 -> 0 | P25: =2*CALCULS!R64 -> 0
B28: Signatura electrònica | G28: COSTOS DIRECTES | L28: Pressupost | M28: OFERTA
G29: Subministrament | L29: 48202.88
G30: TOTAL COSTOS DIRECTES | L30: =L29 -> 48202.88 | M30: =IF(ISBLANK(M29),"",M29)
G31: COSTOS INDIRECTES | L31: import
G32: Despeses generals (13%) | L32: =ROUND(L30*0.13,2) -> 6266.37 | O32: % | P32: =IF($M$32="","",ROUND(M30*M32/100,2))
G33: Benefici industrial (6%) | L33: =ROUND(L30*0.06,2) -> 2892.17 | O33: % | P33: =IF($M$33="","",ROUND(M30*M33/100,2))
G34: TOTAL COSTOS INDIRECTES | L34: =L32+L33 -> 9158.54 | M34: =IF(M30="","",P32+P33) | P34: ......................... €
G35: TOTAL COSTOS (directes + indirectes) | L35: =L34+L30 -> 57361.42 | M35: =IF(M29="",0,ROUND(M34+M30,2)) -> 0 | P35: ......................... €
G36: =IF(M35<>N25,"ERROR EN ELS COSTOS. RECTIFICAR COSTOS","")

Sheet CALCULS
A2: OFERTA LLOGUER SANITARIS PORTÀTILS
A4: IMPORTS MAXIMS | H4: OMPLIR NOMES CASELLES EN COLOR VERD
A6: ESPORÀDICS. PREUS UNITARIS PERIODE MÀXIM 10 DIES | H6: ESPORÀDICS. PREUS UNITARIS PERIODE MÀXIM 10 DIES
A7: WC'S QUÍMICS | C7: 1 unitat | D7: 2- 3 unitats | E7: 4 -6 unitats | F7: 7 o més unitats | H7: WC'S QUÍMICS | K7: 1 unitat | L7: 2- 3 unitats | M7: 4 -6 unitats | N7: 7 o més
A8: NORMAL | B8: Cabina sanitària WC autònoma | C8: 189.1 | D8: 107.36 | E8: 100.04 | F8: 89.06 | H8: NORMAL | I8: Cabina sanitària WC autònoma | K8: ='OFERTA LICITADORS'!L14 -> 0 | L8: ='OFERTA LICITADORS'!M14 -> 0 | M8: ='OFERTA LICITADORS'!N14 -> 0 | N8: ='OFERTA LICITADORS'!P14 -> 0
A9: ADAPTAT | B9: Cabina sanitària WC autònoma i accesible | C9: 209.84 | D9: 136.64 | E9: 127.32 | H9: ADAPTAT | I9: Cabina sanitària WC autònoma i accesible | K9: ='OFERTA LICITADORS'!L15 -> 0 | L9: ='OFERTA LICITADORS'!M15 -> 0 | M9: ='OFERTA LICITADORS'!N15 -> 0
A10: URINARI | B10: Urinàri múltiple per a homes o dones (mín 4 serveis) | C10: 189.1 | D10: 107.36 | E10: 100.04 | H10: URINARI | I10: Urinàri múltiple per a homes o dones (mín 4 serveis) | K10: ='OFERTA LICITADORS'!L16 -> 0 | L10: ='OFERTA LICITADORS'!M16 -> 0 | M10: ='OFERTA LICITADORS'!N16 -> 0
A11: MÒDUL | B11: Mòdul sanitari amb 14 cabines | C11: 1366.4 | H11: MÒDUL | I11: Mòdul sanitari amb 14 cabines | K11: ='OFERTA LICITADORS'!L17 -> 0
A13: NETEJA | C13: 1 unitat | D13: 2- 3 unitats | E13: 4 -6 unitats | F13: 7 o més unitats | H13: NETEJA | K13: 1 unitat | L13: 2- 3 unitats | M13: 4 -6 unitats | N13: 7 o més unitats
A14: Per a tots els models | C14: 76.86 | D14: 43.92 | E14: 30.5 | F14: 25.62 | H14: Per a tots els models | K14: ='OFERTA LICITADORS'!L20 -> 0 | L14: ='OFERTA LICITADORS'!M20 -> 0 | M14: ='OFERTA LICITADORS'!N20 -> 0 | N14: ='OFERTA LICITADORS'!P20 -> 0
A16: FIXOS. PREUS UNITARIS MENSUALS | H16: FIXOS. PREUS UNITARIS MENSUALS
A17: WC'S QUÍMICS | C17: 1 unitat | H17: WC'S QUÍMICS | K17: 1 unitat
A18: NORMAL | B18: Cabina sanitària WC autònoma + neteja quinzenal | C18: =85*1.08*1.14 -> 104.652 | H18: NORMAL | I18: Cabina sanitària WC autònoma + neteja quinzenal | K18: ='OFERTA LICITADORS'!L24 -> 0
A19: ADAPTAT | B19: Cabina sanitària WC autònoma i accesible + neteja quinzenal | C19: =110*1.08*1.14 -> 135.432 | H19: ADAPTAT | I19: Cabina sanitària WC autònoma i accesible + neteja quinzenal | K19: ='OFERTA LICITADORS'!L25 -> 0
A22: DIRECCIÓ DE CULTURA
A23: ESPORÀDICS
A24: DATES | B24: ESPAI | C24: PERIODES DE SERVEI | D24: DISPOSITIU | J24: IMPORT | P24: SUBTOTAL | Q24: IVA | R24: TOTAL
D25: INFRAESTRUCTURA | H25: SERVEIS | J25: INFRAESTRUCTURA | N25: SERVEIS
C26: Fins a 10 dies | D26: NORMAL | E26: ADAPTAT | F26: URINARIS | G26: MÒDUL | H26: NETEJA UNITATS D’UNA SOLA VEGADA | I26: TOTAL VEGADES A NETEJAR | J26: NORMAL | K26: ADAPTAT | L26: URINARIS | M26: MÒDUL | N26: PREU UNITAT NETEJA | O26: TOTAL VEGADES A NETEJAR
A27: 31.12 / 1.1 | B27: Pl. Sta. Anna | C27: 1 | D27: 7 | E27: 2 | F27: 2 | H27: =SUM(D27:F27) -> 11 | J27: =N8*D27 -> 0 | K27: =L9*E27 -> 0 | L27: =F27*L10 -> 0 | P27: =SUM(J27:L27)+ O27 -> 0 | Q27: =+P27*0.21 -> 0 | R27: =+P27+Q27 -> 0
A28: març/abril | B28: Pl. de Sta. Maria | C28: 1 | E28: 2 | H28: =SUM(D28:F28) -> 2 | J28: =IFERROR((_xlfn.IFS(D28=1,#REF!,D28=2,#REF!,D28=3,#REF!,D28=4,#REF!,D28=5,#REF!,D28>5,#REF!)*D28),"") | K28: =E28*L9 -> 0 | L28: =IFERROR((_xlfn.IFS(F28=1,#REF!,F28>1,#REF!)*F28)*C28,"") | P28: =SUM(J28:L28)+ O28 -> 0 | Q28: =+P28*0.21 -> 0 | R28: =+P28+Q28 -> 0
A29: maig/juny | B29: Parc Forestal | C29: 1 | D29: 6 | E29: 3 | H29: =SUM(D29:F29) -> 9 | I29: 4 | J29: =D29*M8 -> 0 | K29: =E29*L9 -> 0 | L29: =IFERROR((_xlfn.IFS(F29=1,#REF!,F29>1,#REF!)*F29)*C29,"") | N29: =+N14 -> 0 | O29: =N29*H29*I29 -> 0 | P29: =SUM(J29:L29)+ O29 -> 0 | Q29: =+P29*0.21 -> 0 | R29: =+P29+Q29 -> 0
A30: octubre | B30: Ermita de St. Simó | C30: 1 | D30: 1 | E30: 1 | H30: =SUM(D30:F30) -> 2 | I30: 2 | J30: =D30*K8 -> 0 | K30: =K9*E30 -> 0 | L30: =IFERROR((_xlfn.IFS(F30=1,#REF!,F30>1,#REF!)*F30)*C30,"") | N30: =+L14 -> 0 | O30: =N30*H30*I30 -> 0 | P30: =SUM(J30:L30)+ O30 -> 0 | Q30: =+P30*0.21 -> 0 | R30: =+P30+Q30 -> 0
A31: juliol | B31: Nou Parc Central | C31: 1 | E31: 1 | H31: =SUM(D31:F31) -> 1 | I31: 5 | J31: =IFERROR((_xlfn.IFS(D31=1,#REF!,D31=2,#REF!,D31=3,#REF!,D31=4,#REF!,D31=5,#REF!,D31>5,#REF!)*D31),"") | K31: =K9*E31 -> 0 | L31: =IFERROR((_xlfn.IFS(F31=1,#REF!,F31>1,#REF!)*F31)*C31,"") | N31: =+K14 -> 0 | O31: =N31*H31*I31 -> 0 | P31: =SUM(J31:L31)+ O31 -> 0 | Q31: =+P31*0.21 -> 0 | R31: =+P31+Q31 -> 0
A32: juliol | B32: Pl. Sta. Anna | C32: 1 | D32: 1 | E32: 2 | G32: 1 | H32: =SUM(D32:F32) -> 3 | I32: 6 | J32: =D32*K8 -> 0 | K32: =E32*L9 -> 0 | L32: =IFERROR((_xlfn.IFS(F32=1,#REF!,F32>1,#REF!)*F32)*C32,"") | M32: =G32*K11 -> 0 | N32: =+L14 -> 0 | O32: =H32*N32*I32 -> 0 | P32: =SUM(J32:M32)+O32 -> 0 | Q32: =+P32*0.21 -> 0 | R32: =P32+Q32 -> 0
A33: juliol | B33: Pl. Ajuntament | C33: 1 | E33: 2 | G33: 1 | H33: 2 | I33: 6 | J33: =IFERROR((_xlfn.IFS(D33=1,#REF!,D33=2,#REF!,D33=3,#REF!,D33=4,#REF!,D33=5,#REF!,D33>5,#REF!)*D33),"") | K33: =E33*L9 -> 0 | L33: =IFERROR((_xlfn.IFS(F33=1,#REF!,F33>1,#REF!)*F33)*C33,"") | M33: =G33*K11 -> 0 | N33: =+L14 -> 0 | O33: =H33*N33*I33 -> 0 | P33: =SUM(J33:M33)+O33 -> 0 | Q33: =+P33*0.21 -> 0 | R33: =P33+Q33 -> 0
A34: juliol | B34: Nou Parc Central | C34: 1 | E34: 2 | F34: 4 | G34: 1 | H34: =SUM(D34:F34) -> 6 | I34: 2 | J34: =IFERROR((_xlfn.IFS(D34=1,#REF!,D34=2,#REF!,D34=3,#REF!,D34=4,#REF!,D34=5,#REF!,D34>5,#REF!)*D34),"") | K34: =E34*L9 -> 0 | L34: =M10*F34 -> 0 | M34: =G34*K11 -> 0 | N34: =+M14 -> 0 | O34: =N34*H34*I34 -> 0 | P34: =SUM(J34:M34)+O34 -> 0 | Q34: =+P34*0.21 -> 0 | R34: =+P34+Q34 -> 0
A35: juliol | B35: Passeig Marítim | C35: 1 | E35: 2 | F35: 4 | G35: 1 | H35: =SUM(D35:F35) -> 6 | I35: 3 | J35: =IFERROR((_xlfn.IFS(D35=1,#REF!,D35=2,#REF!,D35=3,#REF!,D35=4,#REF!,D35=5,#REF!,D35>5,#REF!)*D35),"") | K35: =E35*L9 -> 0 | L35: =F35*M10 -> 0 | M35: =G35*K11 -> 0 | N35: =+M14 -> 0 | O35: =N35*I35*H35 -> 0 | P35: =SUM(J35:M35)+O35 -> 0 | Q35: =+P35*0.21 -> 0 | R35: =+P35+Q35 -> 0
A36: juliol | B36: Parc Central | C36: 1 | D36: 3 | E36: 2 | F36: 2 | H36: =SUM(D36:F36) -> 7 | I36: 2 | J36: =D36*L8 -> 0 | K36: =E36*L9 -> 0 | L36: =F36*L10 -> 0 | N36: =+M14 -> 0 | O36: =N36*I36*H36 -> 0 | P36: =SUM(J36:M36)+O36 -> 0 | Q36: =+P36*0.21 -> 0 | R36: =+P36+Q36 -> 0
A37: juliol | B37: Espai Rocafonda | C37: 1 | D37: 3 | E37: 1 | H37: =SUM(D37:F37) -> 4 | I37: 3 | J37: =D37*L8 -> 0 | K37: =E37*K9 -> 0 | L37: =IFERROR((_xlfn.IFS(F37=1,#REF!,F37>1,#REF!)*F37)*C37,"") | N37: =+M14 -> 0 | O37: =N37*I37*H37 -> 0 | P37: =SUM(J37:M37)+O37 -> 0 | Q37: =+P37*0.21 -> 0 | R37: =+P37+Q37 -> 0
A38: juliol | B38: Espai Pla d'en Boet | C38: 1 | D38: 3 | E38: 1 | H38: =SUM(D38:F38) -> 4 | I38: 3 | J38: =D38*L8 -> 0 | K38: =E38*K9 -> 0 | L38: =IFERROR((_xlfn.IFS(F38=1,#REF!,F38>1,#REF!)*F38)*C38,"") | N38: =+M14 -> 0 | O38: =N38*I38*H38 -> 0 | P38: =SUM(J38:M38)+O38 -> 0 | Q38: =+P38*0.21 -> 0 | R38: =+P38+Q38 -> 0
A40: TOTALS DIRECCIÓ DE CULTURA | J40: =SUM(J27:J38) -> 0 | K40: =SUM(K27:K38) -> 0 | L40: =SUM(L27:L38) -> 0 | M40: =SUM(M27:M38) -> 0 | N40: =SUM(N27:N38) -> 0 | O40: =SUM(O27:O38) -> 0 | P40: =SUM(J40:M40)+O40 -> 0 | Q40: =SUM(Q27:Q38) -> 0 | R40: =SUM(R27:R38) -> 0
A42: SERVEI D’ESPORTS
A43: ESPORADICS
A44: DATES | B44: ESPAI | C44: PERIODES DE SERVEI | D44: DISPOSITIU | J44: IMPORT | P44: SUBTOTAL | Q44: IVA | R44: TOTAL
D45: INFRAESTRUCTURA | H45: SERVEIS | J45: INFRAESTRUCTURA | N45: SERVEIS
C46: Fins a 10 dies | D46: NORMAL | E46: ADAPTAT | F46: URINARIS | G46: MÒDUL | H46: NETEJA UNITATS D’UNA SOLA VEGADA | I46: TOTAL VEGADES A NETEJAR | J46: NORMAL | K46: ADAPTAT | L46: URINARIS | M46: MÒDUL | N46: PREU UNITAT NETEJA | O46: PREU TOTAL NETEGES
A47: maig/juny | B47: Passeig de mar | C47: 1 | D47: 4 | E47: 6 | H47: 8 | I47: 1 | J47: =M8*D47 -> 0 | K47: =M9*E47 -> 0 | N47: =+N14 -> 0 | O47: =N47*H47*I47 -> 0 | P47: =SUM(J47:L47)+ O47 -> 0 | Q47: =+P47*0.21 -> 0 | R47: =+P47+Q47 -> 0
A48: novembre | B48: Circuit Municipal de Cros | C48: 1 | D48: 4 | E48: 6 | H48: 8 | I48: 1 | J48: =M8*D48 -> 0 | K48: =M9*E48 -> 0 | N48: =+N14 -> 0 | O48: =N48*H48*I48 -> 0 | P48: =SUM(J48:L48)+ O48 -> 0 | Q48: =+P48*0.21 -> 0 | R48: =+P48+Q48 -> 0
A49: SUBTOTAL | J49: =SUM(J47:J48) -> 0 | K49: =SUM(K47:K48) -> 0 | L49: =SUM(L47:L48) -> 0 | M49: =SUM(M47:M48) -> 0 | N49: =SUM(N47:N48) -> 0 | O49: =SUM(O47:O48) -> 0 | P49: =SUM(P47:P48) -> 0 | Q49: =SUM(Q47:Q48) -> 0 | R49: =SUM(R47:R48) -> 0
A51: FIXOS
A52: DATES | B52: ESPAI | C52: MESOS DE SERVEI | D52: DISPOSITIU | J52: PREUS UNITARIS MES AMB NETEJA QUINZENAL | N52: PREU ANUAL AMB NETEJA QUINZENAL | P52: SUBTOTAL | Q52: IVA | R52: TOTAL
D53: INFRAESTRUCTURA | J53: INFRAESTRUCTURA | N53: INFRAESTRUCTURA
D54: NORMAL | E54: ADAPTAT | F54: URINARIS | G54: MÒDUL | J54: NORMAL | K54: ADAPTAT | L54: URINARIS | M54: MÒDUL | N54: NORMAL | O54: ADAPTAT
A55: tot l’any | B55: Circuit Municipal de BMX | C55: 12 | D55: 1 | E55: 1 | J55: =+K18 -> 0 | K55: =+K19 -> 0 | N55: =+J55*C55*D55 -> 0 | O55: =+K55*C55*E55 -> 0 | P55: =(J55+K55)*C55 -> 0 | Q55: =+P55*0.21 -> 0 | R55: =+P55+Q55 -> 0
A56: tot l’any | B56: Pista Municipal Petanca de Figuera Major | C56: 12 | D56: 1 | E56: 1 | J56: =+K18 -> 0 | K56: =+K19 -> 0 | N56: =+J56*C56*D56 -> 0 | O56: =+K56*C56*E56 -> 0 | P56: =(J56+K56)*C56 -> 0 | Q56: =+P56*0.21 -> 0 | R56: =+P56+Q56 -> 0
A57: tot l’any | B57: Obres diversos equipaments | C57: 12 | D57: 2 | E57: 2 | J57: =+K18 -> 0 | K57: =+K19 -> 0 | N57: =+J57*C57*D57 -> 0 | O57: =+K57*C57*E57 -> 0 | P57: =(J57+K57)*C57 -> 0 | Q57: =+P57*0.21 -> 0 | R57: =+P57+Q57 -> 0
A58: SUBTOTAL | J58: =SUM(J55:J57) -> 0 | K58: =SUM(K55:K57) -> 0 | N58: =SUM(N55:N57) -> 0 | O58: =SUM(O55:O57) -> 0 | P58: =SUM(P55:P57) -> 0 | Q58: =SUM(Q55:Q57) -> 0 | R58: =SUM(R55:R57) -> 0
A61: TOTALS SERVEI D’ESPORTS | P61: =+P58+P49 -> 0 | Q61: =+Q58+Q49 -> 0 | R61: =+R58+R49 -> 0
A64: TOTALS CONTRACTE CULTURA+ ESPORTS | P64: =+P61+P40 -> 0 | Q64: =+Q61+Q40 -> 0 | R64: =+R61+R40 -> 0
