Workbook

Sheet PREUS BASE MÒDULS
B3: TIPOLOGIA SERVEI ESPORÀDIC | D3: IMPORT UNITARI S/IVA | F3: TOTAL AMB IVA | I3: UNITATS | K3: TOTAL S/IVA IVA | L3: TOTAL IVA 21%
B5: CONTENIDOR BLINDAT MAGATZEM | C5: 1,98 X 1,95 | D5: 102.72 | F5: =ROUND(+1.21*D5,2) -> 124.29 | I5: 3 | K5: =I5*D5 -> 308.16 | L5: =K5*1.21 -> 372.8736
C6: 2,50 X 3,00 | D6: =104.16*1.09 -> 113.5344 | F6: =ROUND(+1.21*D6,2) -> 137.38 | I6: 1 | K6: =I6*D6 -> 113.5344 | L6: =K6*1.21 -> 137.37662
C7: 2,50 X 6,00 | D7: 155.23 | F7: =ROUND(+1.21*D7,2) -> 187.83 | I7: 11 | K7: =I7*D7 -> 1707.53 | L7: =K7*1.21 -> 2066.1113
B8: MÒDUL VESTUARI AÏLLAT | C8: 2,35 X 4,00 | D8: 96.43 | F8: =ROUND(+1.21*D8,2) -> 116.68 | I8: 4 | K8: =I8*D8 -> 385.72 | L8: =K8*1.21 -> 466.7212
C9: 2,35 X 6,00 | D9: =96.32*1.05 -> 101.136 | F9: =ROUND(+1.21*D9,2) -> 122.37 | I9: 22 | K9: =I9*D9 -> 2224.992 | L9: =K9*1.21 -> 2692.2403
C10: 2,44 x 6,00 | D10: 108.32 | F10: =ROUND(+1.21*D10,2) -> 131.07 | I10: 3 | K10: =I10*D10 -> 324.96 | L10: =K10*1.21 -> 393.2016
B11: MÒDUL BOTIGA AÏLLAT | C11: 2,22 X 2,22 | D11: =181.44*1.05 -> 190.512 | F11: =ROUND(+1.21*D11,2) -> 230.52 | I11: 1 | K11: =I11*D11 -> 190.512 | L11: =K11*1.21 -> 230.51952
C12: 2,35 X 4,10 | D12: =229.152*1.05 -> 240.6096 | F12: =ROUND(+1.21*D12,2) -> 291.14 | I12: 9 | K12: =I12*D12 -> 2165.4864 | L12: =K12*1.21 -> 2620.2385
C13: 2,35 X 6,00 | D13: =312.48*1.05 -> 328.104 | F13: =ROUND(+1.21*D13,2) -> 397.01 | I13: 1 | K13: =I13*D13 -> 328.104 | L13: =K13*1.21 -> 397.00584
B14: MÒDUL TAQUILLA AÏLLAT | C14: 2,35 X 6,00 (6 finestres) | D14: =336*1.05 -> 352.8 | F14: =ROUND(+1.21*D14,2) -> 426.89 | I14: 1 | K14: =I14*D14 -> 352.8 | L14: =K14*1.21 -> 426.888
K15: =SUM(K5:K14) -> 8101.7988 | L15: =SUM(L5:L14) -> 9803.1765
B17: TIPOLOGIA SERVEI PERMANENT | D17: IMPORT MENSUAL S/IVA | E17: IVA | F17: TOTAL AMB IVA | I17: UNITATS | J17: MESOS | K17: TOTAL S/IVA IVA | L17: TOTAL IVA 21%
B18: CONTENIDOR BLINDAT MAGATZEM | C18: 2,50 X 6,00 | D18: 134.4 | F18: =ROUND(+1.21*D18,2) -> 162.62 | I18: 3 | J18: 8 | K18: =D18*I18*J18 -> 3225.6 | L18: =K18*1.21 -> 3902.976
K19: =#REF!+#REF! -> #REF!
B20: MÒDUL VESTUARI AÏLLAT | C20: 2,35 X 4,00 | D20: 89.6 | F20: =ROUND(+1.21*D20,2) -> 108.42 | I20: 1 | J20: 8 | K20: =D20*I20*J20 -> 716.8 | L20: =K20*1.21 -> 867.328
C21: 2,44 X 6,00 | D21: 104.1 | F21: =ROUND(+1.21*D21,2) -> 125.96 | I21: 1 | J21: 13 | K21: =D21*I21*J21 -> 1353.3 | L21: =K21*1.21 -> 1637.493
K22: =K18+K20+K21 -> 5295.7 | L22: =L18+L20+L21 -> 6407.797
B24: AIRE ACONDICIONAT PELS MÒDULS | C24: SI | D24: 20.16 | F24: =ROUND(+1.21*D24,2) -> 24.39 | I24: 32 | K24: =D24*I24 -> 645.12 | L24: =K24*1.21 -> 780.5952
K25: =SUM(K24:K24) -> 645.12 | L25: =SUM(L24:L24) -> 780.5952
B27: TRANSPORT | C27: ANADA I/O TORNADA | D27: =62.1 -> 62.1 | F27: =ROUND(+1.21*D27,2) -> 75.14 | I27: 117 | K27: =D27*I27 -> 7265.7 | L27: =K27*1.21 -> 8791.497
K28: =SUM(K27:K27) -> 7265.7 | L28: =L27 -> 8791.497
B30: MÒDUL MECANITZAT | C30: SI | D30: =(300+180)*1.05 -> 504 | F30: =ROUND(+1.21*D30,2) -> 609.84 | I30: 1 | K30: =I30*D30 -> 504 | L30: =K30*1.21 -> 609.84
K31: =K30 -> 504 | L31: =L30 -> 609.84
J33: TOTAL | K33: =SUM(K15+K22+K25+K28+K31) -> 21812.319 | L33: =L15+L22+L25+L28+L31 -> 26392.906

Sheet ANNEX ACTIVITAT MÒDUL
B2: DADES DE L'ACTIVITAT | E2: CONTENIDOR BLINDAT | K2: MÒDUL VESTUARI | U2: MÒDUL BOTIGA | AC2: MÒDUL TAQUILLA | AM2: TOTAL S/ IVA | AR2: %
B3: SERVEI | C3: ACTIVITAT | E3: UNITATS | F3: MODEL | G3: TRANSPORT | H3: € | I3: TRANSPORT | J3: € | K3: UNITATS | L3: MODEL | M3: AIRE | N3: MECANITZAT | O3: TRANSPORT | P3: € | Q3: € AIRE | R3: MECANITZAT | S3: TRANSPORT | T3: € | U3: UNITATS | V3: MODEL | W3: AIRE | X3: TRANSPORT | Y3: € | Z3: € AIRE | AA3: TRANSPORT | AB3: € | AC3: UNITATS | AD3: MODEL | AE3: AIRE | AF3: TRANSPORT | AG3: € | AH3: € AIRE | AI3: TRANSPORT | AJ3: € | AM3: MATERIAL | AN3: TRANSPORT | AO3: TOTAL | AP3: Total IVA | AR3: MATERIAL | AS3: TRANSPORT
B5: CULTURA | C5: REIS - CAMPAMENT REIAL | H5: =IFERROR(VLOOKUP(F5,'PREUS BASE MÒDULS'!$C$5:$D$7,2,FALSE())*E5,0) -> 0 | I5: =IFERROR((VLOOKUP(G5,'PREUS BASE MÒDULS'!$C$27:$D$27,2,FALSE())*E5),0) -> 0 | J5: =IFERROR(+H5+I5,0) -> 0 | K5: 2 | L5: 2,35 X 6,00 | M5: SI | N5: NO | O5: ANADA I/O TORNADA | P5: =IFERROR(VLOOKUP(L5,'PREUS BASE MÒDULS'!$C$8:$D$10,2,FALSE())*K5,0) -> 202.272 | Q5: =IFERROR(VLOOKUP(M5,'PREUS BASE MÒDULS'!$C$24:$D$24,2,FALSE())*K5,0) -> 40.32 | R5: =IFERROR(VLOOKUP(N5,'PREUS BASE MÒDULS'!$C$30:$D$30,2,FALSE()),0) -> 0 | S5: =IFERROR((VLOOKUP(O5,'PREUS BASE MÒDULS'!$C$27:$D$27,2,FALSE())*K5),0)*2 -> 248.4 | T5: =IFERROR(+P5+Q5+S5+R5,0) -> 490.992 | Y5: =IFERROR(VLOOKUP(V5,'PREUS BASE MÒDULS'!$C$11:$D$13,2,FALSE())*U5,0) -> 0 | Z5: =IFERROR(VLOOKUP(W5,'PREUS BASE MÒDULS'!$C$24:$D$24,2,FALSE())*U5,0) -> 0 | AA5: =IFERROR((VLOOKUP(X5,'PREUS BASE MÒDULS'!$C$27:$D$27,2,FALSE())*U5),0)*2 -> 0 | AB5: =IFERROR(+Y5+Z5+AA5,0) -> 0 | AG5: =IFERROR(VLOOKUP(AD5,'PREUS BASE MÒDULS'!$C$14:$D$14,2,FALSE()),0) -> 0 | AH5: =IFERROR(VLOOKUP(AE5,'PREUS BASE MÒDULS'!$C$24:$D$24,2,FALSE())*AC5,0) -> 0 | AI5: =IFERROR((VLOOKUP(AF5,'PREUS BASE MÒDULS'!$C$27:$D$27,2,FALSE())*AC5),0) -> 0 | AJ5: =IFERROR(+AG5+AH5+AI5,0) -> 0 | AM5: =ROUND((+AH5+AG5+Z5+Y5+Q5+P5+H5+R5),5) -> 242.592 | AN5: =ROUND((+AI5+AA5+S5+I5),5) -> 248.4 | AO5: =ROUND((+AN5+AM5),7) -> 490.992 | AP5: =AO5*1.21 -> 594.10032 | AR5: =IFERROR(AM5/AO5,"") -> 0.49408544 | AS5: =IFERROR(AN5/AO5,"") -> 0.50591456
B6: CULTURA | C6: CARNESTOLTES - PARC CENTRAL | E6: 1 | F6: 2,50 X 3,00 | G6: ANADA I/O TORNADA | H6: =IFERROR(VLOOKUP(F6,'PREUS BASE MÒDULS'!$C$5:$D$7,2,FALSE())*E6,0) -> 113.5344 | I6: =IFERROR((VLOOKUP(G6,'PREUS BASE MÒDULS'!$C$27:$D$27,2,FALSE())*E6),0)*2 -> 124.2 | J6: =IFERROR(+H6+I6,0) -> 237.7344 | K6: 3 | L6: 2,35 X 6,00 | M6: SI | N6: NO | O6: ANADA I/O TORNADA | P6: =IFERROR(VLOOKUP(L6,'PREUS BASE MÒDULS'!$C$8:$D$10,2,FALSE())*K6,0) -> 303.408 | Q6: =IFERROR(VLOOKUP(M6,'PREUS BASE MÒDULS'!$C$24:$D$24,2,FALSE())*K6,0) -> 60.48 | R6: =IFERROR(VLOOKUP(N6,'PREUS BASE MÒDULS'!$C$30:$F$30,4,FALSE()),0) -> 0 | S6: =IFERROR((VLOOKUP(O6,'PREUS BASE MÒDULS'!$C$27:$D$27,2,FALSE())*K6),0)*2 -> 372.6 | T6: =IFERROR(+P6+Q6+S6+R6,0) -> 736.488 | Y6: =IFERROR(VLOOKUP(V6,'PREUS BASE MÒDULS'!$C$11:$D$13,2,FALSE())*U6,0) -> 0 | Z6: =IFERROR(VLOOKUP(W6,'PREUS BASE MÒDULS'!$C$24:$D$24,2,FALSE())*U6,0) -> 0 | AA6: =IFERROR((VLOOKUP(X6,'PREUS BASE MÒDULS'!$C$27:$D$27,2,FALSE())*U6),0)*2 -> 0 | AB6: =IFERROR(+Y6+Z6+AA6,0) -> 0 | AG6: =IFERROR(VLOOKUP(AD6,'PREUS BASE MÒDULS'!$C$14:$D$14,2,FALSE()),0) -> 0 | AH6: =IFERROR(VLOOKUP(AE6,'PREUS BASE MÒDULS'!$C$24:$D$24,2,FALSE())*AC6,0) -> 0 | AI6: =IFERROR((VLOOKUP(AF6,'PREUS BASE MÒDULS'!$C$27:$D$27,2,FALSE())*AC6),0) -> 0 | AJ6: =IFERROR(+AG6+AH6+AI6,0) -> 0 | AM6: =ROUND((+AH6+AG6+Z6+Y6+Q6+P6+H6+R6),2) -> 477.42 | AN6: =ROUND((+AI6+AA6+S6+I6),5) -> 496.8 | AO6: =ROUND((+AN6+AM6),7) -> 974.22 | AP6: =AO6*1.21 -> 1178.8062 | AR6: =IFERROR(AM6/AO6,"") -> 0.49005358 | AS6: =IFERROR(AN6/AO6,"") -> 0.50994642
B7: CULTURA | C7: FESTES DE BARRI - FESTA BARRI LA LLÀNTIA | H7: =IFERROR(VLOOKUP(F7,'PREUS BASE MÒDULS'!$C$5:$D$7,2,FALSE())*E7,0) -> 0 | I7: =IFERROR((VLOOKUP(G7,'PREUS BASE MÒDULS'!$C$27:$D$27,2,FALSE())*E7),0)*2 -> 0 | J7: =IFERROR(+H7+I7,0) -> 0 | K7: 2 | L7: 2,35 X 6,00 | M7: SI | N7: NO | O7: ANADA I/O TORNADA | P7: =IFERROR(VLOOKUP(L7,'PREUS BASE MÒDULS'!$C$8:$D$10,2,FALSE())*K7,0) -> 202.272 | Q7: =IFERROR(VLOOKUP(M7,'PREUS BASE MÒDULS'!$C$24:$D$24,2,FALSE())*K7,0) -> 40.32 | R7: =IFERROR(VLOOKUP(N7,'PREUS BASE MÒDULS'!$C$30:$F$30,4,FALSE()),0) -> 0 | S7: =IFERROR((VLOOKUP(O7,'PREUS BASE MÒDULS'!$C$27:$D$27,2,FALSE())*K7),0)*2 -> 248.4 | T7: =IFERROR(+P7+Q7+S7+R7,0) -> 490.992 | Y7: =IFERROR(VLOOKUP(V7,'PREUS BASE MÒDULS'!$C$11:$D$13,2,FALSE())*U7,0) -> 0 | Z7: =IFERROR(VLOOKUP(W7,'PREUS BASE MÒDULS'!$C$24:$D$24,2,FALSE())*U7,0) -> 0 | AA7: =IFERROR((VLOOKUP(X7,'PREUS BASE MÒDULS'!$C$27:$D$27,2,FALSE())*U7),0)*2 -> 0 | AB7: =IFERROR(+Y7+Z7+AA7,0) -> 0 | AG7: =IFERROR(VLOOKUP(AD7,'PREUS BASE MÒDULS'!$C$14:$D$14,2,FALSE()),0) -> 0 | AH7: =IFERROR(VLOOKUP(AE7,'PREUS BASE MÒDULS'!$C$24:$D$24,2,FALSE())*AC7,0) -> 0 | AI7: =IFERROR((VLOOKUP(AF7,'PREUS BASE MÒDULS'!$C$27:$D$27,2,FALSE())*AC7),0) -> 0 | AJ7: =IFERROR(+AG7+AH7+AI7,0) -> 0 | AM7: =ROUND((+AH7+AG7+Z7+Y7+Q7+P7+H7+R7),2) -> 242.59 | AN7: =ROUND((+AI7+AA7+S7+I7),5) -> 248.4 | AO7: =ROUND((+AN7+AM7),7) -> 490.99 | AP7: =AO7*1.21 -> 594.0979 | AR7: =IFERROR(AM7/AO7,"") -> 0.49408338 | AS7: =IFERROR(AN7/AO7,"") -> 0.50591662
B8: CULTURA | C8: FESTES DE BARRI - FESTA BARRI MOLINS - TORNER | H8: =IFERROR(VLOOKUP(F8,'PREUS BASE MÒDULS'!$C$5:$D$7,2,FALSE())*E8,0) -> 0 | I8: =IFERROR((VLOOKUP(G8,'PREUS BASE MÒDULS'!$C$27:$D$27,2,FALSE())*E8),0)*2 -> 0 | J8: =IFERROR(+H8+I8,0) -> 0 | K8: 2 | L8: 2,35 X 6,00 | M8: SI | N8: NO | O8: ANADA I/O TORNADA | P8: =IFERROR(VLOOKUP(L8,'PREUS BASE MÒDULS'!$C$8:$D$10,2,FALSE())*K8,0) -> 202.272 | Q8: =IFERROR(VLOOKUP(M8,'PREUS BASE MÒDULS'!$C$24:$D$24,2,FALSE())*K8,0) -> 40.32 | R8: =IFERROR(VLOOKUP(N8,'PREUS BASE MÒDULS'!$C$30:$F$30,4,FALSE()),0) -> 0 | S8: =IFERROR((VLOOKUP(O8,'PREUS BASE MÒDULS'!$C$27:$D$27,2,FALSE())*K8),0)*2 -> 248.4 | T8: =IFERROR(+P8+Q8+S8+R8,0) -> 490.992 | Y8: =IFERROR(VLOOKUP(V8,'PREUS BASE MÒDULS'!$C$11:$D$13,2,FALSE())*U8,0) -> 0 | Z8: =IFERROR(VLOOKUP(W8,'PREUS BASE MÒDULS'!$C$24:$D$24,2,FALSE())*U8,0) -> 0 | AA8: =IFERROR((VLOOKUP(X8,'PREUS BASE MÒDULS'!$C$27:$D$27,2,FALSE())*U8),0)*2 -> 0 | AB8: =IFERROR(+Y8+Z8+AA8,0) -> 0 | AG8: =IFERROR(VLOOKUP(AD8,'PREUS BASE MÒDULS'!$C$14:$D$14,2,FALSE()),0) -> 0 | AH8: =IFERROR(VLOOKUP(AE8,'PREUS BASE MÒDULS'!$C$24:$D$24,2,FALSE())*AC8,0) -> 0 | AI8: =IFERROR((VLOOKUP(AF8,'PREUS BASE MÒDULS'!$C$27:$D$27,2,FALSE())*AC8),0) -> 0 | AJ8: =IFERROR(+AG8+AH8+AI8,0) -> 0 | AM8: =ROUND((+AH8+AG8+Z8+Y8+Q8+P8+H8+R8),2) -> 242.59 | AN8: =ROUND((+AI8+AA8+S8+I8),5) -> 248.4 | AO8: =ROUND((+AN8+AM8),7) -> 490.99 | AP8: =AO8*1.21 -> 594.0979 | AR8: =IFERROR(AM8/AO8,"") -> 0.49408338 | AS8: =IFERROR(AN8/AO8,"") -> 0.50591662
B9: CULTURA | C9: ROMERIA DEL ROCIO | H9: =IFERROR(VLOOKUP(F9,'PREUS BASE MÒDULS'!$C$5:$D$7,2,FALSE())*E9,0) -> 0 | I9: =IFERROR((VLOOKUP(G9,'PREUS BASE MÒDULS'!$C$27:$D$27,2,FALSE())*E9),0)*2 -> 0 | J9: =IFERROR(+H9+I9,0) -> 0 | K9: 1 | L9: 2,35 X 6,00 | M9: SI | N9: NO | O9: ANADA I/O TORNADA | P9: =IFERROR(VLOOKUP(L9,'PREUS BASE MÒDULS'!$C$8:$D$10,2,FALSE())*K9,0) -> 101.136 | Q9: =IFERROR(VLOOKUP(M9,'PREUS BASE MÒDULS'!$C$24:$D$24,2,FALSE())*K9,0) -> 20.16 | R9: =IFERROR(VLOOKUP(N9,'PREUS BASE MÒDULS'!$C$30:$F$30,4,FALSE()),0) -> 0 | S9: =IFERROR((VLOOKUP(O9,'PREUS BASE MÒDULS'!$C$27:$D$27,2,FALSE())*K9),0)*2 -> 124.2 | T9: =IFERROR(+P9+Q9+S9+R9,0) -> 245.496 | Y9: =IFERROR(VLOOKUP(V9,'PREUS BASE MÒDULS'!$C$11:$D$13,2,FALSE())*U9,0) -> 0 | Z9: =IFERROR(VLOOKUP(W9,'PREUS BASE MÒDULS'!$C$24:$D$24,2,FALSE())*U9,0) -> 0 | AA9: =IFERROR((VLOOKUP(X9,'PREUS BASE MÒDULS'!$C$27:$D$27,2,FALSE())*U9),0)*2 -> 0 | AB9: =IFERROR(+Y9+Z9+AA9,0) -> 0 | AG9: =IFERROR(VLOOKUP(AD9,'PREUS BASE MÒDULS'!$C$14:$D$14,2,FALSE()),0) -> 0 | AH9: =IFERROR(VLOOKUP(AE9,'PREUS BASE MÒDULS'!$C$24:$D$24,2,FALSE())*AC9,0) -> 0 | AI9: =IFERROR((VLOOKUP(AF9,'PREUS BASE MÒDULS'!$C$27:$D$27,2,FALSE())*AC9),0) -> 0 | AJ9: =IFERROR(+AG9+AH9+AI9,0) -> 0 | AM9: =ROUND((+AH9+AG9+Z9+Y9+Q9+P9+H9+R9),2) -> 121.3 | AN9: =ROUND((+AI9+AA9+S9+I9),5) -> 124.2 | AO9: =ROUND((+AN9+AM9),7) -> 245.5 | AP9: =AO9*1.21 -> 297.055 | AR9: =IFERROR(AM9/AO9,"") -> 0.49409369 | AS9: =IFERROR(AN9/AO9,"") -> 0.50590631
B10: CULTURA | C10: SANTES - ESPAI FAMILIAR | E10: 2 | F10: 2,50 X 6,00 | G10: ANADA I/O TORNADA | H10: =IFERROR(VLOOKUP(F10,'PREUS BASE MÒDULS'!$C$5:$D$7,2,FALSE())*E10,0) -> 310.46 | I10: =IFERROR((VLOOKUP(G10,'PREUS BASE MÒDULS'!$C$27:$D$27,2,FALSE())*E10),0)*2 -> 248.4 | J10: =IFERROR(+H10+I10,0) -> 558.86 | K10: 2 | L10: 2,35 X 6,00 | M10: SI | N10: NO | O10: ANADA I/O TORNADA | P10: =IFERROR(VLOOKUP(L10,'PREUS BASE MÒDULS'!$C$8:$D$10,2,FALSE())*K10,0) -> 202.272 | Q10: =IFERROR(VLOOKUP(M10,'PREUS BASE MÒDULS'!$C$24:$D$24,2,FALSE())*K10,0) -> 40.32 | R10: =IFERROR(VLOOKUP(N10,'PREUS BASE MÒDULS'!$C$30:$F$30,4,FALSE()),0) -> 0 | S10: =IFERROR((VLOOKUP(O10,'PREUS BASE MÒDULS'!$C$27:$D$27,2,FALSE())*K10),0)*2 -> 248.4 | T10: =IFERROR(+P10+Q10+S10+R10,0) -> 490.992 | Y10: =IFERROR(VLOOKUP(V10,'PREUS BASE MÒDULS'!$C$11:$D$13,2,FALSE())*U10,0) -> 0 | Z10: =IFERROR(VLOOKUP(W10,'PREUS BASE MÒDULS'!$C$24:$D$24,2,FALSE())*U10,0) -> 0 | AA10: =IFERROR((VLOOKUP(X10,'PREUS BASE MÒDULS'!$C$27:$D$27,2,FALSE())*U10),0)*2 -> 0 | AB10: =IFERROR(+Y10+Z10+AA10,0) -> 0 | AG10: =IFERROR(VLOOKUP(AD10,'PREUS BASE MÒDULS'!$C$14:$D$14,2,FALSE()),0) -> 0 | AH10: =IFERROR(VLOOKUP(AE10,'PREUS BASE MÒDULS'!$C$24:$D$24,2,FALSE())*AC10,0) -> 0 | AI10: =IFERROR((VLOOKUP(AF10,'PREUS BASE MÒDULS'!$C$27:$D$27,2,FALSE())*AC10),0) -> 0 | AJ10: =IFERROR(+AG10+AH10+AI10,0) -> 0 | AM10: =ROUND((+AH10+AG10+Z10+Y10+Q10+P10+H10+R10),2) -> 553.05 | AN10: =ROUND((+AI10+AA10+S10+I10),5) -> 496.8 | AO10: =ROUND((+AN10+AM10),7) -> 1049.85 | AP10: =AO10*1.21 -> 1270.3185 | AR10: =IFERROR(AM10/AO10,"") -> 0.52678954 | AS10: =IFERROR(AN10/AO10,"") -> 0.47321046
B11: CULTURA | C11: SANTES - PL .STA. ANNA | ESCENARI | H11: =IFERROR(VLOOKUP(F11,'PREUS BASE MÒDULS'!$C$5:$D$7,2,FALSE())*E11,0) -> 0 | I11: =IFERROR((VLOOKUP(G11,'PREUS BASE MÒDULS'!$C$27:$D$27,2,FALSE())*E11),0)*2 -> 0 | J11: =IFERROR(+H11+I11,0) -> 0 | K11: 2 | L11: 2,35 X 4,00 | M11: SI | N11: NO | O11: ANADA I/O TORNADA | P11: =IFERROR(VLOOKUP(L11,'PREUS BASE MÒDULS'!$C$8:$D$10,2,FALSE())*K11,0) -> 192.86 | Q11: =IFERROR(VLOOKUP(M11,'PREUS BASE MÒDULS'!$C$24:$D$24,2,FALSE())*K11,0) -> 40.32 | R11: =IFERROR(VLOOKUP(N11,'PREUS BASE MÒDULS'!$C$30:$F$30,4,FALSE()),0) -> 0 | S11: =IFERROR((VLOOKUP(O11,'PREUS BASE MÒDULS'!$C$27:$D$27,2,FALSE())*K11),0)*2 -> 248.4 | T11: =IFERROR(+P11+Q11+S11+R11,0) -> 481.58 | Y11: =IFERROR(VLOOKUP(V11,'PREUS BASE MÒDULS'!$C$11:$D$13,2,FALSE())*U11,0) -> 0 | Z11: =IFERROR(VLOOKUP(W11,'PREUS BASE MÒDULS'!$C$24:$D$24,2,FALSE())*U11,0) -> 0 | AA11: =IFERROR((VLOOKUP(X11,'PREUS BASE MÒDULS'!$C$27:$D$27,2,FALSE())*U11),0)*2 -> 0 | AB11: =IFERROR(+Y11+Z11+AA11,0) -> 0 | AG11: =IFERROR(VLOOKUP(AD11,'PREUS BASE MÒDULS'!$C$14:$D$14,2,FALSE()),0) -> 0 | AH11: =IFERROR(VLOOKUP(AE11,'PREUS BASE MÒDULS'!$C$24:$D$24,2,FALSE())*AC11,0) -> 0 | AI11: =IFERROR((VLOOKUP(AF11,'PREUS BASE MÒDULS'!$C$27:$D$27,2,FALSE())*AC11),0) -> 0 | AJ11: =IFERROR(+AG11+AH11+AI11,0) -> 0 | AM11: =ROUND((+AH11+AG11+Z11+Y11+Q11+P11+H11+R11),2) -> 233.18 | AN11: =ROUND((+AI11+AA11+S11+I11),5) -> 248.4 | AO11: =ROUND((+AN11+AM11),7) -> 481.58 | AP11: =AO11*1.21 -> 582.7118 | AR11: =IFERROR(AM11/AO11,"") -> 0.48419785 | AS11: =IFERROR(AN11/AO11,"") -> 0.51580215
B12: CULTURA | C12: SANTES - PL .STA. ANNA | BOTIGA | H12: =IFERROR(VLOOKUP(F12,'PREUS BASE MÒDULS'!$C$5:$D$7,2,FALSE())*E12,0) -> 0 | I12: =IFERROR((VLOOKUP(G12,'PREUS BASE MÒDULS'!$C$27:$D$27,2,FALSE())*E12),0)*2 -> 0 | J12: =IFERROR(+H12+I12,0) -> 0 | K12: 1 | L12: 2,35 X 6,00 | M12: SI | N12: SI | O12: ANADA I/O TORNADA | P12: =IFERROR(VLOOKUP(L12,'PREUS BASE MÒDULS'!$C$8:$D$10,2,FALSE())*K12,0) -> 101.136 | Q12: =IFERROR(VLOOKUP(M12,'PREUS BASE MÒDULS'!$C$24:$D$24,2,FALSE())*K12,0) -> 20.16 | R12: =IFERROR(VLOOKUP(N12,'PREUS BASE MÒDULS'!$C$30:$D$30,2,FALSE()),0) -> 504 | S12: =IFERROR((VLOOKUP(O12,'PREUS BASE MÒDULS'!$C$27:$D$27,2,FALSE())*K12),0)*2 -> 124.2 | T12: =IFERROR(+P12+Q12+S12+R12,0) -> 749.496 | U12: 1 | V12: 2,35 X 6,00 | W12: SI | X12: ANADA I/O TORNADA | Y12: =IFERROR(VLOOKUP(V12,'PREUS BASE MÒDULS'!$C$11:$D$13,2,FALSE())*U12,0) -> 328.104 | Z12: =IFERROR(VLOOKUP(W12,'PREUS BASE MÒDULS'!$C$24:$D$24,2,FALSE())*U12,0) -> 20.16 | AA12: =IFERROR((VLOOKUP(X12,'PREUS BASE MÒDULS'!$C$27:$D$27,2,FALSE())*U12),0)*2 -> 124.2 | AB12: =IFERROR(+Y12+Z12+AA12,0) -> 472.464 | AG12: =IFERROR(VLOOKUP(AD12,'PREUS BASE MÒDULS'!$C$14:$D$14,2,FALSE()),0) -> 0 | AH12: =IFERROR(VLOOKUP(AE12,'PREUS BASE MÒDULS'!$C$24:$D$24,2,FALSE())*AC12,0) -> 0 | AI12: =IFERROR((VLOOKUP(AF12,'PREUS BASE MÒDULS'!$C$27:$D$27,2,FALSE())*AC12),0) -> 0 | AJ12: =IFERROR(+AG12+AH12+AI12,0) -> 0 | AM12: =ROUND((+AH12+AG12+Z12+Y12+Q12+P12+H12+R12),2) -> 973.56 | AN12: =ROUND((+AI12+AA12+S12+I12),5) -> 248.4 | AO12: =ROUND((+AN12+AM12),7) -> 1221.96 | AP12: =AO12*1.21 -> 1478.5716 | AR12: =IFERROR(AM12/AO12,"") -> 0.79672002 | AS12: =IFERROR(AN12/AO12,"") -> 0.20327998
B13: CULTURA | C13: SANTES - PARC CENTRAL ESCENARI | H13: =IFERROR(VLOOKUP(F13,'PREUS BASE MÒDULS'!$C$5:$D$7,2,FALSE())*E13,0) -> 0 | I13: =IFERROR((VLOOKUP(G13,'PREUS BASE MÒDULS'!$C$27:$D$27,2,FALSE())*E13),0)*2 -> 0 | J13: =IFERROR(+H13+I13,0) -> 0 | K13: 3 | L13: 2,35 X 6,00 | M13: SI | N13: NO | O13: ANADA I/O TORNADA | P13: =IFERROR(VLOOKUP(L13,'PREUS BASE MÒDULS'!$C$8:$D$10,2,FALSE())*K13,0) -> 303.408 | Q13: =IFERROR(VLOOKUP(M13,'PREUS BASE MÒDULS'!$C$24:$D$24,2,FALSE())*K13,0) -> 60.48 | R13: =IFERROR(VLOOKUP(N13,'PREUS BASE MÒDULS'!$C$30:$F$30,4,FALSE()),0) -> 0 | S13: =IFERROR((VLOOKUP(O13,'PREUS BASE MÒDULS'!$C$27:$D$27,2,FALSE())*K13),0)*2 -> 372.6 | T13: =IFERROR(+P13+Q13+S13+R13,0) -> 736.488 | Y13: =IFERROR(VLOOKUP(V13,'PREUS BASE MÒDULS'!$C$11:$D$13,2,FALSE())*U13,0) -> 0 | Z13: =IFERROR(VLOOKUP(W13,'PREUS BASE MÒDULS'!$C$24:$D$24,2,FALSE())*U13,0) -> 0 | AA13: =IFERROR((VLOOKUP(X13,'PREUS BASE MÒDULS'!$C$27:$D$27,2,FALSE())*U13),0)*2 -> 0 | AB13: =IFERROR(+Y13+Z13+AA13,0) -> 0 | AG13: =IFERROR(VLOOKUP(AD13,'PREUS BASE MÒDULS'!$C$14:$D$14,2,FALSE()),0) -> 0 | AH13: =IFERROR(VLOOKUP(AE13,'PREUS BASE MÒDULS'!$C$24:$D$24,2,FALSE())*AC13,0) -> 0 | AI13: =IFERROR((VLOOKUP(AF13,'PREUS BASE MÒDULS'!$C$27:$D$27,2,FALSE())*AC13),0) -> 0 | AJ13: =IFERROR(+AG13+AH13+AI13,0) -> 0 | AM13: =ROUND((+AH13+AG13+Z13+Y13+Q13+P13+H13+R13),2) -> 363.89 | AN13: =ROUND((+AI13+AA13+S13+I13),5) -> 372.6 | AO13: =ROUND((+AN13+AM13),7) -> 736.49 | AP13: =AO13*1.21 -> 891.1529 | AR13: =IFERROR(AM13/AO13,"") -> 0.49408682 | AS13: =IFERROR(AN13/AO13,"") -> 0.50591318
B14: CULTURA | C14: SANTES - PASSEIG MARÍTIM | H14: =IFERROR(VLOOKUP(F14,'PREUS BASE MÒDULS'!$C$5:$D$7,2,FALSE())*E14,0) -> 0 | I14: =IFERROR((VLOOKUP(G14,'PREUS BASE MÒDULS'!$C$27:$D$27,2,FALSE())*E14),0)*2 -> 0 | J14: =IFERROR(+H14+I14,0) -> 0 | K14: 4 | L14: 2,35 X 6,00 | M14: SI | N14: NO | O14: ANADA I/O TORNADA | P14: =IFERROR(VLOOKUP(L14,'PREUS BASE MÒDULS'!$C$8:$D$10,2,FALSE())*K14,0) -> 404.544 | Q14: =IFERROR(VLOOKUP(M14,'PREUS BASE MÒDULS'!$C$24:$D$24,2,FALSE())*K14,0) -> 80.64 | R14: =IFERROR(VLOOKUP(N14,'PREUS BASE MÒDULS'!$C$30:$F$30,4,FALSE()),0) -> 0 | S14: =IFERROR((VLOOKUP(O14,'PREUS BASE MÒDULS'!$C$27:$D$27,2,FALSE())*K14),0)*2 -> 496.8 | T14: =IFERROR(+P14+Q14+S14+R14,0) -> 981.984 | Y14: =IFERROR(VLOOKUP(V14,'PREUS BASE MÒDULS'!$C$11:$D$13,2,FALSE())*U14,0) -> 0 | Z14: =IFERROR(VLOOKUP(W14,'PREUS BASE MÒDULS'!$C$24:$D$24,2,FALSE())*U14,0) -> 0 | AA14: =IFERROR((VLOOKUP(X14,'PREUS BASE MÒDULS'!$C$27:$D$27,2,FALSE())*U14),0)*2 -> 0 | AB14: =IFERROR(+Y14+Z14+AA14,0) -> 0 | AG14: =IFERROR(VLOOKUP(AD14,'PREUS BASE MÒDULS'!$C$14:$D$14,2,FALSE()),0) -> 0 | AH14: =IFERROR(VLOOKUP(AE14,'PREUS BASE MÒDULS'!$C$24:$D$24,2,FALSE())*AC14,0) -> 0 | AI14: =IFERROR((VLOOKUP(AF14,'PREUS BASE MÒDULS'!$C$27:$D$27,2,FALSE())*AC14),0) -> 0 | AJ14: =IFERROR(+AG14+AH14+AI14,0) -> 0 | AM14: =ROUND((+AH14+AG14+Z14+Y14+Q14+P14+H14+R14),2) -> 485.18 | AN14: =ROUND((+AI14+AA14+S14+I14),5) -> 496.8 | AO14: =ROUND((+AN14+AM14),7) -> 981.98 | AP14: =AO14*1.21 -> 1188.1958 | AR14: =IFERROR(AM14/AO14,"") -> 0.49408338 | AS14: =IFERROR(AN14/AO14,"") -> 0.50591662
B15: CULTURA | C15: SANTES - PASSEIG MARÍTIM | H15: =IFERROR(VLOOKUP(F15,'PREUS BASE MÒDULS'!$C$5:$D$7,2,FALSE())*E15,0) -> 0 | I15: =IFERROR((VLOOKUP(G15,'PREUS BASE MÒDULS'!$C$27:$D$27,2,FALSE())*E15),0)*2 -> 0 | J15: =IFERROR(+H15+I15,0) -> 0 | K15: 2 | L15: 2,35 X 4,00 | M15: SI | N15: NO | O15: ANADA I/O TORNADA | P15: =IFERROR(VLOOKUP(L15,'PREUS BASE MÒDULS'!$C$8:$D$10,2,FALSE())*K15,0) -> 192.86 | Q15: =IFERROR(VLOOKUP(M15,'PREUS BASE MÒDULS'!$C$24:$D$24,2,FALSE())*K15,0) -> 40.32 | R15: =IFERROR(VLOOKUP(N15,'PREUS BASE MÒDULS'!$C$30:$F$30,4,FALSE()),0) -> 0 | S15: =IFERROR((VLOOKUP(O15,'PREUS BASE MÒDULS'!$C$27:$D$27,2,FALSE())*K15),0)*2 -> 248.4 | T15: =IFERROR(+P15+Q15+S15+R15,0) -> 481.58 | Y15: =IFERROR(VLOOKUP(V15,'PREUS BASE MÒDULS'!$C$11:$D$13,2,FALSE())*U15,0) -> 0 | Z15: =IFERROR(VLOOKUP(W15,'PREUS BASE MÒDULS'!$C$24:$D$24,2,FALSE())*U15,0) -> 0 | AA15: =IFERROR((VLOOKUP(X15,'PREUS BASE MÒDULS'!$C$27:$D$27,2,FALSE())*U15),0)*2 -> 0 | AB15: =IFERROR(+Y15+Z15+AA15,0) -> 0 | AG15: =IFERROR(VLOOKUP(AD15,'PREUS BASE MÒDULS'!$C$14:$D$14,2,FALSE()),0) -> 0 | AH15: =IFERROR(VLOOKUP(AE15,'PREUS BASE MÒDULS'!$C$24:$D$24,2,FALSE())*AC15,0) -> 0 | AI15: =IFERROR((VLOOKUP(AF15,'PREUS BASE MÒDULS'!$C$27:$D$27,2,FALSE())*AC15),0) -> 0 | AJ15: =IFERROR(+AG15+AH15+AI15,0) -> 0 | AM15: =ROUND((+AH15+AG15+Z15+Y15+Q15+P15+H15+R15),2) -> 233.18 | AN15: =ROUND((+AI15+AA15+S15+I15),5) -> 248.4 | AO15: =ROUND((+AN15+AM15),7) -> 481.58 | AP15: =AO15*1.21 -> 582.7118 | AR15: =IFERROR(AM15/AO15,"") -> 0.48419785 | AS15: =IFERROR(AN15/AO15,"") -> 0.51580215
B16: CULTURA | C16: SANTES - ESCAPADA | E16: 3 | F16: 1,98 X 1,95 | G16: ANADA I/O TORNADA | H16: =IFERROR(VLOOKUP(F16,'PREUS BASE MÒDULS'!$C$5:$D$7,2,FALSE())*E16,0) -> 308.16 | I16: =IFERROR((VLOOKUP(G16,'PREUS BASE MÒDULS'!$C$27:$D$27,2,FALSE())*E16),0)*2 -> 372.6 | J16: =IFERROR(+H16+I16,0) -> 680.76 | P16: =IFERROR(VLOOKUP(L16,'PREUS BASE MÒDULS'!$C$8:$D$10,2,FALSE())*K16,0) -> 0 | Q16: =IFERROR(VLOOKUP(M16,'PREUS BASE MÒDULS'!$C$24:$D$24,2,FALSE())*K16,0) -> 0 | R16: =IFERROR(VLOOKUP(N16,'PREUS BASE MÒDULS'!$C$30:$F$30,4,FALSE()),0) -> 0 | S16: =IFERROR((VLOOKUP(O16,'PREUS BASE MÒDULS'!$C$27:$D$27,2,FALSE())*K16),0)*2 -> 0 | T16: =IFERROR(+P16+Q16+S16+R16,0) -> 0 | Y16: =IFERROR(VLOOKUP(V16,'PREUS BASE MÒDULS'!$C$11:$D$13,2,FALSE())*U16,0) -> 0 | Z16: =IFERROR(VLOOKUP(W16,'PREUS BASE MÒDULS'!$C$24:$D$24,2,FALSE())*U16,0) -> 0 | AA16: =IFERROR((VLOOKUP(X16,'PREUS BASE MÒDULS'!$C$27:$D$27,2,FALSE())*U16),0)*2 -> 0 | AB16: =IFERROR(+Y16+Z16+AA16,0) -> 0 | AG16: =IFERROR(VLOOKUP(AD16,'PREUS BASE MÒDULS'!$C$14:$D$14,2,FALSE()),0) -> 0 | AH16: =IFERROR(VLOOKUP(AE16,'PREUS BASE MÒDULS'!$C$24:$D$24,2,FALSE())*AC16,0) -> 0 | AI16: =IFERROR((VLOOKUP(AF16,'PREUS BASE MÒDULS'!$C$27:$D$27,2,FALSE())*AC16),0) -> 0 | AJ16: =IFERROR(+AG16+AH16+AI16,0) -> 0 | AM16: =ROUND((+AH16+AG16+Z16+Y16+Q16+P16+H16+R16),2) -> 308.16 | AN16: =ROUND((+AI16+AA16+S16+I16),5) -> 372.6 | AO16: =ROUND((+AN16+AM16),7) -> 680.76 | AP16: =AO16*1.21 -> 823.7196 | AR16: =IFERROR(AM16/AO16,"") -> 0.45267054 | AS16: =IFERROR(AN16/AO16,"") -> 0.54732946
B17: CULTURA | C17: SANTES - HAVANERES | E17: 3 | F17: 2,50 X 6,00 | G17: ANADA I/O TORNADA | H17: =IFERROR(VLOOKUP(F17,'PREUS BASE MÒDULS'!$C$5:$D$7,2,FALSE())*E17,0) -> 465.69 | I17: =IFERROR((VLOOKUP(G17,'PREUS BASE MÒDULS'!$C$27:$D$27,2,FALSE())*E17),0) -> 186.3 | J17: =IFERROR(+H17+I17,0) -> 651.99 | P17: =IFERROR(VLOOKUP(L17,'PREUS BASE MÒDULS'!$C$8:$D$10,2,FALSE())*K17,0) -> 0 | Q17: =IFERROR(VLOOKUP(M17,'PREUS BASE MÒDULS'!$C$24:$D$24,2,FALSE())*K17,0) -> 0 | R17: =IFERROR(VLOOKUP(N17,'PREUS BASE MÒDULS'!$C$30:$F$30,4,FALSE()),0) -> 0 | S17: =IFERROR((VLOOKUP(O17,'PREUS BASE MÒDULS'!$C$27:$D$27,2,FALSE())*K17),0)*2 -> 0 | T17: =IFERROR(+P17+Q17+S17+R17,0) -> 0 | Y17: =IFERROR(VLOOKUP(V17,'PREUS BASE MÒDULS'!$C$11:$D$13,2,FALSE())*U17,0) -> 0 | Z17: =IFERROR(VLOOKUP(W17,'PREUS BASE MÒDULS'!$C$24:$D$24,2,FALSE())*U17,0) -> 0 | AA17: =IFERROR((VLOOKUP(X17,'PREUS BASE MÒDULS'!$C$27:$D$27,2,FALSE())*U17),0)*2 -> 0 | AB17: =IFERROR(+Y17+Z17+AA17,0) -> 0 | AG17: =IFERROR(VLOOKUP(AD17,'PREUS BASE MÒDULS'!$C$14:$D$14,2,FALSE()),0) -> 0 | AH17: =IFERROR(VLOOKUP(AE17,'PREUS BASE MÒDULS'!$C$24:$D$24,2,FALSE())*AC17,0) -> 0 | AI17: =IFERROR((VLOOKUP(AF17,'PREUS BASE MÒDULS'!$C$27:$D$27,2,FALSE())*AC17),0)*2 -> 0 | AJ17: =IFERROR(+AG17+AH17+AI17,0) -> 0 | AM17: =ROUND((+AH17+AG17+Z17+Y17+Q17+P17+H17+R17),2) -> 465.69 | AN17: =ROUND((+AI17+AA17+S17+I17),5) -> 186.3 | AO17: =ROUND((+AN17+AM17),7) -> 651.99 | AP17: =AO17*1.21 -> 788.9079 | AR17: =IFERROR(AM17/AO17,"") -> 0.71425942 | AS17: =IFERROR(AN17/AO17,"") -> 0.28574058
B18: CULTURA | C18: SANTES - REQUISITS | E18: 3 | F18: 2,50 X 6,00 | G18: ANADA I/O TORNADA | H18: =IFERROR(VLOOKUP(F18,'PREUS BASE MÒDULS'!$C$5:$D$7,2,FALSE())*E18,0) -> 465.69 | I18: =IFERROR((VLOOKUP(G18,'PREUS BASE MÒDULS'!$C$27:$D$27,2,FALSE())*E18),0)*2 -> 372.6 | J18: =IFERROR(+H18+I18,0) -> 838.29 | P18: =IFERROR(VLOOKUP(L18,'PREUS BASE MÒDULS'!$C$8:$D$10,2,FALSE())*K18,0) -> 0 | Q18: =IFERROR(VLOOKUP(M18,'PREUS BASE MÒDULS'!$C$24:$D$24,2,FALSE())*K18,0) -> 0 | R18: =IFERROR(VLOOKUP(N18,'PREUS BASE MÒDULS'!$C$30:$F$30,4,FALSE()),0) -> 0 | S18: =IFERROR((VLOOKUP(O18,'PREUS BASE MÒDULS'!$C$27:$D$27,2,FALSE())*K18),0)*2 -> 0 | T18: =IFERROR(+P18+Q18+S18+R18,0) -> 0 | Y18: =IFERROR(VLOOKUP(V18,'PREUS BASE MÒDULS'!$C$11:$D$13,2,FALSE())*U18,0) -> 0 | Z18: =IFERROR(VLOOKUP(W18,'PREUS BASE MÒDULS'!$C$24:$D$24,2,FALSE())*U18,0) -> 0 | AA18: =IFERROR((VLOOKUP(X18,'PREUS BASE MÒDULS'!$C$27:$D$27,2,FALSE())*U18),0)*2 -> 0 | AB18: =IFERROR(+Y18+Z18+AA18,0) -> 0 | AG18: =IFERROR(VLOOKUP(AD18,'PREUS BASE MÒDULS'!$C$14:$D$14,2,FALSE()),0) -> 0 | AH18: =IFERROR(VLOOKUP(AE18,'PREUS BASE MÒDULS'!$C$24:$D$24,2,FALSE())*AC18,0) -> 0 | AI18: =IFERROR((VLOOKUP(AF18,'PREUS BASE MÒDULS'!$C$27:$D$27,2,FALSE())*AC18),0)*2 -> 0 | AJ18: =IFERROR(+AG18+AH18+AI18,0) -> 0 | AM18: =ROUND((+AH18+AG18+Z18+Y18+Q18+P18+H18+R18),2) -> 465.69 | AN18: =ROUND((+AI18+AA18+S18+I18),5) -> 372.6 | AO18: =ROUND((+AN18+AM18),7) -> 838.29 | AP18: =AO18*1.21 -> 1014.3309 | AR18: =IFERROR(AM18/AO18,"") -> 0.55552374 | AS18: =IFERROR(AN18/AO18,"") -> 0.44447626
B19: CULTURA | C19: SANTES - LLAR CABANELLAS | H19: =IFERROR(VLOOKUP(F19,'PREUS BASE MÒDULS'!$C$5:$D$7,2,FALSE())*E19,0) -> 0 | I19: =IFERROR((VLOOKUP(G19,'PREUS BASE MÒDULS'!$C$27:$D$27,2,FALSE())*E19),0)*2 -> 0 | J19: =IFERROR(+H19+I19,0) -> 0 | K19: 2 | L19: 2,35 X 6,00 | M19: SI | N19: NO | O19: ANADA I/O TORNADA | P19: =IFERROR(VLOOKUP(L19,'PREUS BASE MÒDULS'!$C$8:$D$10,2,FALSE())*K19,0) -> 202.272 | Q19: =IFERROR(VLOOKUP(M19,'PREUS BASE MÒDULS'!$C$24:$D$24,2,FALSE())*K19,0) -> 40.32 | R19: =IFERROR(VLOOKUP(N19,'PREUS BASE MÒDULS'!$C$30:$F$30,4,FALSE()),0) -> 0 | S19: =IFERROR((VLOOKUP(O19,'PREUS BASE MÒDULS'!$C$27:$D$27,2,FALSE())*K19),0)*2 -> 248.4 | T19: =IFERROR(+P19+Q19+S19+R19,0) -> 490.992 | Y19: =IFERROR(VLOOKUP(V19,'PREUS BASE MÒDULS'!$C$11:$D$13,2,FALSE())*U19,0) -> 0 | Z19: =IFERROR(VLOOKUP(W19,'PREUS BASE MÒDULS'!$C$24:$D$24,2,FALSE())*U19,0) -> 0 | AA19: =IFERROR((VLOOKUP(X19,'PREUS BASE MÒDULS'!$C$27:$D$27,2,FALSE())*U19),0)*2 -> 0 | AB19: =IFERROR(+Y19+Z19+AA19,0) -> 0 | AG19: =IFERROR(VLOOKUP(AD19,'PREUS BASE MÒDULS'!$C$14:$D$14,2,FALSE()),0) -> 0 | AH19: =IFERROR(VLOOKUP(AE19,'PREUS BASE MÒDULS'!$C$24:$D$24,2,FALSE())*AC19,0) -> 0 | AI19: =IFERROR((VLOOKUP(AF19,'PREUS BASE MÒDULS'!$C$27:$D$27,2,FALSE())*AC19),0)*2 -> 0 | AJ19: =IFERROR(+AG19+AH19+AI19,0) -> 0 | AM19: =ROUND((+AH19+AG19+Z19+Y19+Q19+P19+H19+R19),2) -> 242.59 | AN19: =ROUND((+AI19+AA19+S19+I19),5) -> 248.4 | AO19: =ROUND((+AN19+AM19),7) -> 490.99 | AP19: =AO19*1.21 -> 594.0979 | AR19: =IFERROR(AM19/AO19,"") -> 0.49408338 | AS19: =IFERROR(AN19/AO19,"") -> 0.50591662
B20: CULTURA | C20: SANTES INDETERMINAT | I20: =IFERROR((VLOOKUP(G20,'PREUS BASE MÒDULS'!$C$27:$D$27,2,FALSE())*E20),0)*2 -> 0 | S20: =IFERROR((VLOOKUP(O20,'PREUS BASE MÒDULS'!$C$27:$D$27,2,FALSE())*K20),0)*2 -> 0 | U20: 1 | V20: 2,22 X 2,22 | Y20: =IFERROR(VLOOKUP(V20,'PREUS BASE MÒDULS'!$C$11:$D$13,2,FALSE())*U20,0) -> 190.512 | Z20: =IFERROR(VLOOKUP(W20,'PREUS BASE MÒDULS'!$C$24:$D$24,2,FALSE())*U20,0) -> 0 | AA20: =IFERROR((VLOOKUP(X20,'PREUS BASE MÒDULS'!$C$27:$D$27,2,FALSE())*U20),0)*2 -> 0 | AB20: =IFERROR(+Y20+Z20+AA20,0) -> 190.512 | AC20: 1 | AD20: 2,35 X 6,00 (6 finestres) | AG20: =IFERROR(VLOOKUP(AD20,'PREUS BASE MÒDULS'!$C$14:$D$14,2,FALSE()),0) -> 352.8 | AH20: =IFERROR(VLOOKUP(AE20,'PREUS BASE MÒDULS'!$C$24:$D$24,2,FALSE())*AC20,0) -> 0 | AI20: =IFERROR((VLOOKUP(AF20,'PREUS BASE MÒDULS'!$C$27:$D$27,2,FALSE())*AC20),0)*2 -> 0 | AJ20: =IFERROR(+AG20+AH20+AI20,0) -> 352.8 | AM20: =ROUND((+AH20+AG20+Z20+Y20+Q20+P20+H20+R20),2) -> 543.31 | AN20: =ROUND((+AI20+AA20+S20+I20),5) -> 0 | AO20: =ROUND((+AN20+AM20),7) -> 543.31 | AP20: =AO20*1.21 -> 657.4051 | AR20: =IFERROR(AM20/AO20,"") -> 1 | AS20: =IFERROR(AN20/AO20,"") -> 0
B21: ESPORTS | C21: CURSA SANTES | E21: 2 | F21: 2,50 X 6,00 | G21: ANADA I/O TORNADA | H21: =IFERROR(VLOOKUP(F21,'PREUS BASE MÒDULS'!$C$5:$D$7,2,FALSE())*E21,0) -> 310.46 | I21: =IFERROR((VLOOKUP(G21,'PREUS BASE MÒDULS'!$C$27:$D$27,2,FALSE())*E21),0)*2 -> 248.4 | J21: =IFERROR(+H21+I21,0) -> 558.86 | K21: 2 | L21: 2,44 x 6,00 | M21: SI | N21: NO | O21: ANADA I/O TORNADA | P21: =IFERROR(VLOOKUP(L21,'PREUS BASE MÒDULS'!$C$8:$D$10,2,FALSE())*K21,0) -> 216.64 | Q21: =IFERROR(VLOOKUP(M21,'PREUS BASE MÒDULS'!$C$24:$D$24,2,FALSE())*K21,0) -> 40.32 | R21: =IFERROR(VLOOKUP(N21,'PREUS BASE MÒDULS'!$C$30:$F$30,4,FALSE()),0) -> 0 | S21: =IFERROR((VLOOKUP(O21,'PREUS BASE MÒDULS'!$C$27:$D$27,2,FALSE())*K21),0)*2 -> 248.4 | T21: =IFERROR(+P21+Q21+S21+R21,0) -> 505.36 | Y21: =IFERROR(VLOOKUP(V21,'PREUS BASE MÒDULS'!$C$11:$D$13,2,FALSE())*U21,0) -> 0 | Z21: =IFERROR(VLOOKUP(W21,'PREUS BASE MÒDULS'!$C$24:$D$24,2,FALSE())*U21,0) -> 0 | AA21: =IFERROR((VLOOKUP(X21,'PREUS BASE MÒDULS'!$C$27:$D$27,2,FALSE())*U21),0)*2 -> 0 | AB21: =IFERROR(+Y21+Z21+AA21,0) -> 0 | AG21: =IFERROR(VLOOKUP(AD21,'PREUS BASE MÒDULS'!$C$14:$D$14,2,FALSE()),0) -> 0 | AH21: =IFERROR(VLOOKUP(AE21,'PREUS BASE MÒDULS'!$C$24:$D$24,2,FALSE())*AC21,0) -> 0 | AI21: =IFERROR((VLOOKUP(AF21,'PREUS BASE MÒDULS'!$C$27:$D$27,2,FALSE())*AC21),0)*2 -> 0 | AJ21: =IFERROR(+AG21+AH21+AI21,0) -> 0 | AM21: =ROUND((+AH21+AG21+Z21+Y21+Q21+P21+H21+R21),2) -> 567.42 | AN21: =ROUND((+AI21+AA21+S21+I21),5) -> 496.8 | AO21: =ROUND((+AN21+AM21),7) -> 1064.22 | AP21: =AO21*1.21 -> 1287.7062 | AR21: =IFERROR(AM21/AO21,"") -> 0.53317923 | AS21: =IFERROR(AN21/AO21,"") -> 0.46682077
B22: ESPORTS | C22: CROS CIUTAT MATARÓ | E22: 1 | F22: 2,50 X 6,00 | G22: ANADA I/O TORNADA | H22: =IFERROR(VLOOKUP(F22,'PREUS BASE MÒDULS'!$C$5:$D$7,2,FALSE())*E22,0) -> 155.23 | I22: =IFERROR((VLOOKUP(G22,'PREUS BASE MÒDULS'!$C$27:$D$27,2,FALSE())*E22),0)*2 -> 124.2 | J22: =IFERROR(+H22+I22,0) -> 279.43 | K22: 1 | L22: 2,44 x 6,00 | M22: SI | N22: NO | O22: ANADA I/O TORNADA | P22: =IFERROR(VLOOKUP(L22,'PREUS BASE MÒDULS'!$C$8:$D$10,2,FALSE())*K22,0) -> 108.32 | Q22: =IFERROR(VLOOKUP(M22,'PREUS BASE MÒDULS'!$C$24:$D$24,2,FALSE())*K22,0) -> 20.16 | R22: =IFERROR(VLOOKUP(N22,'PREUS BASE MÒDULS'!$C$30:$F$30,4,FALSE()),0) -> 0 | S22: =IFERROR((VLOOKUP(O22,'PREUS BASE MÒDULS'!$C$27:$D$27,2,FALSE())*K22),0)*2 -> 124.2 | T22: =IFERROR(+P22+Q22+S22+R22,0) -> 252.68 | Y22: =IFERROR(VLOOKUP(V22,'PREUS BASE MÒDULS'!$C$11:$D$13,2,FALSE())*U22,0) -> 0 | Z22: =IFERROR(VLOOKUP(W22,'PREUS BASE MÒDULS'!$C$24:$D$24,2,FALSE())*U22,0) -> 0 | AA22: =IFERROR((VLOOKUP(X22,'PREUS BASE MÒDULS'!$C$27:$D$27,2,FALSE())*U22),0)*2 -> 0 | AB22: =IFERROR(+Y22+Z22+AA22,0) -> 0 | AG22: =IFERROR(VLOOKUP(AD22,'PREUS BASE MÒDULS'!$C$14:$D$14,2,FALSE()),0) -> 0 | AH22: =IFERROR(VLOOKUP(AE22,'PREUS BASE MÒDULS'!$C$24:$D$24,2,FALSE())*AC22,0) -> 0 | AI22: =IFERROR((VLOOKUP(AF22,'PREUS BASE MÒDULS'!$C$27:$D$27,2,FALSE())*AC22),0)*2 -> 0 | AJ22: =IFERROR(+AG22+AH22+AI22,0) -> 0 | AM22: =ROUND((+AH22+AG22+Z22+Y22+Q22+P22+H22+R22),2) -> 283.71 | AN22: =ROUND((+AI22+AA22+S22+I22),5) -> 248.4 | AO22: =ROUND((+AN22+AM22),7) -> 532.11 | AP22: =AO22*1.21 -> 643.8531 | AR22: =IFERROR(AM22/AO22,"") -> 0.53317923 | AS22: =IFERROR(AN22/AO22,"") -> 0.46682077
B23: ESPORTS | C23: CMP VISTA ALEGRE (12 MESOS) | H23: =IFERROR(VLOOKUP(F23,'PREUS BASE MÒDULS'!$C$5:$F$7,4,FALSE())*E23,0) -> 0 | I23: =IFERROR((VLOOKUP(G23,'PREUS BASE MÒDULS'!$C$27:$D$27,2,FALSE())*E23),0)*2 -> 0 | J23: =IFERROR(+H23+I23,0) -> 0 | K23: 1 | L23: 2,44 x 6,00 | M23: NO | N23: NO | O23: ANADA I/O TORNADA | P23: =IFERROR(VLOOKUP(L23,'PREUS BASE MÒDULS'!$C$20:$D$21,2,FALSE())*K23,0)*12 -> 1249.2 | Q23: =IFERROR(VLOOKUP(M23,'PREUS BASE MÒDULS'!$C$24:$D$24,2,FALSE())*K23,0) -> 0 | R23: =IFERROR(VLOOKUP(N23,'PREUS BASE MÒDULS'!$C$30:$F$30,4,FALSE()),0) -> 0 | S23: =IFERROR((VLOOKUP(O23,'PREUS BASE MÒDULS'!$C$27:$D$27,2,FALSE())*K23),0)*2 -> 124.2 | T23: =IFERROR(+P23+Q23+S23+R23,0) -> 1373.4 | Y23: =IFERROR(VLOOKUP(V23,'PREUS BASE MÒDULS'!$C$11:$D$13,2,FALSE())*U23,0) -> 0 | Z23: =IFERROR(VLOOKUP(W23,'PREUS BASE MÒDULS'!$C$24:$D$24,2,FALSE())*U23,0) -> 0 | AA23: =IFERROR((VLOOKUP(X23,'PREUS BASE MÒDULS'!$C$27:$D$27,2,FALSE())*U23),0)*2 -> 0 | AB23: =IFERROR(+Y23+Z23+AA23,0) -> 0 | AG23: =IFERROR(VLOOKUP(AD23,'PREUS BASE MÒDULS'!$C$14:$D$14,2,FALSE()),0) -> 0 | AH23: =IFERROR(VLOOKUP(AE23,'PREUS BASE MÒDULS'!$C$24:$D$24,2,FALSE())*AC23,0) -> 0 | AI23: =IFERROR((VLOOKUP(AF23,'PREUS BASE MÒDULS'!$C$27:$D$27,2,FALSE())*AC23),0)*2 -> 0 | AJ23: =IFERROR(+AG23+AH23+AI23,0) -> 0 | AM23: =ROUND((+AH23+AG23+Z23+Y23+Q23+P23+H23+R23),2) -> 1249.2 | AN23: =ROUND((+AI23+AA23+S23+I23),5) -> 124.2 | AO23: =ROUND((+AN23+AM23),7) -> 1373.4 | AP23: =AO23*1.21 -> 1661.814 | AR23: =IFERROR(AM23/AO23,"") -> 0.9095675 | AS23: =IFERROR(AN23/AO23,"") -> 0.090432503
B24: ESPORTS | C24: POLIESPORTIU EUSEBI MILLAN (8 MES0S) | E24: 2 | F24: 2,50 X 6,00 | G24: ANADA I/O TORNADA | H24: =IFERROR(VLOOKUP(F24,'PREUS BASE MÒDULS'!$C$15:$D$18,2,FALSE())*E24,0)*8 -> 2150.4 | I24: =IFERROR((VLOOKUP(G24,'PREUS BASE MÒDULS'!$C$27:$D$27,2,FALSE())*E24),0)*2 -> 248.4 | J24: =IFERROR(+H24+I24,0) -> 2398.8 | K24: 1 | L24: 2,35 X 4,00 | M24: SI | N24: NO | O24: ANADA I/O TORNADA | P24: =IFERROR(VLOOKUP(L24,'PREUS BASE MÒDULS'!$C$19:$D$20,2,FALSE())*K24,0)*8 -> 716.8 | Q24: =IFERROR(VLOOKUP(M24,'PREUS BASE MÒDULS'!$C$24:$D$24,2,FALSE())*K24,0) -> 20.16 | R24: =IFERROR(VLOOKUP(N24,'PREUS BASE MÒDULS'!$C$30:$F$30,4,FALSE()),0) -> 0 | S24: =IFERROR((VLOOKUP(O24,'PREUS BASE MÒDULS'!$C$27:$D$27,2,FALSE())*K24),0)*2 -> 124.2 | T24: =IFERROR(+P24+Q24+S24+R24,0) -> 861.16 | Y24: =IFERROR(VLOOKUP(V24,'PREUS BASE MÒDULS'!$C$11:$D$13,2,FALSE())*U24,0) -> 0 | Z24: =IFERROR(VLOOKUP(W24,'PREUS BASE MÒDULS'!$C$24:$D$24,2,FALSE())*U24,0) -> 0 | AA24: =IFERROR((VLOOKUP(X24,'PREUS BASE MÒDULS'!$C$27:$D$27,2,FALSE())*U24),0)*2 -> 0 | AB24: =IFERROR(+Y24+Z24+AA24,0) -> 0 | AG24: =IFERROR(VLOOKUP(AD24,'PREUS BASE MÒDULS'!$C$14:$D$14,2,FALSE()),0) -> 0 | AH24: =IFERROR(VLOOKUP(AE24,'PREUS BASE MÒDULS'!$C$24:$D$24,2,FALSE())*AC24,0) -> 0 | AI24: =IFERROR((VLOOKUP(AF24,'PREUS BASE MÒDULS'!$C$27:$D$27,2,FALSE())*AC24),0)*2 -> 0 | AJ24: =IFERROR(+AG24+AH24+AI24,0) -> 0 | AM24: =ROUND((+AH24+AG24+Z24+Y24+Q24+P24+H24+R24),2) -> 2887.36 | AN24: =ROUND((+AI24+AA24+S24+I24),5) -> 372.6 | AO24: =ROUND((+AN24+AM24),7) -> 3259.96 | AP24: =AO24*1.21 -> 3944.5516 | AR24: =IFERROR(AM24/AO24,"") -> 0.88570412 | AS24: =IFERROR(AN24/AO24,"") -> 0.11429588
B25: ESPORTS | C25: PISTA PETANCA (8 MESOS) | E25: 1 | F25: 2,50 X 6,00 | G25: ANADA I/O TORNADA | H25: =IFERROR(VLOOKUP(F25,'PREUS BASE MÒDULS'!$C$15:$D$18,2,FALSE())*E25,0)*8 -> 1075.2 | I25: =IFERROR((VLOOKUP(G25,'PREUS BASE MÒDULS'!$C$27:$D$27,2,FALSE())*E25),0)*2 -> 124.2 | J25: =IFERROR(+H25+I25,0) -> 1199.4 | P25: =IFERROR(VLOOKUP(L25,'PREUS BASE MÒDULS'!$C$8:$F$10,4,FALSE())*K25,0) -> 0 | Q25: =IFERROR(VLOOKUP(M25,'PREUS BASE MÒDULS'!$C$24:$D$24,2,FALSE())*K25,0) -> 0 | R25: =IFERROR(VLOOKUP(N25,'PREUS BASE MÒDULS'!$C$30:$F$30,4,FALSE()),0) -> 0 | S25: =IFERROR((VLOOKUP(O25,'PREUS BASE MÒDULS'!$C$27:$D$27,2,FALSE())*K25),0)*2 -> 0 | T25: =IFERROR(+P25+Q25+S25+R25,0) -> 0 | Y25: =IFERROR(VLOOKUP(V25,'PREUS BASE MÒDULS'!$C$11:$D$13,2,FALSE())*U25,0) -> 0 | Z25: =IFERROR(VLOOKUP(W25,'PREUS BASE MÒDULS'!$C$24:$D$24,2,FALSE())*U25,0) -> 0 | AA25: =IFERROR((VLOOKUP(X25,'PREUS BASE MÒDULS'!$C$27:$D$27,2,FALSE())*U25),0)*2 -> 0 | AB25: =IFERROR(+Y25+Z25+AA25,0) -> 0 | AG25: =IFERROR(VLOOKUP(AD25,'PREUS BASE MÒDULS'!$C$14:$D$14,2,FALSE()),0) -> 0 | AH25: =IFERROR(VLOOKUP(AE25,'PREUS BASE MÒDULS'!$C$24:$D$24,2,FALSE())*AC25,0) -> 0 | AI25: =IFERROR((VLOOKUP(AF25,'PREUS BASE MÒDULS'!$C$27:$D$27,2,FALSE())*AC25),0)*2 -> 0 | AJ25: =IFERROR(+AG25+AH25+AI25,0) -> 0 | AM25: =ROUND((+AH25+AG25+Z25+Y25+Q25+P25+H25+R25),2) -> 1075.2 | AN25: =ROUND((+AI25+AA25+S25+I25),5) -> 124.2 | AO25: =ROUND((+AN25+AM25),7) -> 1199.4 | AP25: =AO25*1.21 -> 1451.274 | AR25: =IFERROR(AM25/AO25,"") -> 0.89644822 | AS25: =IFERROR(AN25/AO25,"") -> 0.10355178
B26: IGUALTAT | C26: CAP D´ANY | H26: =IFERROR(VLOOKUP(F26,'PREUS BASE MÒDULS'!$C$5:$F$7,4,FALSE())*E26,0) -> 0 | I26: =IFERROR((VLOOKUP(G26,'PREUS BASE MÒDULS'!$C$27:$D$27,2,FALSE())*E26),0)*2 -> 0 | J26: =IFERROR(+H26+I26,0) -> 0 | P26: =IFERROR(VLOOKUP(L26,'PREUS BASE MÒDULS'!$C$8:$F$10,4,FALSE())*K26,0) -> 0 | Q26: =IFERROR(VLOOKUP(M26,'PREUS BASE MÒDULS'!$C$24:$D$24,2,FALSE())*K26,0) -> 0 | R26: =IFERROR(VLOOKUP(N26,'PREUS BASE MÒDULS'!$C$30:$F$30,4,FALSE()),0) -> 0 | S26: =IFERROR((VLOOKUP(O26,'PREUS BASE MÒDULS'!$C$27:$D$27,2,FALSE())*K26),0)*2 -> 0 | T26: =IFERROR(+P26+Q26+S26+R26,0) -> 0 | U26: 1 | V26: 2,35 X 4,10 | W26: NO | X26: ANADA I/O TORNADA | Y26: =IFERROR(VLOOKUP(V26,'PREUS BASE MÒDULS'!$C$11:$D$13,2,FALSE())*U26,0) -> 240.6096 | Z26: =IFERROR(VLOOKUP(W26,'PREUS BASE MÒDULS'!$C$24:$D$24,2,FALSE())*U26,0) -> 0 | AA26: =IFERROR((VLOOKUP(X26,'PREUS BASE MÒDULS'!$C$27:$D$27,2,FALSE())*U26),0)*2 -> 124.2 | AB26: =IFERROR(+Y26+Z26+AA26,0) -> 364.8096 | AG26: =IFERROR(VLOOKUP(AD26,'PREUS BASE MÒDULS'!$C$14:$D$14,2,FALSE()),0) -> 0 | AH26: =IFERROR(VLOOKUP(AE26,'PREUS BASE MÒDULS'!$C$24:$D$24,2,FALSE())*AC26,0) -> 0 | AI26: =IFERROR((VLOOKUP(AF26,'PREUS BASE MÒDULS'!$C$27:$D$27,2,FALSE())*AC26),0)*2 -> 0 | AJ26: =IFERROR(+AG26+AH26+AI26,0) -> 0 | AM26: =ROUND((+AH26+AG26+Z26+Y26+Q26+P26+H26+R26),2) -> 240.61 | AN26: =ROUND((+AI26+AA26+S26+I26),5) -> 124.2 | AO26: =ROUND((+AN26+AM26),7) -> 364.81 | AP26: =AO26*1.21 -> 441.4201 | AR26: =IFERROR(AM26/AO26,"") -> 0.65954881 | AS26: =IFERROR(AN26/AO26,"") -> 0.34045119
B27: IGUALTAT | C27: CARNESTOLTES - | H27: =IFERROR(VLOOKUP(F27,'PREUS BASE MÒDULS'!$C$5:$F$7,4,FALSE())*E27,0) -> 0 | I27: =IFERROR((VLOOKUP(G27,'PREUS BASE MÒDULS'!$C$27:$D$27,2,FALSE())*E27),0)*2 -> 0 | J27: =IFERROR(+H27+I27,0) -> 0 | P27: =IFERROR(VLOOKUP(L27,'PREUS BASE MÒDULS'!$C$8:$F$10,4,FALSE())*K27,0) -> 0 | Q27: =IFERROR(VLOOKUP(M27,'PREUS BASE MÒDULS'!$C$24:$D$24,2,FALSE())*K27,0) -> 0 | R27: =IFERROR(VLOOKUP(N27,'PREUS BASE MÒDULS'!$C$30:$F$30,4,FALSE()),0) -> 0 | S27: =IFERROR((VLOOKUP(O27,'PREUS BASE MÒDULS'!$C$27:$D$27,2,FALSE())*K27),0)*2 -> 0 | T27: =IFERROR(+P27+Q27+S27+R27,0) -> 0 | U27: 1 | V27: 2,35 X 4,10 | W27: NO | X27: ANADA I/O TORNADA | Y27: =IFERROR(VLOOKUP(V27,'PREUS BASE MÒDULS'!$C$11:$D$13,2,FALSE())*U27,0) -> 240.6096 | Z27: =IFERROR(VLOOKUP(W27,'PREUS BASE MÒDULS'!$C$24:$D$24,2,FALSE())*U27,0) -> 0 | AA27: =IFERROR((VLOOKUP(X27,'PREUS BASE MÒDULS'!$C$27:$D$27,2,FALSE())*U27),0)*2 -> 124.2 | AB27: =IFERROR(+Y27+Z27+AA27,0) -> 364.8096 | AG27: =IFERROR(VLOOKUP(AD27,'PREUS BASE MÒDULS'!$C$14:$D$14,2,FALSE()),0) -> 0 | AH27: =IFERROR(VLOOKUP(AE27,'PREUS BASE MÒDULS'!$C$24:$D$24,2,FALSE())*AC27,0) -> 0 | AI27: =IFERROR((VLOOKUP(AF27,'PREUS BASE MÒDULS'!$C$27:$D$27,2,FALSE())*AC27),0)*2 -> 0 | AJ27: =IFERROR(+AG27+AH27+AI27,0) -> 0 | AM27: =ROUND((+AH27+AG27+Z27+Y27+Q27+P27+H27+R27),2) -> 240.61 | AN27: =ROUND((+AI27+AA27+S27+I27),5) -> 124.2 | AO27: =ROUND((+AN27+AM27),7) -> 364.81 | AP27: =AO27*1.21 -> 441.4201 | AR27: =IFERROR(AM27/AO27,"") -> 0.65954881 | AS27: =IFERROR(AN27/AO27,"") -> 0.34045119
B28: IGUALTAT | C28: SANT JOAN | H28: =IFERROR(VLOOKUP(F28,'PREUS BASE MÒDULS'!$C$5:$F$7,4,FALSE())*E28,0) -> 0 | I28: =IFERROR((VLOOKUP(G28,'PREUS BASE MÒDULS'!$C$27:$D$27,2,FALSE())*E28),0)*2 -> 0 | J28: =IFERROR(+H28+I28,0) -> 0 | P28: =IFERROR(VLOOKUP(L28,'PREUS BASE MÒDULS'!$C$8:$F$10,4,FALSE())*K28,0) -> 0 | Q28: =IFERROR(VLOOKUP(M28,'PREUS BASE MÒDULS'!$C$24:$D$24,2,FALSE())*K28,0) -> 0 | R28: =IFERROR(VLOOKUP(N28,'PREUS BASE MÒDULS'!$C$30:$F$30,4,FALSE()),0) -> 0 | S28: =IFERROR((VLOOKUP(O28,'PREUS BASE MÒDULS'!$C$27:$D$27,2,FALSE())*K28),0)*2 -> 0 | T28: =IFERROR(+P28+Q28+S28+R28,0) -> 0 | U28: 1 | V28: 2,35 X 4,10 | W28: NO | X28: ANADA I/O TORNADA | Y28: =IFERROR(VLOOKUP(V28,'PREUS BASE MÒDULS'!$C$11:$D$13,2,FALSE())*U28,0) -> 240.6096 | Z28: =IFERROR(VLOOKUP(W28,'PREUS BASE MÒDULS'!$C$24:$D$24,2,FALSE())*U28,0) -> 0 | AA28: =IFERROR((VLOOKUP(X28,'PREUS BASE MÒDULS'!$C$27:$D$27,2,FALSE())*U28),0)*2 -> 124.2 | AB28: =IFERROR(+Y28+Z28+AA28,0) -> 364.8096 | AG28: =IFERROR(VLOOKUP(AD28,'PREUS BASE MÒDULS'!$C$14:$D$14,2,FALSE()),0) -> 0 | AH28: =IFERROR(VLOOKUP(AE28,'PREUS BASE MÒDULS'!$C$24:$D$24,2,FALSE())*AC28,0) -> 0 | AI28: =IFERROR((VLOOKUP(AF28,'PREUS BASE MÒDULS'!$C$27:$D$27,2,FALSE())*AC28),0)*2 -> 0 | AJ28: =IFERROR(+AG28+AH28+AI28,0) -> 0 | AM28: =ROUND((+AH28+AG28+Z28+Y28+Q28+P28+H28+R28),2) -> 240.61 | AN28: =ROUND((+AI28+AA28+S28+I28),5) -> 124.2 | AO28: =ROUND((+AN28+AM28),7) -> 364.81 | AP28: =AO28*1.21 -> 441.4201 | AR28: =IFERROR(AM28/AO28,"") -> 0.65954881 | AS28: =IFERROR(AN28/AO28,"") -> 0.34045119
B29: IGUALTAT | C29: CASTANYADA | H29: =IFERROR(VLOOKUP(F29,'PREUS BASE MÒDULS'!$C$5:$F$7,4,FALSE())*E29,0) -> 0 | I29: =IFERROR((VLOOKUP(G29,'PREUS BASE MÒDULS'!$C$27:$D$27,2,FALSE())*E29),0)*2 -> 0 | J29: =IFERROR(+H29+I29,0) -> 0 | P29: =IFERROR(VLOOKUP(L29,'PREUS BASE MÒDULS'!$C$8:$F$10,4,FALSE())*K29,0) -> 0 | Q29: =IFERROR(VLOOKUP(M29,'PREUS BASE MÒDULS'!$C$24:$D$24,2,FALSE())*K29,0) -> 0 | R29: =IFERROR(VLOOKUP(N29,'PREUS BASE MÒDULS'!$C$30:$F$30,4,FALSE()),0) -> 0 | S29: =IFERROR((VLOOKUP(O29,'PREUS BASE MÒDULS'!$C$27:$D$27,2,FALSE())*K29),0)*2 -> 0 | T29: =IFERROR(+P29+Q29+S29+R29,0) -> 0 | U29: 1 | V29: 2,35 X 4,10 | W29: NO | X29: ANADA I/O TORNADA | Y29: =IFERROR(VLOOKUP(V29,'PREUS BASE MÒDULS'!$C$11:$D$13,2,FALSE())*U29,0) -> 240.6096 | Z29: =IFERROR(VLOOKUP(W29,'PREUS BASE MÒDULS'!$C$24:$D$24,2,FALSE())*U29,0) -> 0 | AA29: =IFERROR((VLOOKUP(X29,'PREUS BASE MÒDULS'!$C$27:$D$27,2,FALSE())*U29),0)*2 -> 124.2 | AB29: =IFERROR(+Y29+Z29+AA29,0) -> 364.8096 | AG29: =IFERROR(VLOOKUP(AD29,'PREUS BASE MÒDULS'!$C$14:$D$14,2,FALSE()),0) -> 0 | AH29: =IFERROR(VLOOKUP(AE29,'PREUS BASE MÒDULS'!$C$24:$D$24,2,FALSE())*AC29,0) -> 0 | AI29: =IFERROR((VLOOKUP(AF29,'PREUS BASE MÒDULS'!$C$27:$D$27,2,FALSE())*AC29),0)*2 -> 0 | AJ29: =IFERROR(+AG29+AH29+AI29,0) -> 0 | AM29: =ROUND((+AH29+AG29+Z29+Y29+Q29+P29+H29+R29),2) -> 240.61 | AN29: =ROUND((+AI29+AA29+S29+I29),5) -> 124.2 | AO29: =ROUND((+AN29+AM29),7) -> 364.81 | AP29: =AO29*1.21 -> 441.4201 | AR29: =IFERROR(AM29/AO29,"") -> 0.65954881 | AS29: =IFERROR(AN29/AO29,"") -> 0.34045119
B30: IGUALTAT | C30: SANTES ‘ PLAÇA STA ANNA | H30: =IFERROR(VLOOKUP(F30,'PREUS BASE MÒDULS'!$C$5:$F$7,4,FALSE())*E30,0) -> 0 | I30: =IFERROR((VLOOKUP(G30,'PREUS BASE MÒDULS'!$C$27:$D$27,2,FALSE())*E30),0)*2 -> 0 | J30: =IFERROR(+H30+I30,0) -> 0 | P30: =IFERROR(VLOOKUP(L30,'PREUS BASE MÒDULS'!$C$8:$F$10,4,FALSE())*K30,0) -> 0 | Q30: =IFERROR(VLOOKUP(M30,'PREUS BASE MÒDULS'!$C$24:$D$24,2,FALSE())*K30,0) -> 0 | R30: =IFERROR(VLOOKUP(N30,'PREUS BASE MÒDULS'!$C$30:$F$30,4,FALSE()),0) -> 0 | S30: =IFERROR((VLOOKUP(O30,'PREUS BASE MÒDULS'!$C$27:$D$27,2,FALSE())*K30),0)*2 -> 0 | T30: =IFERROR(+P30+Q30+S30+R30,0) -> 0 | U30: 1 | V30: 2,35 X 4,10 | W30: NO | X30: ANADA I/O TORNADA | Y30: =IFERROR(VLOOKUP(V30,'PREUS BASE MÒDULS'!$C$11:$D$13,2,FALSE())*U30,0) -> 240.6096 | Z30: =IFERROR(VLOOKUP(W30,'PREUS BASE MÒDULS'!$C$24:$D$24,2,FALSE())*U30,0) -> 0 | AA30: =IFERROR((VLOOKUP(X30,'PREUS BASE MÒDULS'!$C$27:$D$27,2,FALSE())*U30),0)*2 -> 124.2 | AB30: =IFERROR(+Y30+Z30+AA30,0) -> 364.8096 | AG30: =IFERROR(VLOOKUP(AD30,'PREUS BASE MÒDULS'!$C$14:$D$14,2,FALSE()),0) -> 0 | AH30: =IFERROR(VLOOKUP(AE30,'PREUS BASE MÒDULS'!$C$24:$D$24,2,FALSE())*AC30,0) -> 0 | AI30: =IFERROR((VLOOKUP(AF30,'PREUS BASE MÒDULS'!$C$27:$D$27,2,FALSE())*AC30),0)*2 -> 0 | AJ30: =IFERROR(+AG30+AH30+AI30,0) -> 0 | AM30: =ROUND((+AH30+AG30+Z30+Y30+Q30+P30+H30+R30),2) -> 240.61 | AN30: =ROUND((+AI30+AA30+S30+I30),5) -> 124.2 | AO30: =ROUND((+AN30+AM30),7) -> 364.81 | AP30: =AO30*1.21 -> 441.4201 | AR30: =IFERROR(AM30/AO30,"") -> 0.65954881 | AS30: =IFERROR(AN30/AO30,"") -> 0.34045119
B31: IGUALTAT | C31: SANTES CNM PASSEIG MARITIM | H31: =IFERROR(VLOOKUP(F31,'PREUS BASE MÒDULS'!$C$5:$F$7,4,FALSE())*E31,0) -> 0 | I31: =IFERROR((VLOOKUP(G31,'PREUS BASE MÒDULS'!$C$27:$D$27,2,FALSE())*E31),0)*2 -> 0 | J31: =IFERROR(+H31+I31,0) -> 0 | P31: =IFERROR(VLOOKUP(L31,'PREUS BASE MÒDULS'!$C$8:$F$10,4,FALSE())*K31,0) -> 0 | Q31: =IFERROR(VLOOKUP(M31,'PREUS BASE MÒDULS'!$C$24:$D$24,2,FALSE())*K31,0) -> 0 | R31: =IFERROR(VLOOKUP(N31,'PREUS BASE MÒDULS'!$C$30:$F$30,4,FALSE()),0) -> 0 | S31: =IFERROR((VLOOKUP(O31,'PREUS BASE MÒDULS'!$C$27:$D$27,2,FALSE())*K31),0)*2 -> 0 | T31: =IFERROR(+P31+Q31+S31+R31,0) -> 0 | U31: 1 | V31: 2,35 X 4,10 | W31: NO | X31: ANADA I/O TORNADA | Y31: =IFERROR(VLOOKUP(V31,'PREUS BASE MÒDULS'!$C$11:$D$13,2,FALSE())*U31,0) -> 240.6096 | Z31: =IFERROR(VLOOKUP(W31,'PREUS BASE MÒDULS'!$C$24:$D$24,2,FALSE())*U31,0) -> 0 | AA31: =IFERROR((VLOOKUP(X31,'PREUS BASE MÒDULS'!$C$27:$D$27,2,FALSE())*U31),0)*2 -> 124.2 | AB31: =IFERROR(+Y31+Z31+AA31,0) -> 364.8096 | AG31: =IFERROR(VLOOKUP(AD31,'PREUS BASE MÒDULS'!$C$14:$D$14,2,FALSE()),0) -> 0 | AH31: =IFERROR(VLOOKUP(AE31,'PREUS BASE MÒDULS'!$C$24:$D$24,2,FALSE())*AC31,0) -> 0 | AI31: =IFERROR((VLOOKUP(AF31,'PREUS BASE MÒDULS'!$C$27:$D$27,2,FALSE())*AC31),0)*2 -> 0 | AJ31: =IFERROR(+AG31+AH31+AI31,0) -> 0 | AM31: =ROUND((+AH31+AG31+Z31+Y31+Q31+P31+H31+R31),2) -> 240.61 | AN31: =ROUND((+AI31+AA31+S31+I31),5) -> 124.2 | AO31: =ROUND((+AN31+AM31),7) -> 364.81 | AP31: =AO31*1.21 -> 441.4201 | AR31: =IFERROR(AM31/AO31,"") -> 0.65954881 | AS31: =IFERROR(AN31/AO31,"") -> 0.34045119
B32: IGUALTAT | C32: SANTES PARC VELL | H32: =IFERROR(VLOOKUP(F32,'PREUS BASE MÒDULS'!$C$5:$F$7,4,FALSE())*E32,0) -> 0 | I32: =IFERROR((VLOOKUP(G32,'PREUS BASE MÒDULS'!$C$27:$D$27,2,FALSE())*E32),0)*2 -> 0 | J32: =IFERROR(+H32+I32,0) -> 0 | P32: =IFERROR(VLOOKUP(L32,'PREUS BASE MÒDULS'!$C$8:$F$10,4,FALSE())*K32,0) -> 0 | Q32: =IFERROR(VLOOKUP(M32,'PREUS BASE MÒDULS'!$C$24:$D$24,2,FALSE())*K32,0) -> 0 | R32: =IFERROR(VLOOKUP(N32,'PREUS BASE MÒDULS'!$C$30:$F$30,4,FALSE()),0) -> 0 | S32: =IFERROR((VLOOKUP(O32,'PREUS BASE MÒDULS'!$C$27:$D$27,2,FALSE())*K32),0)*2 -> 0 | T32: =IFERROR(+P32+Q32+S32+R32,0) -> 0 | U32: 1 | V32: 2,35 X 4,10 | W32: NO | X32: ANADA I/O TORNADA | Y32: =IFERROR(VLOOKUP(V32,'PREUS BASE MÒDULS'!$C$11:$D$13,2,FALSE())*U32,0) -> 240.6096 | Z32: =IFERROR(VLOOKUP(W32,'PREUS BASE MÒDULS'!$C$24:$D$24,2,FALSE())*U32,0) -> 0 | AA32: =IFERROR((VLOOKUP(X32,'PREUS BASE MÒDULS'!$C$27:$D$27,2,FALSE())*U32),0)*2 -> 124.2 | AB32: =IFERROR(+Y32+Z32+AA32,0) -> 364.8096 | AG32: =IFERROR(VLOOKUP(AD32,'PREUS BASE MÒDULS'!$C$14:$D$14,2,FALSE()),0) -> 0 | AH32: =IFERROR(VLOOKUP(AE32,'PREUS BASE MÒDULS'!$C$24:$D$24,2,FALSE())*AC32,0) -> 0 | AI32: =IFERROR((VLOOKUP(AF32,'PREUS BASE MÒDULS'!$C$27:$D$27,2,FALSE())*AC32),0)*2 -> 0 | AJ32: =IFERROR(+AG32+AH32+AI32,0) -> 0 | AM32: =ROUND((+AH32+AG32+Z32+Y32+Q32+P32+H32+R32),2) -> 240.61 | AN32: =ROUND((+AI32+AA32+S32+I32),5) -> 124.2 | AO32: =ROUND((+AN32+AM32),7) -> 364.81 | AP32: =AO32*1.21 -> 441.4201 | AR32: =IFERROR(AM32/AO32,"") -> 0.65954881 | AS32: =IFERROR(AN32/AO32,"") -> 0.34045119
B33: IGUALTAT | C33: SANTES ROCAFONDA | H33: =IFERROR(VLOOKUP(F33,'PREUS BASE MÒDULS'!$C$5:$F$7,4,FALSE())*E33,0) -> 0 | I33: =IFERROR((VLOOKUP(G33,'PREUS BASE MÒDULS'!$C$27:$D$27,2,FALSE())*E33),0)*2 -> 0 | J33: =IFERROR(+H33+I33,0) -> 0 | P33: =IFERROR(VLOOKUP(L33,'PREUS BASE MÒDULS'!$C$8:$F$10,4,FALSE())*K33,0) -> 0 | Q33: =IFERROR(VLOOKUP(M33,'PREUS BASE MÒDULS'!$C$24:$D$24,2,FALSE())*K33,0) -> 0 | R33: =IFERROR(VLOOKUP(N33,'PREUS BASE MÒDULS'!$C$30:$F$30,4,FALSE()),0) -> 0 | S33: =IFERROR((VLOOKUP(O33,'PREUS BASE MÒDULS'!$C$27:$D$27,2,FALSE())*K33),0)*2 -> 0 | T33: =IFERROR(+P33+Q33+S33+R33,0) -> 0 | U33: 1 | V33: 2,35 X 4,10 | W33: NO | X33: ANADA I/O TORNADA | Y33: =IFERROR(VLOOKUP(V33,'PREUS BASE MÒDULS'!$C$11:$D$13,2,FALSE())*U33,0) -> 240.6096 | Z33: =IFERROR(VLOOKUP(W33,'PREUS BASE MÒDULS'!$C$24:$D$24,2,FALSE())*U33,0) -> 0 | AA33: =IFERROR((VLOOKUP(X33,'PREUS BASE MÒDULS'!$C$27:$D$27,2,FALSE())*U33),0)*2 -> 124.2 | AB33: =IFERROR(+Y33+Z33+AA33,0) -> 364.8096 | AG33: =IFERROR(VLOOKUP(AD33,'PREUS BASE MÒDULS'!$C$14:$D$14,2,FALSE()),0) -> 0 | AH33: =IFERROR(VLOOKUP(AE33,'PREUS BASE MÒDULS'!$C$24:$D$24,2,FALSE())*AC33,0) -> 0 | AI33: =IFERROR((VLOOKUP(AF33,'PREUS BASE MÒDULS'!$C$27:$D$27,2,FALSE())*AC33),0)*2 -> 0 | AJ33: =IFERROR(+AG33+AH33+AI33,0) -> 0 | AM33: =ROUND((+AH33+AG33+Z33+Y33+Q33+P33+H33+R33),2) -> 240.61 | AN33: =ROUND((+AI33+AA33+S33+I33),5) -> 124.2 | AO33: =ROUND((+AN33+AM33),7) -> 364.81 | AP33: =AO33*1.21 -> 441.4201 | AR33: =IFERROR(AM33/AO33,"") -> 0.65954881 | AS33: =IFERROR(AN33/AO33,"") -> 0.34045119
B34: IGUALTAT | C34: SANTES PLA D´EN BOET | H34: =IFERROR(VLOOKUP(F34,'PREUS BASE MÒDULS'!$C$5:$F$7,4,FALSE())*E34,0) -> 0 | I34: =IFERROR((VLOOKUP(G34,'PREUS BASE MÒDULS'!$C$27:$D$27,2,FALSE())*E34),0)*2 -> 0 | J34: =IFERROR(+H34+I34,0) -> 0 | P34: =IFERROR(VLOOKUP(L34,'PREUS BASE MÒDULS'!$C$8:$F$10,4,FALSE())*K34,0) -> 0 | Q34: =IFERROR(VLOOKUP(M34,'PREUS BASE MÒDULS'!$C$24:$D$24,2,FALSE())*K34,0) -> 0 | R34: =IFERROR(VLOOKUP(N34,'PREUS BASE MÒDULS'!$C$30:$F$30,4,FALSE()),0) -> 0 | S34: =IFERROR((VLOOKUP(O34,'PREUS BASE MÒDULS'!$C$27:$D$27,2,FALSE())*K34),0)*2 -> 0 | T34: =IFERROR(+P34+Q34+S34+R34,0) -> 0 | U34: 1 | V34: 2,35 X 4,10 | W34: NO | X34: ANADA I/O TORNADA | Y34: =IFERROR(VLOOKUP(V34,'PREUS BASE MÒDULS'!$C$11:$D$13,2,FALSE())*U34,0) -> 240.6096 | Z34: =IFERROR(VLOOKUP(W34,'PREUS BASE MÒDULS'!$C$24:$D$24,2,FALSE())*U34,0) -> 0 | AA34: =IFERROR((VLOOKUP(X34,'PREUS BASE MÒDULS'!$C$27:$D$27,2,FALSE())*U34),0)*2 -> 124.2 | AB34: =IFERROR(+Y34+Z34+AA34,0) -> 364.8096 | AG34: =IFERROR(VLOOKUP(AD34,'PREUS BASE MÒDULS'!$C$14:$D$14,2,FALSE()),0) -> 0 | AH34: =IFERROR(VLOOKUP(AE34,'PREUS BASE MÒDULS'!$C$24:$D$24,2,FALSE())*AC34,0) -> 0 | AI34: =IFERROR((VLOOKUP(AF34,'PREUS BASE MÒDULS'!$C$27:$D$27,2,FALSE())*AC34),0)*2 -> 0 | AJ34: =IFERROR(+AG34+AH34+AI34,0) -> 0 | AM34: =ROUND((+AH34+AG34+Z34+Y34+Q34+P34+H34+R34),2) -> 240.61 | AN34: =ROUND((+AI34+AA34+S34+I34),5) -> 124.2 | AO34: =ROUND((+AN34+AM34),7) -> 364.81 | AP34: =AO34*1.21 -> 441.4201 | AR34: =IFERROR(AM34/AO34,"") -> 0.65954881 | AS34: =IFERROR(AN34/AO34,"") -> 0.34045119
B35: PROMOCIÓ CIUTAT | C35: FIRA D´ATRACCIONS 18 dies | H35: =IFERROR(VLOOKUP(F35,'PREUS BASE MÒDULS'!$C$5:$F$7,4,FALSE())*E35,0) -> 0 | I35: =IFERROR((VLOOKUP(G35,'PREUS BASE MÒDULS'!$C$27:$D$27,2,FALSE())*E35),0)*2 -> 0 | J35: =IFERROR(+H35+I35,0) -> 0 | K35: 1 | L35: 2,44 x 6,00 | M35: SI | N35: NO | O35: ANADA I/O TORNADA | P35: =IFERROR(VLOOKUP(L35,'PREUS BASE MÒDULS'!$C$20:$D$21,2,FALSE())*K35,0) -> 104.1 | Q35: =IFERROR(VLOOKUP(M35,'PREUS BASE MÒDULS'!$C$24:$D$24,2,FALSE())*K35,0) -> 20.16 | R35: =IFERROR(VLOOKUP(N35,'PREUS BASE MÒDULS'!$C$30:$F$30,4,FALSE()),0) -> 0 | S35: =IFERROR((VLOOKUP(O35,'PREUS BASE MÒDULS'!$C$27:$D$27,2,FALSE())*K35),0)*2 -> 124.2 | T35: =IFERROR(+P35+Q35+S35+R35,0) -> 248.46 | Y35: =IFERROR(VLOOKUP(V35,'PREUS BASE MÒDULS'!$C$11:$D$13,2,FALSE())*U35,0) -> 0 | Z35: =IFERROR(VLOOKUP(W35,'PREUS BASE MÒDULS'!$C$24:$D$24,2,FALSE())*U35,0) -> 0 | AA35: =IFERROR((VLOOKUP(X35,'PREUS BASE MÒDULS'!$C$27:$D$27,2,FALSE())*U35),0)*2 -> 0 | AB35: =IFERROR(+Y35+Z35+AA35,0) -> 0 | AG35: =IFERROR(VLOOKUP(AD35,'PREUS BASE MÒDULS'!$C$14:$D$14,2,FALSE()),0) -> 0 | AH35: =IFERROR(VLOOKUP(AE35,'PREUS BASE MÒDULS'!$C$24:$D$24,2,FALSE())*AC35,0) -> 0 | AI35: =IFERROR((VLOOKUP(AF35,'PREUS BASE MÒDULS'!$C$27:$D$27,2,FALSE())*AC35),0)*2 -> 0 | AJ35: =IFERROR(+AG35+AH35+AI35,0) -> 0 | AM35: =ROUND((+AH35+AG35+Z35+Y35+Q35+P35+H35+R35),2) -> 124.26 | AN35: =ROUND((+AI35+AA35+S35+I35),5) -> 124.2 | AO35: =ROUND((+AN35+AM35),7) -> 248.46 | AP35: =AO35*1.21 -> 300.6366 | AR35: =IFERROR(AM35/AO35,"") -> 0.50012074 | AS35: =IFERROR(AN35/AO35,"") -> 0.49987926
H36: =IFERROR(VLOOKUP(F36,'PREUS BASE MÒDULS'!$C$5:$F$7,4,FALSE())*E36,0) -> 0 | I36: =IFERROR((VLOOKUP(G36,'PREUS BASE MÒDULS'!$C$27:$D$27,2,FALSE())*E36),0)*2 -> 0 | J36: =IFERROR(+H36+I36,0) -> 0 | P36: =IFERROR(VLOOKUP(L36,'PREUS BASE MÒDULS'!$C$8:$F$10,4,FALSE())*K36,0) -> 0 | Q36: =IFERROR(VLOOKUP(M36,'PREUS BASE MÒDULS'!$C$24:$D$24,2,FALSE())*K36,0) -> 0 | R36: =IFERROR(VLOOKUP(N36,'PREUS BASE MÒDULS'!$C$30:$F$30,4,FALSE()),0) -> 0 | S36: =IFERROR((VLOOKUP(O36,'PREUS BASE MÒDULS'!$C$27:$D$27,2,FALSE())*K36),0)*2 -> 0 | T36: =IFERROR(+P36+Q36+S36+R36,0) -> 0 | Y36: =IFERROR(VLOOKUP(V36,'PREUS BASE MÒDULS'!$C$11:$D$13,2,FALSE())*U36,0) -> 0 | Z36: =IFERROR(VLOOKUP(W36,'PREUS BASE MÒDULS'!$C$24:$D$24,2,FALSE())*U36,0) -> 0 | AA36: =IFERROR((VLOOKUP(X36,'PREUS BASE MÒDULS'!$C$27:$D$27,2,FALSE())*U36),0)*2 -> 0 | AB36: =IFERROR(+Y36+Z36+AA36,0) -> 0 | AG36: =IFERROR(VLOOKUP(AD36,'PREUS BASE MÒDULS'!$C$14:$D$14,2,FALSE()),0) -> 0 | AH36: =IFERROR(VLOOKUP(AE36,'PREUS BASE MÒDULS'!$C$24:$D$24,2,FALSE())*AC36,0) -> 0 | AI36: =IFERROR((VLOOKUP(AF36,'PREUS BASE MÒDULS'!$C$27:$D$27,2,FALSE())*AC36),0)*2 -> 0 | AJ36: =IFERROR(+AG36+AH36+AI36,0) -> 0 | AM36: =ROUND((+AH36+AG36+Z36+Y36+Q36+P36+H36+R36),2) -> 0 | AN36: =ROUND((+AI36+AA36+S36+I36),5) -> 0 | AO36: =ROUND((+AN36+AM36),7) -> 0 | AP36: =AO36*1.21 -> 0 | AR36: =IFERROR(AM36/AO36,"") | AS36: =IFERROR(AN36/AO36,"")
E37: =SUM(E5:E36) -> 18 | H37: =SUM(H5:H36) -> 5354.8244 | I37: =SUM(I5:I36) -> 2049.3 | J37: =SUM(J5:J36) -> 7404.1244 | K37: =SUM(K5:K36) -> 32 | P37: =SUM(P5:P36) -> 5005.772 | Q37: =SUM(Q5:Q36) -> 624.96 | R37: =SUM(R5:R36) -> 504 | S37: =SUM(S5:S36) -> 3974.4 | T37: =SUM(T5:T36) -> 10109.132 | U37: =SUM(U5:U36) -> 11 | Y37: =SUM(Y5:Y36) -> 2684.1024 | Z37: =SUM(Z5:Z36) -> 20.16 | AA37: =SUM(AA5:AA36) -> 1242 | AB37: =SUM(AB5:AB36) -> 3946.2624 | AC37: =SUM(AC5:AC36) -> 1 | AG37: =SUM(AG5:AG36) -> 352.8 | AH37: =SUM(AH5:AH36) -> 0 | AI37: =SUM(AI5:AI36) -> 0 | AJ37: =SUM(AJ5:AJ36) -> 352.8 | AM37: =SUM(AM5:AM36) -> 14546.612 | AN37: =SUM(AN5:AN36) -> 7265.7 | AO37: =SUM(AO5:AO36)+0.01 -> 21812.322 | AP37: =AO37*1.21 -> 26392.91

Sheet PREUS BASE TANQUES
B3: TIPOLOGIA | E3: IMPORT S/ IVA | G3: TOTAL AMB IVA 21% | K3: METRES | L3: DIES | M3: UNITATS | N3: TOTAL S/IVA | O3: TOTAL
B5: TANCA SENSE MUNTATGE | C5: TANCA BAIXA METÀL·LICA 2 m ample | D5: Tanca metàl·lica 2 m. llarg servei 10 dies | E5: 0.95 | G5: =ROUND(+1.21*E5,2) -> 1.15 | H5: unitat/dia | K5: 120 | L5: 10 | M5: =K5/2 -> 60 | N5: =M5*L5*E5 -> 570 | O5: =N5*1.21 -> 689.7
D6: Tanca metàl·lica 2 m. llarg servei 5 dies | E6: 0.95 | G6: =ROUND(+1.21*E6,2) -> 1.15 | H6: unitat/dia | K6: 60 | L6: 5 | M6: =K6/2 -> 30 | N6: =M6*L6*E6 -> 142.5 | O6: =N6*1.21-0.01 -> 172.415
D7: Tanca metàl·lica 2 m. llarg servei 3 dies | E7: 0.95 | G7: =ROUND(+1.21*E7,2) -> 1.15 | H7: unitat/dia | K7: 750 | L7: 3 | M7: =K7/2 -> 375 | N7: =M7*L7*E7 -> 1068.75 | O7: =N7*1.21 -> 1293.1875
D8: Tanca metàl·lica 2 m. llarg servei 2 dies | E8: 0.95 | G8: =ROUND(+1.21*E8,2) -> 1.15 | H8: unitat/dia | K8: 1050 | L8: 2 | M8: =K8/2 -> 525 | N8: =M8*L8*E8 -> 997.5 | O8: =N8*1.21 -> 1206.975
D9: Tanca metàl·lica 2 m. llarg servei 1 dies | E9: 0.95 | G9: =ROUND(+1.21*E9,2) -> 1.15 | H9: unitat/dia | K9: 250 | L9: 1 | M9: =K9/2 -> 125 | N9: =M9*L9*E9 -> 118.75 | O9: =N9*1.21 -> 143.6875
C10: TANCA BAIXA POLIETILÈ 2 m ample | E10: 0.95 | G10: =ROUND(+1.21*E10,2) -> 1.15 | H10: unitat/dia | K10: 100 | L10: 6 | M10: =K10/2 -> 50 | N10: =M10*L10*E10 -> 285 | O10: =N10*1.21 -> 344.85
C11: TANCA ALTA METÀL·LICA 3 m ample | E11: 0.35 | G11: =ROUND(+1.21*E11,2) -> 0.42 | H11: unitat/dia | K11: 6 | L11: 10 | M11: =K11/3 -> 2 | N11: =M11*L11*E11 -> 7 | O11: =N11*1.21 -> 8.47
C12: Tanca ALTA METÀL·LICA 1,80 m ample TIPUS ZAMORANA | E12: 1.06 | G12: =ROUND(+1.21*E12,2) -> 1.28 | H12: unitat/dia | K12: 1.8 | L12: 1 | M12: 1 | N12: =M12*L12*E12 -> 1.06 | O12: =N12*1.21 -> 1.2826
N13: =SUM(N5:N12) -> 3190.56 | O13: =N13*1.21 -> 3860.5776
B15: TANCA AMB MUNTATGE | C15: TANCA ALTA METÀL·LICA 3 m ample | E15: 5.55 | G15: =ROUND(+1.21*E15,2) -> 6.72 | H15: metre linial | K15: 1790 | N15: =K15*E15 -> 9934.5 | O15: =N15*1.21 -> 12020.745
C16: TANCA ALTA METÀL·LICA AMB RÀFIA 3 m ample | E16: 8.4 | G16: =ROUND(+1.21*E16,2) -> 10.16 | H16: metre linial | K16: 355 | N16: =K16*E16 -> 2982 | O16: =N16*1.21 -> 3608.22
C17: TANCA METÀL·LICA 1,80 m ample TIPUS ZAMORANA | E17: 5.55 | G17: =ROUND(+1.21*E17,2) -> 6.72 | H17: metre linial | K17: 1 | N17: =K17*E17 -> 5.55 | O17: =N17*1.21 -> 6.7155
C18: TANCA METÀL·LICA ANTIAVALOT 1,08 m ample | E18: 12 | G18: =ROUND(+1.21*E18,2) -> 14.52 | H18: metre linial | K18: 32 | N18: =K18*E18 -> 384 | O18: =N18*1.21 -> 464.64
N19: =SUM(N15:N18) -> 13306.05 | O19: =SUM(O15:O18) -> 16100.32
C21: TRANSPORT | D21: ANADA | E21: 62.1 | G21: =ROUND(+1.21*E21,2) -> 75.14 | M21: 0 | N21: =M21*E21 -> 0 | O21: =N21*1.21 -> 0
D22: TORNADA | E22: 62.1 | G22: =ROUND(+1.21*E22,2) -> 75.14 | M22: 0 | N22: =M22*E22 -> 0 | O22: =N22*1.21 -> 0
D23: ANADA I TORNADA | E23: 62.1 | G23: =ROUND(+1.21*E23,2) -> 75.14 | M23: 66 | N23: =M23*E23 -> 4098.6 | O23: =N23*1.21 -> 4959.306
N24: =SUM(N21:N23) -> 4098.6 | O24: =SUM(O21:O23) -> 4959.306
M26: TOTAL | N26: =N13+N19+N24 -> 20595.21 | O26: =O13+O19+O24 -> 24920.204

Sheet ANNEX ACTIVITAT TANQUES
B2: DADES DE L'ACTIVITAT | E2: TANCA SENSE MUNTATGE | Q2: TANCA AMB MUNTATGE
B3: SERVEI | C3: ACTIVITAT | E3: METRES | F3: DIES | G3: UNITATS | I3: MODEL | J3: TRANSPORT | K3: LLOGUER | M3: TRANSPORT | P3: € | Q3: METRES | R3: DIES | S3: UNITATS | U3: MODEL | V3: TRANSPORT | W3: LLOGUER | Y3: VIATGES | AB3: € | AD3: TOTAL S/ IVA | AE3: TOTAL IVA
G4: AMPLADA | H4: TOTAL | K4: €/U | L4: TOTAL | M4: CAPACITAT | N4: VIATGES | O4: TOTAL | S4: AMPLADA | T4: TOTAL | W4: € m/l | X4: TOTAL | Y4: CAPACITAT | Z4: VIATGES | AA4: TRANSPORT
B5: CULTURA | C5: REIS - CAVALCADA DE REIS | E5: 300 | F5: 3 | G5: 2 | H5: =IFERROR(ROUNDUP(E5/G5,0),"") -> 150 | I5: TANCA BAIXA METÀL·LICA 2 m ample | J5: ANADA I TORNADA | K5: =IFERROR(VLOOKUP(I5,'PREUS BASE TANQUES'!$C$5:$E$12,3,FALSE()),"") -> 0.95 | L5: =IFERROR(K5*H5*F5,0) -> 427.5 | M5: 100 | N5: =IFERROR(ROUNDUP(H5/M5,0),"")*2 -> 4 | O5: =IFERROR(VLOOKUP(J5,'PREUS BASE TANQUES'!$D$21:$E$23,2,FALSE())*N5,0) -> 248.4 | P5: =IFERROR(+L5+O5,0) -> 675.9 | T5: =IFERROR(ROUNDUP(Q5/S5,0),"") | W5: =IFERROR(VLOOKUP(U5,'[2]PREUS BASE'!$D$10:$K$13,4,FALSE()),"") | X5: =IFERROR(W5*Q5,0) -> 0 | Y5: =IFERROR(VLOOKUP(U5,'[2]PREUS BASE'!$D$10:$K$13,7,FALSE()),"") | Z5: =IFERROR(ROUNDUP(T5/Y5,0),"") | AA5: =IFERROR(VLOOKUP(V5,'PREUS BASE TANQUES'!$D$21:$E$23,2,FALSE())*Z5,0) -> 0 | AB5: =IFERROR(+X5+AA5,0) -> 0 | AD5: =+AB5+P5 -> 675.9 | AE5: =AD5*1.21 -> 817.839
B6: CULTURA | C6: CARNESTOLTES - PARC CENTRAL | E6: 150 | F6: 3 | G6: 2 | H6: =IFERROR(ROUNDUP(E6/G6,0),"") -> 75 | I6: TANCA BAIXA METÀL·LICA 2 m ample | J6: ANADA I TORNADA | K6: =IFERROR(VLOOKUP(I6,'PREUS BASE TANQUES'!$C$5:$E$12,3,FALSE()),"") -> 0.95 | L6: =IFERROR(K6*H6*F6,0) -> 213.75 | M6: 100 | N6: =IFERROR(ROUNDUP(H6/M6,0),"")*2 -> 2 | O6: =IFERROR(VLOOKUP(J6,'PREUS BASE TANQUES'!$D$21:$E$23,2,FALSE())*N6,0) -> 124.2 | P6: =IFERROR(+L6+O6,0) -> 337.95 | Q6: 100 | R6: 3 | S6: 3 | T6: =IFERROR(ROUNDUP(Q6/S6,0),"") -> 34 | U6: TANCA ALTA METÀL·LICA AMB RÀFIA 3 m ample | V6: ANADA I TORNADA | W6: =IFERROR(VLOOKUP(U6,'PREUS BASE TANQUES'!$C$15:$E$18,3,FALSE()),"") -> 8.4 | X6: =IFERROR(W6*Q6,0) -> 840 | Y6: 100 | Z6: =IFERROR(ROUNDUP(T6/Y6,0),"")*2 -> 2 | AA6: =IFERROR(VLOOKUP(V6,'PREUS BASE TANQUES'!$D$21:$E$23,2,FALSE())*Z6,0) -> 124.2 | AB6: =IFERROR(+X6+AA6,0) -> 964.2 | AD6: =+AB6+P6 -> 1302.15 | AE6: =AD6*1.21 -> 1575.6015
